
BEGIN:VCALENDAR
VERSION:2.0
PRODID:-//Family Life Radio - ECPv6.15.20//NONSGML v1.0//EN
CALSCALE:GREGORIAN
METHOD:PUBLISH
X-WR-CALNAME:Family Life Radio
X-ORIGINAL-URL:https://myflr.org
X-WR-CALDESC:Events for Family Life Radio
REFRESH-INTERVAL;VALUE=DURATION:PT1H
X-Robots-Tag:noindex
X-PUBLISHED-TTL:PT1H
BEGIN:VTIMEZONE
TZID:America/Phoenix
BEGIN:STANDARD
TZOFFSETFROM:-0700
TZOFFSETTO:-0700
TZNAME:MST
DTSTART:20250101T000000
END:STANDARD
END:VTIMEZONE
BEGIN:VEVENT
DTSTART;TZID=America/Phoenix:20260426T100000
DTEND;TZID=America/Phoenix:20260426T103000
DTSTAMP:20260421T024457
CREATED:20260414T183819Z
LAST-MODIFIED:20260414T183819Z
UID:10060221-1777197600-1777199400@myflr.org
SUMMARY:Giant Tortoise Behind-the-Scenes Experience
DESCRIPTION:Education staff invite you on this special behind the scenes tour to learn about the unique adaptations of some of the largest types of tortoises. Learn about how we care for our largest tortoises at the Zoo and how our everyday actions can help protect tortoises in the wild. This experience provides an opportunity to see the tortoises closer than during a regular visit\, and may even allow the chance to watch a feeding or help with training.
URL:https://myflr.org/event/giant-tortoise-behind-the-scenes-experience/
LOCATION:Reid Park Zoo (Tucson\, AZ)\, 3400 Zoo Court\, Tucson\, AZ\, 85716\, United States
CATEGORIES:Arizona
ATTACH;FMTTYPE=image/jpeg:https://eadn-wc05-15902914.nxedge.io/wp-content/uploads/2026/04/Aldabra-Tortoise-Georgie-Dulcee-Galapagos-Isabella-Eating-scaled.jpg
ORGANIZER;CN="Reid Park Zoo":MAILTO:info@reidparkzoo.org
END:VEVENT
BEGIN:VEVENT
DTSTART;TZID=America/Phoenix:20260426T190000
DTEND;TZID=America/Phoenix:20260426T220000
DTSTAMP:20260421T024457
CREATED:20250618T150022Z
LAST-MODIFIED:20250618T171235Z
UID:10046193-1777230000-1777240800@myflr.org
SUMMARY:THIRD DAY 30TH ANNIVERSARY TOUR w/ ZACH WILLIAMS
DESCRIPTION:SUN APR 26\, 2026   7:00pm @ Desert Diamond Arena \nOne Band. One Tour. One Last Time. \n\nFor the first time in years\, Third Day is reuniting to celebrate 30 years of music\, memories\, and moments that shaped Christian music. Whether you saw them live or wore out their CDs\, this is the show you’ve been waiting for! A one-time-only tour to experience it all again\, one unforgettable night! Don’t miss your moment — grab your seat today! \nTickets and info @ https://bit.ly/45UNgTW
URL:https://myflr.org/event/third-day-30th-anniversary-tour-with-special-guest-zach-williams/
LOCATION:Desert Diamond Arena\, 9400 W Maryland Ave\, Glendale\, AZ\, 85305\, United States
CATEGORIES:Arizona,Featured
ATTACH;FMTTYPE=image/jpeg:https://eadn-wc05-15902914.nxedge.io/wp-content/uploads/2025/06/ThirdDay_SP26_1080x1080_042626_generic.jpg
ORGANIZER;CN="Awakening Events":MAILTO:https://www.awakeningevents.com/email
END:VEVENT
BEGIN:VEVENT
DTSTART;TZID=America/Phoenix:20260428T180000
DTEND;TZID=America/Phoenix:20260428T193000
DTSTAMP:20260421T024457
CREATED:20260311T164310Z
LAST-MODIFIED:20260311T164310Z
UID:10059506-1777399200-1777404600@myflr.org
SUMMARY:Griefshare at Sandia Baptist Church
DESCRIPTION:GriefShare at Sandia Baptist Church invites anyone walking through the pain of loss to a Christ‑centered\, biblically grounded support group where comfort\, understanding\, and healing can begin to take root. \nBeginning March 17\, 2026\, the group will meet every other Tuesday from 6:00–7:30 pm\, offering a safe place to experience Jesus’ compassion\, connect with others who understand\, and know that you are deeply supported. There is a one‑time $20 registration fee for the participant workbook\, and all are welcome to join this caring community of hope.
URL:https://myflr.org/event/griefshare-at-sandia-baptist-church/2026-04-28/
LOCATION:Sandario Baptist Church\, 6971 North Sandario Road\, Tucson\, AZ\, 85743\, United States
CATEGORIES:Arizona
ATTACH;FMTTYPE=image/jpeg:https://eadn-wc05-15902914.nxedge.io/wp-content/uploads/2026/03/Grief-share-Griefs.jpg
ORGANIZER;CN="Sandia Baptist Church":MAILTO:berezalcsw@gmail.com
END:VEVENT
BEGIN:VEVENT
DTSTART;TZID=America/Phoenix:20260501T190000
DTEND;TZID=America/Phoenix:20260502T123000
DTSTAMP:20260421T024457
CREATED:20260416T190347Z
LAST-MODIFIED:20260416T190347Z
UID:10060297-1777662000-1777725000@myflr.org
SUMMARY:"Journey To Us" Focus On The Family 2-Day Marriage Event
DESCRIPTION:Join us for this 2-Day marriage event for couples (and interested singles)\, in beautiful Fountain Hills\, Arizona! This conference is designed to help couples find their way back to a marriage that feels like the safest place on earth. The Focus on The Family guest speakers\, Chris and Alisa Grace (from Biola University\, Center for Marriage & Relationships)\, will be equipping you with Bible-based tools to keep your marriage on track. You don’t want to miss it! \nCouples will leave with practical tips and action steps to use right away. \nDay 1: 7-9pm  \nDay 2: 9am-12:30pm \nLight refreshments are included. If you are joining from out of town\, be sure to check with us for hotel discounts. 
URL:https://myflr.org/event/journey-to-us-focus-on-the-family-2-day-marriage-event/
LOCATION:Christ Church Of Fountain Hills\, 15555 Bain Bridge Ave\, Fountain Hills\, AZ\, 85268\, United States
CATEGORIES:Arizona
ATTACH;FMTTYPE=image/jpeg:https://eadn-wc05-15902914.nxedge.io/wp-content/uploads/2026/04/Journey-to-us.jpg
ORGANIZER;CN="Focus on the Family":MAILTO:help@focusonthefamily.com
END:VEVENT
BEGIN:VEVENT
DTSTART;TZID=America/Phoenix:20260502T160000
DTEND;TZID=America/Phoenix:20260502T200000
DTSTAMP:20260421T024457
CREATED:20260326T171827Z
LAST-MODIFIED:20260326T171827Z
UID:10060044-1777737600-1777752000@myflr.org
SUMMARY:15th Annual Community Festival of Service + Glow Run
DESCRIPTION:The Erik Hite Foundation Community Festival of Service is a one-of-a-kind evening bringing our community together to honor service\, sacrifice\, and connection. An unforgettable celebration featuring a FREE Community Festival and a neon themed Fallen Heroes Memorial on a USATF Certified Course 5K & 2-Mile Walk. \nCome enjoy a glow-filled night with a Luminaria Ceremony\, public safety and military vehicles\, live music\, family activities\, community partners\, and more — no running or walking required. \nRun or walk in honor Or simply come celebrate community. \nFor 15 years\, this event has brought together families\, runners\, and local heroes in support of public safety employees\, active military personnel\, and their families. \nJoin us as we glow for our heroes — together.
URL:https://myflr.org/event/15th-annual-community-festival-of-service-glow-run/
LOCATION:Reid Park Ramada 20 + 22 (Tucson\, AZ)\, 900 S. Randolph Way\, Tucson\, AZ\, 85716\, United States
CATEGORIES:Arizona
ATTACH;FMTTYPE=image/jpeg:https://eadn-wc05-15902914.nxedge.io/wp-content/uploads/2026/03/2026-Community-Festival-of-Service-5K-scaled.jpg
ORGANIZER;CN="The Erik Hite Foundation":MAILTO:haylij@erikhitefoundation.org
END:VEVENT
BEGIN:VEVENT
DTSTART;TZID=America/Phoenix:20260503T180000
DTEND;TZID=America/Phoenix:20260503T193000
DTSTAMP:20260421T024457
CREATED:20260416T172125Z
LAST-MODIFIED:20260416T172125Z
UID:10060296-1777831200-1777836600@myflr.org
SUMMARY:Bob Smiley comedy concert
DESCRIPTION:Come Join us for a free night of laughs with Christian Comedian Bob Smiley! Bringing over 27 years of experience\, performing in theaters\, churches\, and festivals nationwide. With five comedy specials\, including three on DryBar\, and numerous podcast appearances\, Bob is a recognized figure in the comedy scene\, and you can come see him for FREE!!!
URL:https://myflr.org/event/bob-smiley-comedy-concert/
LOCATION:First Baptist Church of Arizona City\, 13955 Sunland Gin Road\, Arizona City\, AZ\, 85123\, United States
CATEGORIES:Arizona
ATTACH;FMTTYPE=image/jpeg:https://eadn-wc05-15902914.nxedge.io/wp-content/uploads/2026/04/download.jpg
END:VEVENT
BEGIN:VEVENT
DTSTART;TZID=America/Phoenix:20260504T073000
DTEND;TZID=America/Phoenix:20260504T090000
DTSTAMP:20260421T024457
CREATED:20260414T192820Z
LAST-MODIFIED:20260414T192820Z
UID:10060052-1777879800-1777885200@myflr.org
SUMMARY:BEKIND Rise & Shine Breakfast with Special Guest Speaker Kenny Dillingham
DESCRIPTION:Join us on Monday\, May 4\, 2026\, from 7:45–9:00 AM for our annual “Rise & Shine” Breakfast at The Be Kind Community Education Center—a morning dedicated to celebrating kindness\, education\, and community impact. \nEnjoy coffee and light bites as you connect with others who are passionate about making a difference. Be inspired by the powerful voices of student winners from The National BE KIND Make a Difference Essay Contest as they share their heartfelt stories. Experience uplifting\, high-energy performances by THE BE KIND CREW that will leave you motivated for the day ahead. \nWe are honored to welcome our special guest speaker\, Kenny Dillingham\, Head Coach of ASU Football. One of the youngest head coaches in major college football and a proud Arizona native\, Coach Dillingham is known for his energy\, leadership\, and commitment to building a culture rooted in character\, resilience\, and community impact. The Be Kind People Project is proud to recognize him for his dedication to mentoring young athletes and giving back to the community. \nTogether\, we’ll honor outstanding educators and community leaders who embody the true spirit of kindness. Don’t miss this meaningful and energizing start to your day!
URL:https://myflr.org/event/bekind-rise-shine-breakfast-with-special-guest-speaker-kenny-dillingham/
LOCATION:The BE KIND Community Education Center\, 731 Grand Avenue\, Phoenix\, 85007\, United States
CATEGORIES:Arizona
ATTACH;FMTTYPE=image/png:https://eadn-wc05-15902914.nxedge.io/wp-content/uploads/2026/03/BeKindKenny.png
ORGANIZER;CN="Be Kind":MAILTO:alexis.huerter@gmail.com
END:VEVENT
BEGIN:VEVENT
DTSTART;TZID=America/Phoenix:20260508T173000
DTEND;TZID=America/Phoenix:20260508T200000
DTSTAMP:20260421T024457
CREATED:20260414T192525Z
LAST-MODIFIED:20260414T192525Z
UID:10060058-1778261400-1778270400@myflr.org
SUMMARY:Widows with Kiddos Mother's Day Dinner
DESCRIPTION:Widows with Kiddos would like to invite young widows who are raising children to attend our 2nd annual Mother’s Day Dinner. This is a special evening to celebrate you. Come spend a couple of hours relaxing\, laughing and enjoying a tiny break from all the demands of your life. Childcare and dinner will also be provided for your children.\nFor more information contact us at: www.widowswithkiddos.org
URL:https://myflr.org/event/widows-with-kiddos-mothers-day-dinner/
LOCATION:Christ Church Gilbert\, 1120 S Gilbert Rd\, Gilbert\, AZ\, 85296\, United States
CATEGORIES:Arizona
ATTACH;FMTTYPE=image/png:https://eadn-wc05-15902914.nxedge.io/wp-content/uploads/2026/03/Mothers-Day-Dinner.png
END:VEVENT
BEGIN:VEVENT
DTSTART;TZID=America/Phoenix:20260508T183000
DTEND;TZID=America/Phoenix:20260508T203000
DTSTAMP:20260421T024457
CREATED:20260416T191718Z
LAST-MODIFIED:20260416T191718Z
UID:10060302-1778265000-1778272200@myflr.org
SUMMARY:All-City Worship Night - Revivalists 2026
DESCRIPTION:The Fellowship of Christian Bolts from Mica Mountain High School will be hosting their second annual All-City Worship event to praise Jesus. This event is open to the city of Tucson; schools\, organizations\, churches and families all to reach the Tucson Christian community. Our goal is to fill the football field and spread the goodness of God! This event consists of live music\, testimonies\, messages and baptisms!
URL:https://myflr.org/event/all-city-worship-night-revivalists-2026/
LOCATION:Mica Mountain High School\, 10800 E Valencia Rd\, Tucson\, AZ\, 85747\, United States
CATEGORIES:Arizona
ATTACH;FMTTYPE=image/png:https://eadn-wc05-15902914.nxedge.io/wp-content/uploads/2026/04/Worship-Night-Cards-Flyers-8x11in.png
END:VEVENT
BEGIN:VEVENT
DTSTART;TZID=America/Phoenix:20260509T140000
DTEND;TZID=America/Phoenix:20260509T180000
DTSTAMP:20260421T024457
CREATED:20260414T191554Z
LAST-MODIFIED:20260414T191554Z
UID:10060075-1778335200-1778349600@myflr.org
SUMMARY:Military Veterans & Family Celebration Event
DESCRIPTION:Grab the entire family and join us as we celebrate service and sacrifice of our military veterans and their families. The event is presented USAA & Cox Communications and Hosted by American Veterans Magazine & Southwest Veteran Chamber of Commerce. \nHeld at the Martin Auto Museum in Glendale\, the event activities will include:\n* Free entry into the car museum\n* Food trucks & refreshments\n* Prize raffle fundraiser and auctions\n* Meet our partners\, advertisers\, and supporters\n* American Veterans Magazine pickup location\n* See the Arizona Military Vehicle Club and all their vehicles showcased near the food trucks\n* Free game room and carousal for the kids ++ \nThe event is free for military and veterans. $10 for others \nVolunteer and sponsor opportunities are still available.\nContact Patty Demers\, 602-367-2299 patty@amvetsmag.org
URL:https://myflr.org/event/military-veterans-family-celebration-event/
LOCATION:Martin Auto Museum and Event Center\, 4320 W. Thunderbird Rd.\, Glendale\, AZ\, 85306\, United States
CATEGORIES:Arizona
ATTACH;FMTTYPE=image/jpeg:https://eadn-wc05-15902914.nxedge.io/wp-content/uploads/2026/04/MilitaryVeteransEvent-May9-scaled.jpg
END:VEVENT
BEGIN:VEVENT
DTSTART;TZID=America/Phoenix:20260510T103000
DTEND;TZID=America/Phoenix:20260510T160000
DTSTAMP:20260421T024457
CREATED:20260416T191238Z
LAST-MODIFIED:20260416T191238Z
UID:10060295-1778409000-1778428800@myflr.org
SUMMARY:Mother’s Day Deal | Arizona Science Center
DESCRIPTION:Join Arizona Science Center in celebrating Mothers and Mother Figures alike! Moms\, Grandmas\, and Aunts receive FREE general admission tickets with every paid child general admission ticket. \n*Paid child general admission required. Offer valid on Sunday\, May 10\, 2026 only. Not valid with any other coupons\, offers\, Groupons or promotions. Offer valid onsite only. Not available online
URL:https://myflr.org/event/mothers-day-deal-arizona-science-center/
LOCATION:Arizona Science Center\, 600 E. Washington St.\, Phoenix\, AZ\, 85004\, United States
CATEGORIES:Arizona
ATTACH;FMTTYPE=image/png:https://eadn-wc05-15902914.nxedge.io/wp-content/uploads/2026/04/Screenshot-2026-04-15-at-11.43.58-AM.png
ORGANIZER;CN="Arizona Science Center":MAILTO:hello@azscience.org
END:VEVENT
BEGIN:VEVENT
DTSTART;TZID=America/Phoenix:20260516T083000
DTEND;TZID=America/Phoenix:20260516T140000
DTSTAMP:20260421T024457
CREATED:20260309T231153Z
LAST-MODIFIED:20260310T175514Z
UID:10059051-1778920200-1778940000@myflr.org
SUMMARY:Awaken 2026 Woman's Conference
DESCRIPTION:Attention ladies\, You’re invited to a woman’s conference designed to inspire and strengthen your heart. The day will include light morning refreshments\, encouraging\, powerful worship\, and life-giving messages from multiple speakers. Lunch will be provided. Space is limited! Early bird registration sign up is available. \nEarly bird registration $25 per person through 04/01/2026 regular registration cost is $35 per person
URL:https://myflr.org/event/awaken-2026-womans-conferance/
LOCATION:New Hope Rising Church\, 2615 E 7th Ave\, Flagstaff\, AZ\, 86004\, United States
CATEGORIES:Arizona
ATTACH;FMTTYPE=image/jpeg:https://eadn-wc05-15902914.nxedge.io/wp-content/uploads/2026/02/1000000436.jpg
ORGANIZER;CN="New Hope Rising Church":MAILTO:Securtary@NewHopeRising.com
END:VEVENT
BEGIN:VEVENT
DTSTART;TZID=America/Phoenix:20260520T180000
DTEND;TZID=America/Phoenix:20260520T210000
DTSTAMP:20260421T024457
CREATED:20260414T192306Z
LAST-MODIFIED:20260414T192411Z
UID:10060061-1779300000-1779310800@myflr.org
SUMMARY:Disciple in Concert!
DESCRIPTION:Disciple is coming to Flagstaff AZ! Come see them on their Honor and Glory tour! This is a FREE concert however\, donations are welcome.
URL:https://myflr.org/event/disciple-in-concert/
LOCATION:Mountain View Church of Flagstaff\, 2150 E Linda Vista Dr\, Flagstaff\, AZ\, 86004\, United States
CATEGORIES:Arizona
ATTACH;FMTTYPE=image/jpeg:https://eadn-wc05-15902914.nxedge.io/wp-content/uploads/2026/03/Honor-and-Glory-scaled.jpg
ORGANIZER;CN="Mountain View Church":MAILTO:communications@mv.church
END:VEVENT
BEGIN:VEVENT
DTSTART;VALUE=DATE:20260610
DTEND;VALUE=DATE:20260613
DTSTAMP:20260421T024457
CREATED:20260414T184301Z
LAST-MODIFIED:20260414T184301Z
UID:10060086-1781049600-1781308799@myflr.org
SUMMARY:Rockin Worship Bootcamp
DESCRIPTION:Calling all teens and young adults!! Spend 3 days working with\, and learning from award winning\, touring\, Christian artists and industry experts!! In addition to daily lessons on your instrument of choice\, you will also learn about stage presence\, audience engagement\, and social media content\, how to promote yourself\, and also how to build a band on a budget as you get started\, and so much more!! \nDon’t miss your chance to learn from artists and experts like Consumed By Fire\, Manafest\, Spoken\, Aaron Cole\, Nate Parrish\, We Are Vessel\, Jason Fowler\, V.Rose\, Whosoever South\, Purpose Live\, The Drum Pro and more! \nBootcamp runs from 9am-5pm each day followed by nightly concerts that are included for all students and volunteers who attend. \nUse the code MYFLR26 when you register and save over 30%!!!
URL:https://myflr.org/event/rockin-worship-bootcamp-2/
LOCATION:The Grove (Chandler\, AZ)\, 2777 S Gilbert Rd\, Chandler\, AZ\, 85286\, United States
CATEGORIES:Arizona
ATTACH;FMTTYPE=image/png:https://eadn-wc05-15902914.nxedge.io/wp-content/uploads/2026/04/RWBC26w1.png
ORGANIZER;CN="Angel Army Minstries":MAILTO:Rockinworshipaz.com
END:VEVENT
BEGIN:VEVENT
DTSTART;VALUE=DATE:20260706
DTEND;VALUE=DATE:20260711
DTSTAMP:20260421T024457
CREATED:20260311T165744Z
LAST-MODIFIED:20260311T165744Z
UID:10059125-1783296000-1783727999@myflr.org
SUMMARY:VBS 2026
DESCRIPTION:Join us July 6th-10th from 6:00-8:00 pm each evening for snacks\, crafts\, music\, and so much more. Meet Ollie\, the arctic seal\, and his friends as we embark on Snowball Mountain Challenge and learn to find strength in God. It’ll be snow much fun!
URL:https://myflr.org/event/vbs-2026/
LOCATION:Valley Christian Church\, 5968 E Fairmount St.\, Tucson\, AZ\, 85712\, United States
CATEGORIES:Arizona
ATTACH;FMTTYPE=image/png:https://eadn-wc05-15902914.nxedge.io/wp-content/uploads/2026/03/VBS-2026-Social-Logo.png
END:VEVENT
BEGIN:VEVENT
DTSTART;TZID=America/Phoenix:20260719T090000
DTEND;TZID=America/Phoenix:20260719T150000
DTSTAMP:20260421T024457
CREATED:20251208T192721Z
LAST-MODIFIED:20251208T192721Z
UID:10057704-1784451600-1784473200@myflr.org
SUMMARY:Tucson Coin Club Coin Show
DESCRIPTION:The Tucson Coin Club Coin Show will be on Sunday January 18\, 2026 at the Tucson Woman’s Club\, 6245 East Bellevue St.\, Tucson\, Arizona 85712 from 9 AM to 3 PM. Admission and parking are free. 38 tables. Go to www.tucsoncoinclub.com for more information.
URL:https://myflr.org/event/tucson-coin-club-coin-show-2/2026-07-19/
LOCATION:tucson women’s club\, 6245 East Bellevue Street\, Tucson\, AZ 85712\, Tucson\, AZ\, 85712\, United States
CATEGORIES:Arizona
ATTACH;FMTTYPE=image/jpeg:https://eadn-wc05-15902914.nxedge.io/wp-content/uploads/2025/11/TCC-Logo-2.jpg
END:VEVENT
BEGIN:VEVENT
DTSTART;TZID=America/Phoenix:20261003T190000
DTEND;TZID=America/Phoenix:20261003T220000
DTSTAMP:20260421T024457
CREATED:20260420T150258Z
LAST-MODIFIED:20260420T150258Z
UID:10060326-1791054000-1791064800@myflr.org
SUMMARY:MATTHEW WEST - JESUS IS KING TOUR - PHOENIX
DESCRIPTION:Jesus Is King Tour\nOct 3\, 2026 – 7:00PM\nMountain Park Church\, 16461 S 48th St\, Phoenix\, AZ \nSCHEDULE (subject to change):\n5:00PM – VIP doors open\n6:00PM – Early Entry doors open\n6:15PM – General Admission doors open\n7:00PM – Event begins \nPre-sale tickets available Wednesday\, April 22nd\, 2026 at 10AM local with promo code: RADIO @ https://www.ticketweb.com/event/matthew-west-jesus-is-king-mountain-park-church-tickets/14850893?pl=TPR&REFID=radio \nPublic sale tickets available Friday\, April 24th\, 2026 at 10AM local @ https://www.ticketweb.com/event/matthew-west-jesus-is-king-mountain-park-church-tickets/14850893?pl=TPR&REFID=radio
URL:https://myflr.org/event/matthew-west-jesus-is-king-tour-phoenix/
LOCATION:Mountain Park Church\, 16461 S 48th St.\, Phoenix\, AZ\, 85048\, United States
CATEGORIES:Arizona,Featured
ATTACH;FMTTYPE=image/jpeg:https://eadn-wc05-15902914.nxedge.io/wp-content/uploads/2026/04/MW_JesusIsKing_Phoenix_1080x1080.jpg
ORGANIZER;CN="TPR.":MAILTO:info@tprlive.co
END:VEVENT
BEGIN:VEVENT
DTSTART;TZID=America/Phoenix:20261017T190000
DTEND;TZID=America/Phoenix:20261017T223000
DTSTAMP:20260421T024457
CREATED:20260217T162317Z
LAST-MODIFIED:20260311T163705Z
UID:10059024-1792263600-1792276200@myflr.org
SUMMARY:Phil Wickham ‘Song of the Saints’ Tour
DESCRIPTION:Get ready\, Glendale! Phil Wickham is coming to Desert Diamond Arena on October 17 for his Song of the Saints Tour featuring Jamie MacDonald! Join in for a night of worship\, singing your favorites and new songs from his recently released album\, Song of the Saints! \nTickets @ https://www.ticketmaster.com/event/190064501B8D81DC?CAMEFROM=CFC_TPR_WEB_RADIO_1
URL:https://myflr.org/event/phil-wickham-song-of-the-saints-t/
LOCATION:Desert Diamond Arena\, 9400 W Maryland Ave\, Glendale\, AZ\, 85305\, United States
CATEGORIES:Arizona,Featured
ATTACH;FMTTYPE=image/jpeg:https://eadn-wc05-15902914.nxedge.io/wp-content/uploads/2026/02/IMG_9845-3.jpeg
ORGANIZER;CN="TPR Live":MAILTO:info@tprlive.co
END:VEVENT
END:VCALENDAR