
BEGIN:VCALENDAR
VERSION:2.0
PRODID:-//Family Life Radio - ECPv6.15.20//NONSGML v1.0//EN
CALSCALE:GREGORIAN
METHOD:PUBLISH
X-WR-CALNAME:Family Life Radio
X-ORIGINAL-URL:https://myflr.org
X-WR-CALDESC:Events for Family Life Radio
REFRESH-INTERVAL;VALUE=DURATION:PT1H
X-Robots-Tag:noindex
X-PUBLISHED-TTL:PT1H
BEGIN:VTIMEZONE
TZID:America/Phoenix
BEGIN:STANDARD
TZOFFSETFROM:-0700
TZOFFSETTO:-0700
TZNAME:MST
DTSTART:20250101T000000
END:STANDARD
END:VTIMEZONE
BEGIN:VEVENT
DTSTART;TZID=America/Phoenix:20260520T180000
DTEND;TZID=America/Phoenix:20260520T210000
DTSTAMP:20260421T041057
CREATED:20260414T192306Z
LAST-MODIFIED:20260414T192411Z
UID:10060061-1779300000-1779310800@myflr.org
SUMMARY:Disciple in Concert!
DESCRIPTION:Disciple is coming to Flagstaff AZ! Come see them on their Honor and Glory tour! This is a FREE concert however\, donations are welcome.
URL:https://myflr.org/event/disciple-in-concert/
LOCATION:Mountain View Church of Flagstaff\, 2150 E Linda Vista Dr\, Flagstaff\, AZ\, 86004\, United States
CATEGORIES:Arizona
ATTACH;FMTTYPE=image/jpeg:https://eadn-wc05-15902914.nxedge.io/wp-content/uploads/2026/03/Honor-and-Glory-scaled.jpg
ORGANIZER;CN="Mountain View Church":MAILTO:communications@mv.church
END:VEVENT
BEGIN:VEVENT
DTSTART;VALUE=DATE:20260610
DTEND;VALUE=DATE:20260613
DTSTAMP:20260421T041057
CREATED:20260414T184301Z
LAST-MODIFIED:20260414T184301Z
UID:10060086-1781049600-1781308799@myflr.org
SUMMARY:Rockin Worship Bootcamp
DESCRIPTION:Calling all teens and young adults!! Spend 3 days working with\, and learning from award winning\, touring\, Christian artists and industry experts!! In addition to daily lessons on your instrument of choice\, you will also learn about stage presence\, audience engagement\, and social media content\, how to promote yourself\, and also how to build a band on a budget as you get started\, and so much more!! \nDon’t miss your chance to learn from artists and experts like Consumed By Fire\, Manafest\, Spoken\, Aaron Cole\, Nate Parrish\, We Are Vessel\, Jason Fowler\, V.Rose\, Whosoever South\, Purpose Live\, The Drum Pro and more! \nBootcamp runs from 9am-5pm each day followed by nightly concerts that are included for all students and volunteers who attend. \nUse the code MYFLR26 when you register and save over 30%!!!
URL:https://myflr.org/event/rockin-worship-bootcamp-2/
LOCATION:The Grove (Chandler\, AZ)\, 2777 S Gilbert Rd\, Chandler\, AZ\, 85286\, United States
CATEGORIES:Arizona
ATTACH;FMTTYPE=image/png:https://eadn-wc05-15902914.nxedge.io/wp-content/uploads/2026/04/RWBC26w1.png
ORGANIZER;CN="Angel Army Minstries":MAILTO:Rockinworshipaz.com
END:VEVENT
BEGIN:VEVENT
DTSTART;VALUE=DATE:20260706
DTEND;VALUE=DATE:20260711
DTSTAMP:20260421T041057
CREATED:20260311T165744Z
LAST-MODIFIED:20260311T165744Z
UID:10059125-1783296000-1783727999@myflr.org
SUMMARY:VBS 2026
DESCRIPTION:Join us July 6th-10th from 6:00-8:00 pm each evening for snacks\, crafts\, music\, and so much more. Meet Ollie\, the arctic seal\, and his friends as we embark on Snowball Mountain Challenge and learn to find strength in God. It’ll be snow much fun!
URL:https://myflr.org/event/vbs-2026/
LOCATION:Valley Christian Church\, 5968 E Fairmount St.\, Tucson\, AZ\, 85712\, United States
CATEGORIES:Arizona
ATTACH;FMTTYPE=image/png:https://eadn-wc05-15902914.nxedge.io/wp-content/uploads/2026/03/VBS-2026-Social-Logo.png
END:VEVENT
BEGIN:VEVENT
DTSTART;TZID=America/Phoenix:20260719T090000
DTEND;TZID=America/Phoenix:20260719T150000
DTSTAMP:20260421T041057
CREATED:20251208T192721Z
LAST-MODIFIED:20251208T192721Z
UID:10057704-1784451600-1784473200@myflr.org
SUMMARY:Tucson Coin Club Coin Show
DESCRIPTION:The Tucson Coin Club Coin Show will be on Sunday January 18\, 2026 at the Tucson Woman’s Club\, 6245 East Bellevue St.\, Tucson\, Arizona 85712 from 9 AM to 3 PM. Admission and parking are free. 38 tables. Go to www.tucsoncoinclub.com for more information.
URL:https://myflr.org/event/tucson-coin-club-coin-show-2/2026-07-19/
LOCATION:tucson women’s club\, 6245 East Bellevue Street\, Tucson\, AZ 85712\, Tucson\, AZ\, 85712\, United States
CATEGORIES:Arizona
ATTACH;FMTTYPE=image/jpeg:https://eadn-wc05-15902914.nxedge.io/wp-content/uploads/2025/11/TCC-Logo-2.jpg
END:VEVENT
BEGIN:VEVENT
DTSTART;TZID=America/Phoenix:20261003T190000
DTEND;TZID=America/Phoenix:20261003T220000
DTSTAMP:20260421T041057
CREATED:20260420T150258Z
LAST-MODIFIED:20260420T150258Z
UID:10060326-1791054000-1791064800@myflr.org
SUMMARY:MATTHEW WEST - JESUS IS KING TOUR - PHOENIX
DESCRIPTION:Jesus Is King Tour\nOct 3\, 2026 – 7:00PM\nMountain Park Church\, 16461 S 48th St\, Phoenix\, AZ \nSCHEDULE (subject to change):\n5:00PM – VIP doors open\n6:00PM – Early Entry doors open\n6:15PM – General Admission doors open\n7:00PM – Event begins \nPre-sale tickets available Wednesday\, April 22nd\, 2026 at 10AM local with promo code: RADIO @ https://www.ticketweb.com/event/matthew-west-jesus-is-king-mountain-park-church-tickets/14850893?pl=TPR&REFID=radio \nPublic sale tickets available Friday\, April 24th\, 2026 at 10AM local @ https://www.ticketweb.com/event/matthew-west-jesus-is-king-mountain-park-church-tickets/14850893?pl=TPR&REFID=radio
URL:https://myflr.org/event/matthew-west-jesus-is-king-tour-phoenix/
LOCATION:Mountain Park Church\, 16461 S 48th St.\, Phoenix\, AZ\, 85048\, United States
CATEGORIES:Arizona,Featured
ATTACH;FMTTYPE=image/jpeg:https://eadn-wc05-15902914.nxedge.io/wp-content/uploads/2026/04/MW_JesusIsKing_Phoenix_1080x1080.jpg
ORGANIZER;CN="TPR.":MAILTO:info@tprlive.co
END:VEVENT
BEGIN:VEVENT
DTSTART;TZID=America/Phoenix:20261017T190000
DTEND;TZID=America/Phoenix:20261017T223000
DTSTAMP:20260421T041057
CREATED:20260217T162317Z
LAST-MODIFIED:20260311T163705Z
UID:10059024-1792263600-1792276200@myflr.org
SUMMARY:Phil Wickham ‘Song of the Saints’ Tour
DESCRIPTION:Get ready\, Glendale! Phil Wickham is coming to Desert Diamond Arena on October 17 for his Song of the Saints Tour featuring Jamie MacDonald! Join in for a night of worship\, singing your favorites and new songs from his recently released album\, Song of the Saints! \nTickets @ https://www.ticketmaster.com/event/190064501B8D81DC?CAMEFROM=CFC_TPR_WEB_RADIO_1
URL:https://myflr.org/event/phil-wickham-song-of-the-saints-t/
LOCATION:Desert Diamond Arena\, 9400 W Maryland Ave\, Glendale\, AZ\, 85305\, United States
CATEGORIES:Arizona,Featured
ATTACH;FMTTYPE=image/jpeg:https://eadn-wc05-15902914.nxedge.io/wp-content/uploads/2026/02/IMG_9845-3.jpeg
ORGANIZER;CN="TPR Live":MAILTO:info@tprlive.co
END:VEVENT
END:VCALENDAR