
BEGIN:VCALENDAR
VERSION:2.0
PRODID:-//Family Life Radio - ECPv6.15.20//NONSGML v1.0//EN
CALSCALE:GREGORIAN
METHOD:PUBLISH
X-ORIGINAL-URL:https://myflr.org
X-WR-CALDESC:Events for Family Life Radio
REFRESH-INTERVAL;VALUE=DURATION:PT1H
X-Robots-Tag:noindex
X-PUBLISHED-TTL:PT1H
BEGIN:VTIMEZONE
TZID:America/Chicago
BEGIN:DAYLIGHT
TZOFFSETFROM:-0600
TZOFFSETTO:-0500
TZNAME:CDT
DTSTART:20220313T080000
END:DAYLIGHT
BEGIN:STANDARD
TZOFFSETFROM:-0500
TZOFFSETTO:-0600
TZNAME:CST
DTSTART:20221106T070000
END:STANDARD
BEGIN:DAYLIGHT
TZOFFSETFROM:-0600
TZOFFSETTO:-0500
TZNAME:CDT
DTSTART:20230312T080000
END:DAYLIGHT
BEGIN:STANDARD
TZOFFSETFROM:-0500
TZOFFSETTO:-0600
TZNAME:CST
DTSTART:20231105T070000
END:STANDARD
BEGIN:DAYLIGHT
TZOFFSETFROM:-0600
TZOFFSETTO:-0500
TZNAME:CDT
DTSTART:20240310T080000
END:DAYLIGHT
BEGIN:STANDARD
TZOFFSETFROM:-0500
TZOFFSETTO:-0600
TZNAME:CST
DTSTART:20241103T070000
END:STANDARD
END:VTIMEZONE
BEGIN:VTIMEZONE
TZID:America/Phoenix
BEGIN:STANDARD
TZOFFSETFROM:-0700
TZOFFSETTO:-0700
TZNAME:MST
DTSTART:20220101T000000
END:STANDARD
END:VTIMEZONE
BEGIN:VEVENT
DTSTART;TZID=America/Chicago:20231012T190000
DTEND;TZID=America/Chicago:20231012T220000
DTSTAMP:20260421T195609
CREATED:20231010T163713Z
LAST-MODIFIED:20231010T163713Z
UID:10016741-1697137200-1697148000@myflr.org
SUMMARY:GAITHER VOCAL BAND – THE DARKER THE NIGHT THE BRIGHTER THE LIGHT CONCERT
DESCRIPTION:BILL GAITHER AND THE GAITHER VOCAL BAND \n\n\nTHURSDAY\, OCTOBER 12\, 2023 \nFirst Baptist Church Panama City – Downtown in Panama City\, FL\n\nThursday\, October 12\, 2023\n\n\nDoors Open: 6:00PM CDT\nEvent Starts: 7:00PM CDT \nEvent info at: https://www.platformtickets.com/tour/bill-gaither-and-gaither-vocal-band/panama-city-fl-0 \nTicket info at: https://www.itickets.com/events/474183
URL:https://myflr.org/event/gaither-vocal-band-the-darker-the-night-the-brighter-the-light-concert/
LOCATION:First Bapitst Church of Panama City (Panama City\, FL)\, 640 Grace Avenue\, Panama City\, FL\, 32401\, United States
CATEGORIES:Featured,Florida
ATTACH;FMTTYPE=image/jpeg:https://eadn-wc05-15902914.nxedge.io/wp-content/uploads/2023/10/National_GaitherSpring_Panama-City-FL_1080x1080.jpg
END:VEVENT
BEGIN:VEVENT
DTSTART;TZID=America/Phoenix:20230930T190000
DTEND;TZID=America/Phoenix:20230930T220000
DTSTAMP:20260421T195609
CREATED:20230523T214834Z
LAST-MODIFIED:20230523T214834Z
UID:10009836-1696100400-1696111200@myflr.org
SUMMARY:Zach Williams ‘A Hundred Highways Tour’ with special guest Riley Clemmons
DESCRIPTION:SAT SEPT 30th @ Mattie Kelly Arts Center NW Florida State College \nGet ready for a night of unforgettable music and soul-stirring performances as Zach Williams takes the stage on the Hundred Highways tour! Zach Williams\, backed by his massive 10-piece band\, will blow you away with his powerful vocals\, raw talent\, and chart-topping hits. From “Chain Breaker” to “Rescue Story\,” his music speaks to the heart of what it means to be human\, and his electrifying live shows are unlike anything you’ve ever experienced in Christian music. \nPLUS\, special guest Riley Clemmons will inspire you with her energy and powerful vocals in a fun and heartfelt performance. \nWhether you’re a longtime fan or a newcomer to the genre\, this is a show you won’t want to miss. So come join us for an unforgettable night of music\, worship\, and community. Get your tickets now and experience the magic of A Hundred Highways with Zach Williams! \nGET YOUR TICKETS AT- https://bit.ly/41RTE8R \n 
URL:https://myflr.org/event/zach-williams-a-hundred-highways-tour-with-special-guest-riley-clemmons/
LOCATION:Mattie Kelly Arts Center NW Florida State College\, 100 E College Blvd\, Niceville\, FL\, 32578\, United States
CATEGORIES:Florida
ATTACH;FMTTYPE=image/jpeg:https://eadn-wc05-15902914.nxedge.io/wp-content/uploads/2023/05/Zach-Williams-FL.jpeg
ORGANIZER;CN="Awakening Events":MAILTO:https://www.awakeningevents.com/email
END:VEVENT
BEGIN:VEVENT
DTSTART;TZID=America/Phoenix:20230921T190000
DTEND;TZID=America/Phoenix:20230921T220000
DTSTAMP:20260421T195609
CREATED:20230801T142344Z
LAST-MODIFIED:20230801T144732Z
UID:10013133-1695322800-1695333600@myflr.org
SUMMARY:CAIN – LIVE AND IN COLOR TOUR – PANAMA CITY
DESCRIPTION:CAIN has added new fall dates to their Live And In Color Tour! The band is being joined by Katy Nichole and David Leonard for an inspiring and fun night of worship.\nJoin us at Hiland Park Baptist Church in Panama City this September!\nAnd don’t forget to wear GREEN \nTHU ∙ SEP 21\, 2023 ∙ 7:00 PM \nDoors open at 6:00 pm\n\nHiland Park Baptist Church\n2611 North Highway 231\n\n\nPanama City\, FL 32405 US \nTickets on sale now! \nEvent info at https://www.facebook.com/events/1259519611354500\nTicket info at https://www.itickets.com/events/473735
URL:https://myflr.org/event/cain-live-and-in-color-tour-panama-city/
LOCATION:Hiland Park Baptist Church (Panama City\, FL)\, 2611 US-231\, Panama City\, FL\, 32405\, United States
CATEGORIES:Featured,Florida
ATTACH;FMTTYPE=image/jpeg:https://eadn-wc05-15902914.nxedge.io/wp-content/uploads/2023/08/Cain-Live-and-In-Color-11x17-Poster-5_23-FINAL-copy.jpg
END:VEVENT
BEGIN:VEVENT
DTSTART;TZID=America/Phoenix:20230806T190000
DTEND;TZID=America/Phoenix:20230806T220000
DTSTAMP:20260421T195609
CREATED:20230530T201410Z
LAST-MODIFIED:20230530T203134Z
UID:10010297-1691348400-1691359200@myflr.org
SUMMARY:KARI JOBE & CODY CARNES – PANAMA CITY
DESCRIPTION:SUN ∙ AUG 06\, 2023 ∙ 7:00 PM\nDoors open at 6:00 pm\nHiland Park Baptist Church\n2611 North Highway 231\nPanama City\, FL 32405 \n\n\n\nPRE-SALE May 30-June 1 with promo code: SUMMER @ https://www.rushconcerts.com/events/bands/kari-jobe (free signed tour poster included!)\nPUBLIC SALE June 2\, 10:00 am ET @ https://www.rushconcerts.com/events/bands/kari-jobe \n\n\n\nVIP Packages\nIncludes concert ticket \n\n\nWorship & Conversations Q&A Platinum\n$134.00\n\n\nWorship & Conversations Q&A Diamond\n$150.00\n\n\nULTIMATE Package\n$195.00\n\n\nMusician’s Experience\n$228.00\n\n\n\n\nTICKETS\n\n\nArtist Circle\n$55.00\n\n\nEarly Entry\n$39.00\n\n\nGeneral Admission\n$33.00\n\n\nGroups (10+)\n$25.00\n\n\n\n\nAdd Ons\nDoes NOT include a concert ticket. These are just add-ons to your concert tickets. \n\n\nWorship & Conversations Q&A Add-On\n$75.00\n\n\nTour Exclusive Merch Bundle Add-On\n$49.99\n\n\n\n\n\nAnnouncing the Christian concert of the summer featuring Kari Jobe & Cody Carnes! Prepare for a powerful night of worship and inspiration that you will not want to miss. These talented artists will come together to create an unforgettable experience\, lifting your spirits and drawing you closer to God through their music. \nJoin Kari Jobe\, known for her soul-stirring vocals and worshipful anthems like “The Blessing” and “I Am Not Alone.” Cody Carnes will lead you in heartfelt worship with songs such as “Firm Foundation” and “Run to the Father\,” leaving you in awe of God’s presence. \nMark your calendars and invite your friends and family to these incredible nights. It’s an opportunity to encounter God\, be uplifted in faith\, and experience the power of worship in a collective setting. Get ready to be moved\, inspired\, and filled with hope as these talented artists pour out their hearts for the glory of God. \nThis tour is made possible by World Vision. World Vision is a global humanitarian organization that focuses on child sponsorship\, disaster relief\, and community development. While they primarily work in areas such as poverty alleviation and providing aid to children and families in need
URL:https://myflr.org/event/kari-jobe-cody-carnes-panama-city/
LOCATION:Hiland Park Baptist Church (Panama City\, FL)\, 2611 US-231\, Panama City\, FL\, 32405\, United States
CATEGORIES:Featured,Florida
ATTACH;FMTTYPE=image/jpeg:https://eadn-wc05-15902914.nxedge.io/wp-content/uploads/2023/05/Kari-Jobe-Cody-Carnes-SQ.jpg
END:VEVENT
BEGIN:VEVENT
DTSTART;TZID=America/Phoenix:20230719T180000
DTEND;TZID=America/Phoenix:20230721T203000
DTSTAMP:20260421T195609
CREATED:20230710T144040Z
LAST-MODIFIED:20230710T144040Z
UID:10012401-1689789600-1689971400@myflr.org
SUMMARY:Pool Party VBS
DESCRIPTION:Get ready to make a splash with Jesus during our 2023 Pool Party VBS! Music\, skits\, games\, inflatables\, crafts\, snacks\, and more! Kids are sure to have a FUN time “diving” into God’s word! We can not wait for this epic summer event! \nJuly 19\, 20\, 21 – VBS\n6:00 pm – 8:30 pm (Sign in starts at 5:30 pm.)\n4 years old to graduated 5th graders \nJuly 22 – VBS Family Water Day\n11 am – 2 pm\nThe whole family is invited to join us for a Family Water Day! We will have water games\, water slides\, snow cones\, and a free hotdog lunch! \nNew Church\n3317 New Church Road\nPanama City\, FL 32409
URL:https://myflr.org/event/pool-party-vbs/
LOCATION:New Church (Panama City\, FL)\, 3317 New Church Road\, Panama City\, FL\, 32409\, United States
CATEGORIES:Florida
ATTACH;FMTTYPE=image/jpeg:https://eadn-wc05-15902914.nxedge.io/wp-content/uploads/2023/07/Pool-Party-VBS-c.jpg
END:VEVENT
BEGIN:VEVENT
DTSTART;TZID=America/Phoenix:20230711T190000
DTEND;TZID=America/Phoenix:20230711T203000
DTSTAMP:20260421T195609
CREATED:20230711T125036Z
LAST-MODIFIED:20230711T125036Z
UID:10012417-1689102000-1689107400@myflr.org
SUMMARY:AnthemEdition Concert
DESCRIPTION:Free gospel concert hosted by Bayou George Christian Church. A love offering will be collected.
URL:https://myflr.org/event/anthemedition-concert/
LOCATION:Boardwalk Beach Resort (Panama City Beach\, FL)\, 9600 South Thomas Drive\, Panama City Beach\, FL\, 32405\, United States
CATEGORIES:Florida
END:VEVENT
BEGIN:VEVENT
DTSTART;TZID=America/Phoenix:20230707T190000
DTEND;TZID=America/Phoenix:20230707T190000
DTSTAMP:20260421T195609
CREATED:20230706T142522Z
LAST-MODIFIED:20230706T142522Z
UID:10012001-1688756400-1688756400@myflr.org
SUMMARY:First Friday Faith films
DESCRIPTION:Join us for a family-friendly event! We will be watching The Chosen on friday\, July 7th starting at 7:00 p.m. free popcorn and refreshments will be provided.
URL:https://myflr.org/event/first-friday-faith-films/
LOCATION:Fellowship Baptist Church (Panama City\, FL)\, 2501 Michigan Avenue\, Panama City\, FL\, 32405\, United States
CATEGORIES:Florida
ATTACH;FMTTYPE=image/jpeg:https://eadn-wc05-15902914.nxedge.io/wp-content/uploads/2023/07/inbound5135718118932938867-scaled.jpg
END:VEVENT
BEGIN:VEVENT
DTSTART;TZID=America/Phoenix:20230629T190000
DTEND;TZID=America/Phoenix:20230629T220000
DTSTAMP:20260421T195609
CREATED:20230519T140832Z
LAST-MODIFIED:20230530T203233Z
UID:10009509-1688065200-1688076000@myflr.org
SUMMARY:AFTER THE DOWNBEAT with DAVID PHELPS
DESCRIPTION:AdmissionSeating is first come\, first serve.\n\nEarly Entry Artist Circle / 5:45 PM\n$40.00\nGeneral Admission\n$28.00\nGeneral Admission Group (10+)\n$25.00\n\nFamily and Friends Four Pack (4+)$25.00 \nEvent info at www.davidphelps.com/tour/after-the-downbeat-with-david-phelps-3/ \nTicket info at www.itickets.com/events/473128
URL:https://myflr.org/event/after-the-downbeat-with-david-phelps/
LOCATION:Hiland Park Baptist Church (Panama City\, FL)\, 2611 US-231\, Panama City\, FL\, 32405\, United States
CATEGORIES:Featured,Florida
ATTACH;FMTTYPE=image/jpeg:https://eadn-wc05-15902914.nxedge.io/wp-content/uploads/2023/05/David-Phelps-Image-SQ.jpg
END:VEVENT
BEGIN:VEVENT
DTSTART;TZID=America/Phoenix:20230619T170000
DTEND;TZID=America/Phoenix:20230622T200000
DTSTAMP:20260421T195609
CREATED:20230516T181843Z
LAST-MODIFIED:20230516T181843Z
UID:10009470-1687194000-1687464000@myflr.org
SUMMARY:VBS 2023
DESCRIPTION:St. Andrew United Methodist Church located at 2001 W. 11th Street\, Panama City\, FL\, is having VBS on June 19 through 22 from 5:00 to 8:00 pm. For more information and to register go to our website sa-umc.com
URL:https://myflr.org/event/vbs-2023/
LOCATION:MI\, United States
CATEGORIES:Florida
ATTACH;FMTTYPE=image/jpeg:https://eadn-wc05-15902914.nxedge.io/wp-content/uploads/2023/05/VBS-2023-scaled.jpg
END:VEVENT
BEGIN:VEVENT
DTSTART;TZID=America/Phoenix:20230423T190000
DTEND;TZID=America/Phoenix:20230423T220000
DTSTAMP:20260421T195609
CREATED:20230404T205433Z
LAST-MODIFIED:20230404T205433Z
UID:10008329-1682276400-1682287200@myflr.org
SUMMARY:Tim Hawkins LIVE in Concert
DESCRIPTION:Catch Tim Hawkins Live in Concert! The parody singer-songwriter of favorites like “Things You Don’t Say to Your Wife” and “Cletus Take the Reel” provides nonstop laughter with funny bits about the church\, homeschooling\, and more. Load up your van with all your kids\, your small group\, and anyone else who loves a good joke to experience this night of hilarity with Tim Hawkins! A limited number of VIP tickets including Early Entry and a Meet & Greet and photo with Tim are available for each show.
URL:https://myflr.org/event/tim-hawkins-live-in-concert/
LOCATION:Hiland Park Baptist Church\, 2611 Us-231\, 2611 Us-231 Panama City\,\, FL\, 32405\, United States
CATEGORIES:Featured,Florida
ATTACH;FMTTYPE=image/jpeg:https://eadn-wc05-15902914.nxedge.io/wp-content/uploads/2023/04/TimHawkins_SP23_1080x1080_042323.jpg
END:VEVENT
BEGIN:VEVENT
DTSTART;TZID=America/Phoenix:20230422T173000
DTEND;TZID=America/Phoenix:20230422T193000
DTSTAMP:20260421T195609
CREATED:20230306T135357Z
LAST-MODIFIED:20230310T231847Z
UID:10007804-1682184600-1682191800@myflr.org
SUMMARY:The Outpouring Night of Worship
DESCRIPTION:People of Praise Worship Center invites you to a Night of worship\, testimonies and baptisms.  Join us in the park at The Pavilion on County Road 77\, Graceville Fl 32440. This is open to anyone who would like to join in a night of worship in the park.  Please bring your lawn chairs and worship with us as a community.  Everyone is welcomed.
URL:https://myflr.org/event/the-outpouring-night-of-worship/
LOCATION:FL
CATEGORIES:Florida
ATTACH;FMTTYPE=image/jpeg:https://eadn-wc05-15902914.nxedge.io/wp-content/uploads/2023/03/327194623_915072726291796_5934086516196481293_n.jpg
END:VEVENT
BEGIN:VEVENT
DTSTART;TZID=America/Phoenix:20230409T103000
DTEND;TZID=America/Phoenix:20230409T120000
DTSTAMP:20260421T195609
CREATED:20230404T151447Z
LAST-MODIFIED:20230404T205538Z
UID:10008326-1681036200-1681041600@myflr.org
SUMMARY:EASTER ON THE GREEN W/NEWSONG (PRESENTED BY: WINDMARK BEACH CHURCH)
DESCRIPTION:EASTER SUNDAY WORSHIP SERVICE\nSUNDAY APRIL 9\, 2023 @10:30AM EST\nWITH SPECIAL GUESTS: NEWSONG\nPRESENTED BY:\nWINDMARK BEACH CHURCH\n99 GOOD MORNING STREET\nPORT ST. JOE\, FL. 32456
URL:https://myflr.org/event/easter-on-the-green-w-newsong-presented-by-windmark-beach-church/
LOCATION:FL
CATEGORIES:Florida
ATTACH;FMTTYPE=image/jpeg:https://eadn-wc05-15902914.nxedge.io/wp-content/uploads/2023/04/WindMark-Beach-Facebook-Post-Presentation-169-5-×-3.75-in.jpeg
END:VEVENT
END:VCALENDAR