
BEGIN:VCALENDAR
VERSION:2.0
PRODID:-//Family Life Radio - ECPv6.15.20//NONSGML v1.0//EN
CALSCALE:GREGORIAN
METHOD:PUBLISH
X-WR-CALNAME:Family Life Radio
X-ORIGINAL-URL:https://myflr.org
X-WR-CALDESC:Events for Family Life Radio
REFRESH-INTERVAL;VALUE=DURATION:PT1H
X-Robots-Tag:noindex
X-PUBLISHED-TTL:PT1H
BEGIN:VTIMEZONE
TZID:America/Phoenix
BEGIN:STANDARD
TZOFFSETFROM:-0700
TZOFFSETTO:-0700
TZNAME:MST
DTSTART:20250101T000000
END:STANDARD
END:VTIMEZONE
BEGIN:VTIMEZONE
TZID:America/Detroit
BEGIN:DAYLIGHT
TZOFFSETFROM:-0500
TZOFFSETTO:-0400
TZNAME:EDT
DTSTART:20250309T070000
END:DAYLIGHT
BEGIN:STANDARD
TZOFFSETFROM:-0400
TZOFFSETTO:-0500
TZNAME:EST
DTSTART:20251102T060000
END:STANDARD
BEGIN:DAYLIGHT
TZOFFSETFROM:-0500
TZOFFSETTO:-0400
TZNAME:EDT
DTSTART:20260308T070000
END:DAYLIGHT
BEGIN:STANDARD
TZOFFSETFROM:-0400
TZOFFSETTO:-0500
TZNAME:EST
DTSTART:20261101T060000
END:STANDARD
BEGIN:DAYLIGHT
TZOFFSETFROM:-0500
TZOFFSETTO:-0400
TZNAME:EDT
DTSTART:20270314T070000
END:DAYLIGHT
BEGIN:STANDARD
TZOFFSETFROM:-0400
TZOFFSETTO:-0500
TZNAME:EST
DTSTART:20271107T060000
END:STANDARD
END:VTIMEZONE
BEGIN:VEVENT
DTSTART;TZID=America/Phoenix:20260425T110000
DTEND;TZID=America/Phoenix:20260425T140000
DTSTAMP:20260421T041452
CREATED:20260330T140659Z
LAST-MODIFIED:20260330T140659Z
UID:10060054-1777114800-1777125600@myflr.org
SUMMARY:Bible Way Ministries International\, Annual Remember Me Event! - Atlanta
DESCRIPTION:You don’t have to go through the journey of grief alone! We are here for you! The non profit arm of Bible Way Ministries International\, Milestones Community Development\, hosts our T.I.M.E Grief Support Group annual Remember Me event\, to honor the lives of those we have lost. We invite you & the communities of Atlanta to join us for opportunities to learn and be inspired by each other\, and two skilled\, compassionate\, insightful speakers. This year’s theme\, IN OUR HEARTS ALWAYS\, focuses on the way we navigate remembering those close to us. If you’ve lost someone\, or know someone who has\, feel free to join us for this FREE event. Free Question & Answer Sessions\, Free Food\, Freedom from feeling alone and unsure. \nTheme: IN OUR HEARTS ALWAYS\nDate: Saturday April 25\, 2026\nTime: 11:00 AM – 2:00 PM Refreshments following\nLocation: 894 Constitution Rd. SE\, Atlanta GA 30315\nTo Register: Call the Church office at: 404-627-6800 \nThank you\,\nCoordinator: Betty Gilbert\nAdvertisement Team:\nRobert and Sharon Smith sharony531@yahoo.com\nCharles and Mary McNease charmaunion2@yahoo.com
URL:https://myflr.org/event/bible-way-ministries-international-annual-remember-me-event-atlanta/
LOCATION:BIBLE WAY MINISTRIES INTERNATIONAL\, 894 Constitution Rd. SE\, Atlanta\, GA\, 30315
CATEGORIES:Georgia
ATTACH;FMTTYPE=image/jpeg:https://eadn-wc05-15902914.nxedge.io/wp-content/uploads/2026/03/In-Our-Hearts-Always.jpg
END:VEVENT
BEGIN:VEVENT
DTSTART;VALUE=DATE:20260515
DTEND;VALUE=DATE:20260516
DTSTAMP:20260421T041452
CREATED:20260406T170555Z
LAST-MODIFIED:20260406T170555Z
UID:10060033-1778832000-1778864400@myflr.org
SUMMARY:Happy Hour Golf Classic - Warner Robins
DESCRIPTION:Charity golf tournament with proceeds benefitting our 172 adults with special needs.
URL:https://myflr.org/event/happy-hour-golf-classic-warner-robins/2026-05-15/2/
LOCATION:Southern Landings Golf Club\, 309 Stathams Way\, Warner Robins\, GA\, 31088\, United States
CATEGORIES:Georgia
ATTACH;FMTTYPE=image/jpeg:https://eadn-wc05-15902914.nxedge.io/wp-content/uploads/2026/03/golfclassic20237.jpg
ORGANIZER;CN="Bruce Hullett":MAILTO:bhullett@hcaec.com
END:VEVENT
BEGIN:VEVENT
DTSTART;TZID=America/Phoenix:20260523T093000
DTEND;TZID=America/Phoenix:20260523T140000
DTSTAMP:20260421T041452
CREATED:20260323T131740Z
LAST-MODIFIED:20260323T131740Z
UID:10060007-1779528600-1779544800@myflr.org
SUMMARY:GracePointe Church Annual-ish Car Show - Fort Valley
DESCRIPTION:Family friendly day of fun filled with cool cars\, food\, bounce houses and more! Come enter your vehicle to win unique trophies or just be spectator. $30/ vehicle registration ($20 for early registration) and spectators are FREE.
URL:https://myflr.org/event/gracepointe-church-annual-ish-car-show-fort-valley/
LOCATION:GracePointe Church\, 570 Woolfolk Road\, Fort Valley\, GA\, 31030\, United States
CATEGORIES:Georgia
ATTACH;FMTTYPE=image/jpeg:https://eadn-wc05-15902914.nxedge.io/wp-content/uploads/2026/03/IMG_5513.jpeg
END:VEVENT
BEGIN:VEVENT
DTSTART;TZID=America/Detroit:20260523T100000
DTEND;TZID=America/Detroit:20260523T150000
DTSTAMP:20260421T041452
CREATED:20260112T140504Z
LAST-MODIFIED:20260112T140504Z
UID:10057915-1779530400-1779548400@myflr.org
SUMMARY:CornerStone Chapel Building Fundraiser CAR SHOW - Forsyth
DESCRIPTION:We are hosting our second annual building fundraiser car show.\nLocal vendors \, food trucks and kid activates \, bake sale and raffles. \nOur church is growing \, praise GOD . We need a bigger church to share the word.
URL:https://myflr.org/event/cornerstone-chapel-building-fundraiser-car-show-forsyth/
LOCATION:Monroe County Recreation Department\, 100 Dan Pitts Drive\, Forsyth\, GA\, 31029\, United States
CATEGORIES:Georgia
ATTACH;FMTTYPE=image/png:https://eadn-wc05-15902914.nxedge.io/wp-content/uploads/2026/01/2026-flyer.png
ORGANIZER;CN="Cornerstone Chapel":MAILTO:Cornerstonechapel.forsyth@gmail.com
END:VEVENT
BEGIN:VEVENT
DTSTART;TZID=America/Detroit:20260617T190000
DTEND;TZID=America/Detroit:20260617T220000
DTSTAMP:20260421T041452
CREATED:20260306T171531Z
LAST-MODIFIED:20260306T171531Z
UID:10059538-1781722800-1781733600@myflr.org
SUMMARY:TOBYMAC: With special guests Zach Williams\, Seph Schlueter & Jamie MacDonald - Macon
DESCRIPTION:TICKETS ON SALE – FRI MAR 13 @ 12p ET
URL:https://myflr.org/event/tobymac-with-special-guests-zach-williams-seph-schlueter-jamie-macdonald-macon/
LOCATION:Atrium Health Amphitheater\, 3657 Eisenhower Pkwy\, Macon\, GA\, 31206\, United States
CATEGORIES:Featured,Georgia
ATTACH;FMTTYPE=image/jpeg:https://eadn-wc05-15902914.nxedge.io/wp-content/uploads/2026/03/TOBY_Summer26_1080x1080_061726.jpg
ORGANIZER;CN="Awakening Events":MAILTO:https://www.awakeningevents.com/email
END:VEVENT
BEGIN:VEVENT
DTSTART;TZID=America/Phoenix:20260731T180000
DTEND;TZID=America/Phoenix:20260731T200000
DTSTAMP:20260421T041452
CREATED:20260407T130722Z
LAST-MODIFIED:20260407T130722Z
UID:10060091-1785520800-1785528000@myflr.org
SUMMARY:Women in Truth: Abide 2026 Conference - Macon
DESCRIPTION:Join women from across the region for Women in Truth: Abide 2026\, a powerful two-day conference July 31–August 1 at the Macon Coliseum in Macon\, Georgia. Through dynamic biblical teaching\, spirit-filled worship\, and authentic community\, you’ll be invited to slow down\, lean in\, and truly abide in Christ (John 15:4). \nYou’ll hear from a lineup of nationally recognized speakers who bring truth\, encouragement\, and real-life application to every stage of your journey. From heartfelt storytelling to bold Gospel proclamation\, every moment is designed to help you leave rooted in Scripture\, refreshed in spirit\, and confident in your calling. \nFeaturing speakers like:\nAnnie F. Downs\nHosanna Wong\nChrystal Evans Hurst\nJess Connolly\nNatalie Runion\nCourtney Smallbone \nWorship led by:\nLeeland\nHope Darst\nWhether you’re coming with friends\, your church group\, or on your own\, this is a space where you will be seen\, encouraged\, and strengthened alongside women pursuing the same truth. Purchase your tickets today!
URL:https://myflr.org/event/women-in-truth-abide-2026-conference-macon/2026-07-31/
LOCATION:Macon Coliseum (Macon\, GA)\, 200 Coliseum Dr\, Macon\, GA\, 31217\, United States
CATEGORIES:Georgia
ATTACH;FMTTYPE=image/jpeg:https://eadn-wc05-15902914.nxedge.io/wp-content/uploads/2026/04/Women-in-Truth-Abide-2026-Social-Media-Graphic-100.jpeg
ORGANIZER;CN="Living Truth Collective":MAILTO:lacey@livingtruthco.com
END:VEVENT
END:VCALENDAR