
BEGIN:VCALENDAR
VERSION:2.0
PRODID:-//Family Life Radio - ECPv6.15.20//NONSGML v1.0//EN
CALSCALE:GREGORIAN
METHOD:PUBLISH
X-WR-CALNAME:Family Life Radio
X-ORIGINAL-URL:https://myflr.org
X-WR-CALDESC:Events for Family Life Radio
REFRESH-INTERVAL;VALUE=DURATION:PT1H
X-Robots-Tag:noindex
X-PUBLISHED-TTL:PT1H
BEGIN:VTIMEZONE
TZID:America/Phoenix
BEGIN:STANDARD
TZOFFSETFROM:-0700
TZOFFSETTO:-0700
TZNAME:MST
DTSTART:20220101T000000
END:STANDARD
END:VTIMEZONE
BEGIN:VEVENT
DTSTART;TZID=America/Phoenix:20231111T090000
DTEND;TZID=America/Phoenix:20231111T110000
DTSTAMP:20260421T150644
CREATED:20231009T172023Z
LAST-MODIFIED:20231009T172023Z
UID:10016362-1699693200-1699700400@myflr.org
SUMMARY:CELEBRATE LIFE-PRAYER WALK-CHICAGO\, IL
DESCRIPTION:CELEBRATE LIFE-PRAYER WALK\n\n\nMAKE HISTORY WITH US\n\n\n\n\nJOIN THOUSANDS OF PEOPLE AROUND THE NATION AS WE GATHER FOR OUR WEEK 40\, CELEBRATE LIFE PRAYER WALK. JOIN US THIS YEAR IN YOUR LOVE LIFE CITY ON NOVEMBER 11TH AS THE CHURCH OF AMERICA COMES TOGETHER AND CONTINUES TO DECLARE THAT WE LOVE LIFE! \n\n\n\n\nLOVE LIFE IS UNITING AND MOBILIZING THE CHURCH TO CREATE A CULTURE OF LOVE AND LIFE THAT WILL RESULT IN AN END TO ABORTION AND THE ORPHAN CRISIS. \n\n\nWHEN:  Saturday\, November 11th\, 2023 \nTIME: 9am-11am \nWHERE: 659 W. Washington Blvd. Chicago\, IL 60661 \n\n\n\n\n\n\n\n\n\nFAMILIES WELCOME\nRAIN OR SHINE\nARRIVE EARLY FOR PARKING\nWEAR YOUR BLUE “WE LOVE LIFE” SHIRT\, OR PURCHASE ONE ONSITE FOR A DONATION\n\n\n\n\n\n\n\n\n\n\nBRING A BOTTLE OF WATER TO STAY HYDRATED​\nNO PETS\, ONLY SERVICE DOGS PLEASE\nNO RESTROOMS ONSITE\nNO FIREARMS OR WEAPONS EXCEPT AS STATE AND LOCAL LAW ALLOW\n\nRegister for  WALK & CELEBRATION:  \nChicago@lovelife.org
URL:https://myflr.org/event/celebrate-life-prayer-walk-chicago-il/
LOCATION:659 W. Washington Blvd.\, 659 W. Washington Blvd.\, Chicago\, IL\, 60661\, United States
CATEGORIES:Iowa,Wisconsin
END:VEVENT
BEGIN:VEVENT
DTSTART;TZID=America/Phoenix:20231028T070000
DTEND;TZID=America/Phoenix:20231028T120000
DTSTAMP:20260421T150644
CREATED:20230506T141243Z
LAST-MODIFIED:20230506T141243Z
UID:10009445-1698476400-1698494400@myflr.org
SUMMARY:Galena Illinois Farmers Market
DESCRIPTION:2023 Outdoor Market runs every Saturday\,  May 20th thru  October.\nLocation: Galena City Hall Parking Lot\n101 Green Street
URL:https://myflr.org/event/galena-illinois-farmers-market/2023-10-28/
LOCATION:Galena City Hall (Galena\, IL)\, 101 Green St\, Galena\, IL\, 61036\, United States
CATEGORIES:Iowa,Wisconsin
END:VEVENT
BEGIN:VEVENT
DTSTART;TZID=America/Phoenix:20231024T080000
DTEND;TZID=America/Phoenix:20231024T170000
DTSTAMP:20260421T150644
CREATED:20231012T232322Z
LAST-MODIFIED:20231012T232725Z
UID:10016759-1698134400-1698166800@myflr.org
SUMMARY:CAN YOU HOST A TOY DRIVE COLLECTION BOX? Southwest Wisconsin
DESCRIPTION:I know we’re barely into autumn\, and there are still a ton of fall activities happening\, but Family Life Radio is already making plans for our annual Toy Drive so we can give the kids in our community an awesome Christmas this year.  We need churches and businesses to host a collection box during the month of November.  Can you help us out? \nAll you have to do is decorate a large box and put it in a public location.  We’ll even send you poster images you can print and use.  Then we’ll list the location on our website and direct people there to find where they can drop off donations.  If you can help promote it to your network\, even better! \nIf you’re located anywhere in SOUTHWEST WISCONSIN\, please email: emeyer@flc.org \n(Grant\, Crawford\, Layfette\, Iowa County)
URL:https://myflr.org/event/can-you-host-a-toy-drive-collection-box-southwest-wisconsin/
CATEGORIES:Featured,Iowa,Wisconsin
ATTACH;FMTTYPE=image/jpeg:https://eadn-wc05-15902914.nxedge.io/wp-content/uploads/2023/10/Toy-Drive-Social-1x1-1-1.jpg
END:VEVENT
BEGIN:VEVENT
DTSTART;TZID=America/Phoenix:20231022T163000
DTEND;TZID=America/Phoenix:20231022T183000
DTSTAMP:20260421T150644
CREATED:20230919T213528Z
LAST-MODIFIED:20230919T213528Z
UID:10015325-1697992200-1697999400@myflr.org
SUMMARY:Trunk or Treat-Dubuque
DESCRIPTION:Join us at the Bridge Christian Church in Dubuque\, IA on October 22nd from 4:30-6:30pm for an evening of fun going trunk or treating! There will be food\, games\, and crafts for all ages to enjoy.
URL:https://myflr.org/event/trunk-or-treat-dubuque/
LOCATION:The Bridge Christian Church (Dubuque\, IA)\, 395 W Nineth St.\, Dubuque\, IA\, 52001\, United States
CATEGORIES:Iowa
ATTACH;FMTTYPE=image/png:https://eadn-wc05-15902914.nxedge.io/wp-content/uploads/2023/09/Trunk-or-treat-1.png
END:VEVENT
BEGIN:VEVENT
DTSTART;TZID=America/Phoenix:20231015T110000
DTEND;TZID=America/Phoenix:20231015T153000
DTSTAMP:20260421T150644
CREATED:20230929T172141Z
LAST-MODIFIED:20230929T172141Z
UID:10015889-1697367600-1697383800@myflr.org
SUMMARY:St. Joseph’s Parish\, Sinsinawa\, WI\, Fall Festival & Mulligan
DESCRIPTION:Serving: Mulligan Stew\, Sandwiches\, Homemade Desserts & Refreshments. Silent Auction\, Games\, Cash Raffle\, Country Store & Cake Walk. Everyone Welcome! Proceeds go to St. Joseph’s Catholic School.
URL:https://myflr.org/event/st-josephs-parish-sinsinawa-wi-fall-festival-mulligan/
LOCATION:St. Joseph’s School (Hazel Green\, WI)\, 780 County Rd Z\, Hazel Green\, WI\, 53811\, United States
CATEGORIES:Iowa,Wisconsin
END:VEVENT
BEGIN:VEVENT
DTSTART;TZID=America/Phoenix:20230728T180000
DTEND;TZID=America/Phoenix:20230728T200000
DTSTAMP:20260421T150644
CREATED:20230519T135803Z
LAST-MODIFIED:20230519T135803Z
UID:10009506-1690567200-1690574400@myflr.org
SUMMARY:Summer Film Fest
DESCRIPTION:Join the Bridge Christian Church for our Summer Film Fest!\nJune 23rd at 6pm we will be showing Family Camp\nJuly 7th at 6pm we will be showing The Secret Life of Pets\nJuly 28th will be a 6pm screening of voter’s choice film \nPopcorn and ice cream will be served at each movie. Connect with us on Facebook for more event details.
URL:https://myflr.org/event/summer-film-fest/2023-07-28/
LOCATION:The Bridge Christian Church (Dubuque\, IA)\, 395 W Nineth St.\, Dubuque\, IA\, 52001\, United States
CATEGORIES:Iowa
ATTACH;FMTTYPE=image/png:https://eadn-wc05-15902914.nxedge.io/wp-content/uploads/2023/05/Summer-Film-Fest-Flyer-Flyer.png
END:VEVENT
BEGIN:VEVENT
DTSTART;TZID=America/Phoenix:20230507T160000
DTEND;TZID=America/Phoenix:20230507T173000
DTSTAMP:20260421T150644
CREATED:20230415T201156Z
LAST-MODIFIED:20230417T163517Z
UID:10008752-1683475200-1683480600@myflr.org
SUMMARY:Hymn Sing: Praising God in Song
DESCRIPTION:Join us for an old-fshioned Hymn Sing\, featuring hymns that praise God the Father. You’ll learn a little about each selection and then join others in lifting voices to the Lord. Accompanied by organ and piano. The Sing will be followed by refreshments in our fellowship center.
URL:https://myflr.org/event/hymn-sing-praising-god-in-song/
LOCATION:GracePoint Church (Dubuque\, IA)\, 3100 Windsor Dr\, Dubuque\, IA\, 52001\, United States
CATEGORIES:Iowa
END:VEVENT
BEGIN:VEVENT
DTSTART;TZID=America/Phoenix:20230408T100000
DTEND;TZID=America/Phoenix:20230408T120000
DTSTAMP:20260421T150644
CREATED:20230303T163655Z
LAST-MODIFIED:20230306T162543Z
UID:10007798-1680948000-1680955200@myflr.org
SUMMARY:Community Easter Egg Extravaganza
DESCRIPTION:Join the Bridge Christian Church Saturday\, April 8th from 10-12 for games\, crafts\, the Easter Story\, and an Easter egg hunt!
URL:https://myflr.org/event/community-easter-egg-extravaganza/
LOCATION:The Bridge Christian Church (Dubuque\, IA)\, 395 W Nineth St.\, Dubuque\, IA\, 52001\, United States
CATEGORIES:Iowa
ATTACH;FMTTYPE=image/png:https://eadn-wc05-15902914.nxedge.io/wp-content/uploads/2023/03/Community-Easter-Egg-Extravaganza-Instagram-Post-Square-1.png
END:VEVENT
END:VCALENDAR