
BEGIN:VCALENDAR
VERSION:2.0
PRODID:-//Family Life Radio - ECPv6.15.20//NONSGML v1.0//EN
CALSCALE:GREGORIAN
METHOD:PUBLISH
X-WR-CALNAME:Family Life Radio
X-ORIGINAL-URL:https://myflr.org
X-WR-CALDESC:Events for Family Life Radio
REFRESH-INTERVAL;VALUE=DURATION:PT1H
X-Robots-Tag:noindex
X-PUBLISHED-TTL:PT1H
BEGIN:VTIMEZONE
TZID:America/Phoenix
BEGIN:STANDARD
TZOFFSETFROM:-0700
TZOFFSETTO:-0700
TZNAME:MST
DTSTART:20250101T000000
END:STANDARD
END:VTIMEZONE
BEGIN:VTIMEZONE
TZID:America/Chicago
BEGIN:DAYLIGHT
TZOFFSETFROM:-0600
TZOFFSETTO:-0500
TZNAME:CDT
DTSTART:20250309T080000
END:DAYLIGHT
BEGIN:STANDARD
TZOFFSETFROM:-0500
TZOFFSETTO:-0600
TZNAME:CST
DTSTART:20251102T070000
END:STANDARD
BEGIN:DAYLIGHT
TZOFFSETFROM:-0600
TZOFFSETTO:-0500
TZNAME:CDT
DTSTART:20260308T080000
END:DAYLIGHT
BEGIN:STANDARD
TZOFFSETFROM:-0500
TZOFFSETTO:-0600
TZNAME:CST
DTSTART:20261101T070000
END:STANDARD
BEGIN:DAYLIGHT
TZOFFSETFROM:-0600
TZOFFSETTO:-0500
TZNAME:CDT
DTSTART:20270314T080000
END:DAYLIGHT
BEGIN:STANDARD
TZOFFSETFROM:-0500
TZOFFSETTO:-0600
TZNAME:CST
DTSTART:20271107T070000
END:STANDARD
END:VTIMEZONE
BEGIN:VEVENT
DTSTART;TZID=America/Phoenix:20260425T140000
DTEND;TZID=America/Phoenix:20260425T180000
DTSTAMP:20260421T070324
CREATED:20260312T170915Z
LAST-MODIFIED:20260402T191009Z
UID:10059554-1777125600-1777140000@myflr.org
SUMMARY:The Cure Church Shawnee Drive Thru Prayer
DESCRIPTION:The Cure Church Shawnee is hosting a drive thru prayer for the community for anybody who needs prayer\, including prayers for their own needs\, their loved ones\, and their pets.
URL:https://myflr.org/event/the-cure-drive-thru-prayer/2026-04-25/
CATEGORIES:Kansas,Missouri
ATTACH;FMTTYPE=image/png:https://eadn-wc05-15902914.nxedge.io/wp-content/uploads/2026/03/Cure-Church-Drive-Thru-Prayer.png
END:VEVENT
BEGIN:VEVENT
DTSTART;TZID=America/Phoenix:20260428T180000
DTEND;TZID=America/Phoenix:20260429T163000
DTSTAMP:20260421T070324
CREATED:20251010T001551Z
LAST-MODIFIED:20251010T001551Z
UID:10056960-1777399200-1777480200@myflr.org
SUMMARY:Faith Incorporated 2026 (Olathe)
DESCRIPTION:Join hundreds of like-minded professionals for two days filled with transformative keynotes\, inspiring panel discussions\, and powerful networking. This is your opportunity to dive into meaningful conversations on integrating faith in all aspects of work and leadership. \nThis is more than a conference\, it’s a community of people who believe in the power of faith to make a real difference in the world. You’ll leave inspired\, equipped\, and ready to bring new purpose and perspective to your work. \nLet’s make faith at work more than just a concept. Together\, we’ll advance the movement throughout the marketplace.
URL:https://myflr.org/event/faith-incorporated-2026-olathe/
LOCATION:Olathe Conference Center\, 10401 S Ridgeview Rd\, Olathe\, KS\, Olathe\, KS\, 66061\, United States
CATEGORIES:Kansas,Missouri
ATTACH;FMTTYPE=image/png:https://eadn-wc05-15902914.nxedge.io/wp-content/uploads/2025/10/UBN-Faith-Inc-Slide.png
ORGANIZER;CN="Unconventional Business Network":MAILTO:events@unconventionalbusiness.org
END:VEVENT
BEGIN:VEVENT
DTSTART;TZID=America/Chicago:20260429T190000
DTEND;TZID=America/Chicago:20260429T220000
DTSTAMP:20260421T070324
CREATED:20250618T181720Z
LAST-MODIFIED:20250618T181720Z
UID:10046224-1777489200-1777500000@myflr.org
SUMMARY:THIRD DAY 30TH ANNIVERSARY TOUR w/ ZACH WILLIAMS - KANSAS CITY
DESCRIPTION:WED APR 29\, 2026   7:00pm @ T-Mobile Center in Kansas City\, MO \nOne Band. One Tour. One Last Time. \n\nFor the first time in years\, Third Day is reuniting to celebrate 30 years of music\, memories\, and moments that shaped Christian music. Whether you saw them live or wore out their CDs\, this is the show you’ve been waiting for! A one-time-only tour to experience it all again\, one unforgettable night! Don’t miss your moment — grab your seat today! \nTickets and info @ http://bit.ly/4jRsmbu
URL:https://myflr.org/event/third-day-30th-anniversary-tour-w-zach-williams-kansas-city/
LOCATION:T-Mobile Center (Kansas City\, MO)\, 1407 Grand Boulevard\, Kansas City\, MO\, 64106\, United States
CATEGORIES:Featured,Kansas,Missouri
ATTACH;FMTTYPE=image/jpeg:https://eadn-wc05-15902914.nxedge.io/wp-content/uploads/2025/06/Kansas-City-ThirdDay_SP26_1080x1080_042926_generic.jpg
ORGANIZER;CN="Awakening Events":MAILTO:https://www.awakeningevents.com/email
END:VEVENT
BEGIN:VEVENT
DTSTART;VALUE=DATE:20260509
DTEND;VALUE=DATE:20260510
DTSTAMP:20260421T070324
CREATED:20260413T235623Z
LAST-MODIFIED:20260413T235623Z
UID:10060283-1778284800-1778371199@myflr.org
SUMMARY:Not on My Watch (Independence\, MO)
DESCRIPTION:Anti traffficking Symposium https://www.eventbrite.com/e/1986010153832?aff=oddtdtcreator
URL:https://myflr.org/event/not-on-my-watch-independence-mo/
LOCATION:Stoney Creek Hotel\, 18011 Bass Pro Drive\, Independence\, MO\, 64055\, United States
CATEGORIES:Kansas,Missouri
END:VEVENT
BEGIN:VEVENT
DTSTART;TZID=America/Phoenix:20260509T100000
DTEND;TZID=America/Phoenix:20260509T150000
DTSTAMP:20260421T070324
CREATED:20260312T170749Z
LAST-MODIFIED:20260312T170757Z
UID:10059576-1778320800-1778338800@myflr.org
SUMMARY:Joy Run 2026
DESCRIPTION:Joy Meadows\, a faith-based nonprofit dedicated to supporting children and families impacted by foster care\, invites the  Kansas City community to… \nJoy Run 2026 \n May 9\, 2026 \nZip KC in Bonner Springs\, KS.  \n  \nThis annual Foster Care Awareness Month event brings together individuals\, families\, churches\, and local organizations to honor foster families\, raise awareness for children in care\, and fund programs that provide stability\, healing\, and joy. \nParticipants can enjoy a 3.1-mile course with optional obstacles\, or take a 1.5-mile shortcut. The day also features music\, games\, lawn activities\, vendor booths\, and opportunities for families and teams to participate together. \nFoster families attend free of charge\, receiving race t-shirts\, special swag\, and a free food item. Joy Run is more than a race—it’s a celebration of community\, faith\, and the individuals who support children in foster care. \nAll proceeds help Joy Meadows provide year-round programs\, therapy\, and housing support to children and families navigating the foster care system.
URL:https://myflr.org/event/joy-run-2026/
LOCATION:Zip KC 12829 Loring Rd\, Bonner Springs\, KS\, Zip KC 12829 Loring Rd\, Bonner Springs\, KS\, 66012\, United States
CATEGORIES:Kansas,Missouri
ATTACH;FMTTYPE=image/png:https://eadn-wc05-15902914.nxedge.io/wp-content/uploads/2026/03/JoyRun2026.png
ORGANIZER;CN="Joy Meadows":MAILTO:joyrun@joymeadows.org
END:VEVENT
BEGIN:VEVENT
DTSTART;TZID=America/Phoenix:20260605T183000
DTEND;TZID=America/Phoenix:20260606T210000
DTSTAMP:20260421T070324
CREATED:20260115T192049Z
LAST-MODIFIED:20260115T192049Z
UID:10058074-1780684200-1780779600@myflr.org
SUMMARY:Resound Fest 2026 (Bethany\, MO)
DESCRIPTION:You’re invited by Family Life Radio… \nRESOUND FEST 2026\nJune 5 & 6\, 2026\nMiracle Hills Ranch Bethany\, Missouri\nFREE ADMISSION\, community worship\, multiple stades\, family friendly\, shopping\, ON-SITE CAMPING+ \nFeaturing…Micha Tyler\, Seph Schluteter\, Leanna Crawford \, Colton Dixon & Megan Woods. \n Also featuring Joe & Beth\, Break the Fall Untitled Worship+ \n  \nFor more information go to: www.ResoundFest.org
URL:https://myflr.org/event/resound-fest-2026-bethany-mo/
LOCATION:Miracle Hills Ranch\, 35556 West 200th Avenue\, Bethany\, MO\, 64424
CATEGORIES:Featured,Kansas,Missouri
ATTACH;FMTTYPE=image/jpeg:https://eadn-wc05-15902914.nxedge.io/wp-content/uploads/2026/01/ResoundFest-2026-Graphic.jpg
ORGANIZER;CN="Resound Fest":MAILTO:Office@ResoundFest.org
END:VEVENT
BEGIN:VEVENT
DTSTART;TZID=America/Chicago:20260617T190000
DTEND;TZID=America/Chicago:20260617T220000
DTSTAMP:20260421T070324
CREATED:20260410T143130Z
LAST-MODIFIED:20260410T172925Z
UID:10060268-1781722800-1781733600@myflr.org
SUMMARY:WORSHIP NIGHTS with PASSION and TAYA
DESCRIPTION:Worship Nights with Passion and Taya\n\n\n\nwith a message from Levi Lusko\nJun 17\, 2026 – 7:00PM\nVineyard Church\, 12300 NW Arrowhead Trafficway\, Kansas City\, MO \n\nTickets\n\n\n\n\n\n\nDeluxe\nDeluxe includes premium seating (seating in Deluxe section is General Admission)\, pre-show photo with Passion & Taya\, and early access to merch shopping. Deluxe doors open at 5 PM. Show starts at 7 PM. Must arrive by 5:15 PM to receive all benefits. \n\n\n\n\nEarly Entry\nBeat the rush and get early access to the best seats. Doors open at 5:45 PM. Event begins at 7:00PM. Seating is general admission – first come\, first served. Must arrive before 6:00 PM to receive early entry. \n\n\n\n\nGeneral Admission\nSeating is general admission – first come\, first served. Doors open at 6:00PM\, event begins at 7:00PM. \nInfo @ https://tprlive.co/products/worship-nights-with-passion-and-taya-with-a-message-from-levi-lusko-kansas-city-mo-june-17-2026 \nTickets @ https://www.ticketweb.com/event/worship-nights-with-passion-and-vineyard-church-tickets/14756743?pl=TPR&REFID=radio
URL:https://myflr.org/event/worship-nights-with-passion-and-taya/
LOCATION:Vinyard Church (Kansas City\, MO)\, 12300 NW Arrowhead Trafficway\, Kansas City\, MO\, 64165\, United States
CATEGORIES:Featured,Kansas,Missouri
ATTACH;FMTTYPE=image/jpeg:https://eadn-wc05-15902914.nxedge.io/wp-content/uploads/2026/04/PassionTaya_Worshipnights_KC__1080x1080_Kansas-City.jpg
ORGANIZER;CN="TPR Live":MAILTO:info@tprlive.co
END:VEVENT
BEGIN:VEVENT
DTSTART;TZID=America/Phoenix:20260716T180000
DTEND;TZID=America/Phoenix:20260716T200000
DTSTAMP:20260421T070324
CREATED:20260413T235807Z
LAST-MODIFIED:20260413T235807Z
UID:10060273-1784224800-1784232000@myflr.org
SUMMARY:Cross Training VBS (Lawrence\, KS)
DESCRIPTION:Join us this summer for a week of Cross Training where we’ll work together to prepare for the race ahead. Get ready to participate in fun competitions\, team meals\, athletic performances\, and so much more. Register now to join us and train for the gold!\nAges 5-12
URL:https://myflr.org/event/cross-training-vbs-lawrence-ks/2026-07-16/2/
LOCATION:802 W 22nd Terr Lawrence\, KS 66046\, 802 W 22ND TER\, LAWRENCE\, KS\, 66046\, United States
CATEGORIES:Kansas,Missouri
ATTACH;FMTTYPE=image/png:https://eadn-wc05-15902914.nxedge.io/wp-content/uploads/2026/04/Logo.png
ORGANIZER;CN="Redemption Hill Church":MAILTO:office@rhlawrence.org
END:VEVENT
END:VCALENDAR