
BEGIN:VCALENDAR
VERSION:2.0
PRODID:-//Family Life Radio - ECPv6.15.20//NONSGML v1.0//EN
CALSCALE:GREGORIAN
METHOD:PUBLISH
X-ORIGINAL-URL:https://myflr.org
X-WR-CALDESC:Events for Family Life Radio
REFRESH-INTERVAL;VALUE=DURATION:PT1H
X-Robots-Tag:noindex
X-PUBLISHED-TTL:PT1H
BEGIN:VTIMEZONE
TZID:America/Phoenix
BEGIN:STANDARD
TZOFFSETFROM:-0700
TZOFFSETTO:-0700
TZNAME:MST
DTSTART:20250101T000000
END:STANDARD
END:VTIMEZONE
BEGIN:VEVENT
DTSTART;VALUE=DATE:20260301
DTEND;VALUE=DATE:20260702
DTSTAMP:20260421T041636
CREATED:20260310T204538Z
LAST-MODIFIED:20260310T204538Z
UID:10059124-1772323200-1782950399@myflr.org
SUMMARY:Youth Camp Car Wash fundraiser
DESCRIPTION:Starting March 1st and going until July 1st\, Lone Star Suds is sponsoring our fundraising efforts for Youth Camp! 50% of every purchase made through the QR code or the website: https://crwsh.co/LSSFBC goes towards our efforts of sending our teens to Silver State Baptist Youth Camp this year. You can purchase as many washes as you want\, either for yourselves or as a gift for friends or family. Once purchased\, you will receive a text code to use at any location whenever you desire.\nBuy a wash and support a teen.
URL:https://myflr.org/event/youth-camp-car-wash-fundraiser/
CATEGORIES:Texas
ATTACH;FMTTYPE=image/png:https://eadn-wc05-15902914.nxedge.io/wp-content/uploads/2026/03/2026-Flyer.png
ORGANIZER;CN="faith baptist church":MAILTO:shawn@ihavefaith.com
END:VEVENT
BEGIN:VEVENT
DTSTART;TZID=America/Phoenix:20260430T190000
DTEND;TZID=America/Phoenix:20260430T213000
DTSTAMP:20260421T041636
CREATED:20260218T233143Z
LAST-MODIFIED:20260310T214241Z
UID:10059039-1777575600-1777584600@myflr.org
SUMMARY:Colton Dixon Presents The Love I Have For You Tour - Midland\, TX
DESCRIPTION:Get ready for an unforgettable night of music and inspiration as TPR and Family Life Radio presents… \nColton Dixon’s The Love I Have For You Tour hits 15 cities this spring!\nColton brings his signature energy and powerful vocals to the stage\, sharing new music along with fan favorites. \nHe’s joined by special guests Tasha Layton and Bodie\, making this a stacked lineup of worship and moments you’ll remember long after the night is over. Don’t miss it!\nThursday\, April 30\, 2026\nGolf Course Road Church of Christ-Midland\, TX\nSCHEDULE (subject to change):\n5:30pm – VIP Doors Open\n6:15pm – Early Entry Doors Open\n6:30pm – General Admission Doors Open\n7:00pm – Show begins \nGet your tickets HERE!
URL:https://myflr.org/event/colton-dixon-presents-the-love-i-have-for-you-tour-midland-tx/
LOCATION:Golf Course Road Church of Christ\, 3500 W Golf Course Road\, Midland\, TX\, 79703\, United States
CATEGORIES:Featured,Texas
ATTACH;FMTTYPE=image/jpeg:https://eadn-wc05-15902914.nxedge.io/wp-content/uploads/2026/02/Colton-Dixon_TLIHFY-Tour_Local_1080x1350_Midland.jpg
ORGANIZER;CN="TPR.":MAILTO:info@tprlive.co
END:VEVENT
BEGIN:VEVENT
DTSTART;TZID=America/Phoenix:20260503T190000
DTEND;TZID=America/Phoenix:20260503T213000
DTSTAMP:20260421T041636
CREATED:20260218T235418Z
LAST-MODIFIED:20260218T235418Z
UID:10059040-1777834800-1777843800@myflr.org
SUMMARY:Colton Dixon Presents The Love I Have For You Tour - Lubbock\, TX
DESCRIPTION:Get ready for an unforgettable night of music and inspiration as TPR and Family Life Radio presents… \nColton Dixon’s The Love I Have For You Tour hits 15 cities this spring!\nColton brings his signature energy and powerful vocals to the stage\, sharing new music along with fan favorites. \nHe’s joined by special guests Tasha Layton and Bodie\, making this a stacked lineup of worship and moments you’ll remember long after the night is over. Don’t miss it!\n\nSun May 3\, 2026\n7:00 PM (Doors 6:30 PM)\n\n\nCalvary Baptist Church \n5301 82nd St- Lubbock\, TX 79424\nSCHEDULE (subject to change):\n5:30pm – VIP Doors Open\n6:15pm – Early Entry Doors Open\n6:30pm – General Admission Doors Open\n7:00pm – Show begins \nGet your tickets HERE!
URL:https://myflr.org/event/colton-dixon-presents-the-love-i-have-for-you-tour-lubbock-tx/
LOCATION:Calvary Baptist Church Lubbock\, 5301 82nd St\, Lubbock\, TX\, 79424\, United States
CATEGORIES:Featured,Texas
ATTACH;FMTTYPE=image/jpeg:https://eadn-wc05-15902914.nxedge.io/wp-content/uploads/2026/02/Colton-Dixon_TLIHFY-Tour_Local_1080x1350_Lubbock.jpg
ORGANIZER;CN="TPR.":MAILTO:info@tprlive.co
END:VEVENT
BEGIN:VEVENT
DTSTART;TZID=America/Phoenix:20260508T190000
DTEND;TZID=America/Phoenix:20260508T210000
DTSTAMP:20260421T041636
CREATED:20260402T180233Z
LAST-MODIFIED:20260409T201342Z
UID:10060078-1778266800-1778274000@myflr.org
SUMMARY:Chonda Pierce - ChondaPalooza (Odessa)
DESCRIPTION:Chonda Pierce – ChondaPalooza\nA Girls Night Comedy Extravaganza\nFeaturing Chonda Pierce with Heather Lamb\nFRI MAY 8 @ 7pm \nVIP DOORS: 5:15PM\nEARLY ENTRY DOORS: 6PM\nREGULAR DOORS: 6:15PM\nSHOW: 7PM\nOdessa Christian Faith Center \nThis spring\, ChondaPalooza hits the road – a Girls Night Comedy Extravaganza of big laughs and even bigger fun! Chonda Pierce never disappoints with her signature wit\, and she’ll be joined by hilarious Heather Land and talented musician/speaker\, Karyn Williams. Together\, they’ll tackle topics of life\, family\, faith\, and everything in between with the kind of comedy that feels like a night out with your funniest friends. Grab your sisters\, your mom\, your neighbors\, or your whole small group\, and get ready for an evening full of joy! Brought to you by Family Life Radio and Awakening Foundation. \n  \nGET TICKETS HERE!
URL:https://myflr.org/event/chonda-pierce-chondapalooza-odessa/
LOCATION:Odessa Christian Faith Center\, 9000 Andrews Hwy\, Odessa\,\, TX\, 79765\, United States
CATEGORIES:Featured,Texas
ATTACH;FMTTYPE=image/jpeg:https://eadn-wc05-15902914.nxedge.io/wp-content/uploads/2026/04/ChondaP_SP26_MothersDay_1080x1080_050826_generic.jpg
END:VEVENT
BEGIN:VEVENT
DTSTART;TZID=America/Phoenix:20261107T190000
DTEND;TZID=America/Phoenix:20261107T220000
DTSTAMP:20260421T041636
CREATED:20260417T153814Z
LAST-MODIFIED:20260417T154119Z
UID:10060321-1794078000-1794088800@myflr.org
SUMMARY:ZACH WILLIAMS REVIVAL NIGHTS (Lubbock)
DESCRIPTION:Family Life Radio and Awakening Foundations presents\, \nZACH WILLIAMS REVIVAL NIGHTS\nWith special guests Cochran & Co. + Christian Hohn\nSAT NOV 7 @ 7:00p\nThe Buddy Holly Hall in Lubbock\, TX \nSHOW ON SALE – FRI APR 24 @ 12p ET \nTICKETING LINK 
URL:https://myflr.org/event/zach-williams-revival-nights-with-special-guests-cochran-co-christian-hohn/
LOCATION:Buddy Holly Hall\, 1300 Mac Davis Ln\, Lubboc\,k\, 79401\, United States
CATEGORIES:Featured,Texas
ATTACH;FMTTYPE=image/jpeg:https://eadn-wc05-15902914.nxedge.io/wp-content/uploads/2026/04/ZachWilliams_FA26_1080x1080_110726_Nov-7.2026-LUBBOCKgeneric.jpg
END:VEVENT
END:VCALENDAR