
BEGIN:VCALENDAR
VERSION:2.0
PRODID:-//Family Life Radio - ECPv6.15.20//NONSGML v1.0//EN
CALSCALE:GREGORIAN
METHOD:PUBLISH
X-WR-CALNAME:Family Life Radio
X-ORIGINAL-URL:https://myflr.org
X-WR-CALDESC:Events for Family Life Radio
REFRESH-INTERVAL;VALUE=DURATION:PT1H
X-Robots-Tag:noindex
X-PUBLISHED-TTL:PT1H
BEGIN:VTIMEZONE
TZID:America/Phoenix
BEGIN:STANDARD
TZOFFSETFROM:-0700
TZOFFSETTO:-0700
TZNAME:MST
DTSTART:20240101T000000
END:STANDARD
END:VTIMEZONE
BEGIN:VEVENT
DTSTART;TZID=America/Phoenix:20250403T190000
DTEND;TZID=America/Phoenix:20250403T203000
DTSTAMP:20260421T122348
CREATED:20250402T191443Z
LAST-MODIFIED:20250402T191443Z
UID:10040414-1743706800-1743712200@myflr.org
SUMMARY:Jason Gray-Better Together Live Recording Tour (Platteville\,WI)
DESCRIPTION:516NOW and Community Church are excited to host Jason Gray in concert on April 3\, 2025 as part of his Better Together Live Recording Tour\, where he travels across the country\, recording live music in churches\, coffeehouses\, and living rooms and\, in his words\, “capturing that special magic that only happens when the songs come alive in the presence of the people they were written for.” \nWe invite you to be a part of this unforgettable experience! Whether you’re a long-time fan or discovering his music for the first time\, this is an event that promises to both entertain and inspire. Get your tickets now and join us for a night of uplifting worship with Jason Gray at the Better Together Concert!
URL:https://myflr.org/event/jason-gray-better-together-live-recording-tour-plattevillewi/
LOCATION:Community Church\, 300 Pioneer Rd E\, Platteville\, WI\, 53818\, United States
CATEGORIES:Iowa,Wisconsin
ATTACH;FMTTYPE=image/png:https://eadn-wc05-15902914.nxedge.io/wp-content/uploads/2025/03/Jason-Gray-Concert-Flyer-social-share.png
ORGANIZER;CN="516NOW":MAILTO:info@516now.org
END:VEVENT
END:VCALENDAR