
BEGIN:VCALENDAR
VERSION:2.0
PRODID:-//Family Life Radio - ECPv6.15.20//NONSGML v1.0//EN
CALSCALE:GREGORIAN
METHOD:PUBLISH
X-WR-CALNAME:Family Life Radio
X-ORIGINAL-URL:https://myflr.org
X-WR-CALDESC:Events for Family Life Radio
REFRESH-INTERVAL;VALUE=DURATION:PT1H
X-Robots-Tag:noindex
X-PUBLISHED-TTL:PT1H
BEGIN:VTIMEZONE
TZID:America/Phoenix
BEGIN:STANDARD
TZOFFSETFROM:-0700
TZOFFSETTO:-0700
TZNAME:MST
DTSTART:20230101T000000
END:STANDARD
END:VTIMEZONE
BEGIN:VEVENT
DTSTART;TZID=America/Phoenix:20240518T070000
DTEND;TZID=America/Phoenix:20240518T090000
DTSTAMP:20260421T095900
CREATED:20240318T162827Z
LAST-MODIFIED:20240318T162827Z
UID:10020942-1716015600-1716022800@myflr.org
SUMMARY:Abba House Divine Gems 5k walk/run
DESCRIPTION:Abba House hosts 5k walk/run as our annual fundraiser for our running community. All proceeds go back into the women and children we serve. We will have an official race timer and 1st 2nd and 3rd place medals.
URL:https://myflr.org/event/abba-house-divine-gems-5k-walk-run/
LOCATION:Perry Welcome Center (Perry\, GA)\, 101 Courtney Hodges Blvd\, Perry\, GA\, 31069\, United States
CATEGORIES:Georgia
ATTACH;FMTTYPE=image/png:https://eadn-wc05-15902914.nxedge.io/wp-content/uploads/2024/03/Freedom.png
ORGANIZER;CN="Abba House":MAILTO:Publicrelations@abbahouse.com
END:VEVENT
END:VCALENDAR