
BEGIN:VCALENDAR
VERSION:2.0
PRODID:-//Family Life Radio - ECPv6.15.20//NONSGML v1.0//EN
CALSCALE:GREGORIAN
METHOD:PUBLISH
X-WR-CALNAME:Family Life Radio
X-ORIGINAL-URL:https://myflr.org
X-WR-CALDESC:Events for Family Life Radio
REFRESH-INTERVAL;VALUE=DURATION:PT1H
X-Robots-Tag:noindex
X-PUBLISHED-TTL:PT1H
BEGIN:VTIMEZONE
TZID:America/Phoenix
BEGIN:STANDARD
TZOFFSETFROM:-0700
TZOFFSETTO:-0700
TZNAME:MST
DTSTART:20240101T000000
END:STANDARD
END:VTIMEZONE
BEGIN:VEVENT
DTSTART;TZID=America/Phoenix:20251115T190000
DTEND;TZID=America/Phoenix:20251115T210000
DTSTAMP:20260421T163744
CREATED:20251010T002635Z
LAST-MODIFIED:20251010T002635Z
UID:10056607-1763233200-1763240400@myflr.org
SUMMARY:Soulful Sounds in Lubbock
DESCRIPTION:LUBBOCK\, READY FOR A NIGHT OF SOULFUL FUN & VINTAGE GLAMOUR? \nStep into a world where the Harlem Renaissance meets today’s vibe with the sensational Music & Comedy of Acute Inflections! \nAs seen on HBO and Amazon\, this NYC-based Jazzy R&B duo delivers a sound fans of Erykah Badu and Billie Holiday will adore\, with a fresh twist of timeless soul and modern charm. \nWhether you’re in Gatsby glam or your own stylish flair\, get ready for a Roaring 20s revival with a modern unplugged edge. Expect dynamic duets\, clever comedy\, and captivating freestyles with the chemistry of Lucy and Ricky. \nOver 30\,000 fans have attended their sold-out shows across the U.S. and abroad\, and with hundreds of five-star reviews\, it’s clear this experience is striking a chord with audiences everywhere. \nTickets are selling quickly for this playful couple’s performance on November 15th at Cactus Theater. \nIn Lubbock’s vibrant Depot District\, this magnificently restored 1938 Art Deco venue\, known for its warm acoustics and intimate charm\, is the perfect setting for a Harlem Nights-inspired evening of soulful music\, storytelling\, and sophistication! \n* Your purchase helps support the Renaissance Youth Center\, a South Bronx-based charity that empowers inner-city youth through music education\, after-school programs\, and tutoring. *
URL:https://myflr.org/event/soulful-sounds-in-lubbock-2/
LOCATION:Cactus Theater\, 1812 Buddy Holly Ave\, Lubbock\, TX\, 79401\, United States
CATEGORIES:Texas
ATTACH;FMTTYPE=image/jpeg:https://eadn-wc05-15902914.nxedge.io/wp-content/uploads/2025/09/Soulful-Sounds-in-Lubbock.jpeg
ORGANIZER;CN="Acute Inflections":MAILTO:info@acuteinflections.com
END:VEVENT
END:VCALENDAR