
BEGIN:VCALENDAR
VERSION:2.0
PRODID:-//Family Life Radio - ECPv6.15.20//NONSGML v1.0//EN
CALSCALE:GREGORIAN
METHOD:PUBLISH
X-WR-CALNAME:Family Life Radio
X-ORIGINAL-URL:https://myflr.org
X-WR-CALDESC:Events for Family Life Radio
REFRESH-INTERVAL;VALUE=DURATION:PT1H
X-Robots-Tag:noindex
X-PUBLISHED-TTL:PT1H
BEGIN:VTIMEZONE
TZID:America/Phoenix
BEGIN:STANDARD
TZOFFSETFROM:-0700
TZOFFSETTO:-0700
TZNAME:MST
DTSTART:20230101T000000
END:STANDARD
END:VTIMEZONE
BEGIN:VEVENT
DTSTART;TZID=America/Phoenix:20260220T183000
DTEND;TZID=America/Phoenix:20260220T203000
DTSTAMP:20260420T073713
CREATED:20260128T164038Z
LAST-MODIFIED:20260128T164038Z
UID:10058075-1771612200-1771619400@myflr.org
SUMMARY:Bog Girl Boot Camp Women's Conference
DESCRIPTION:Big Girl Boot Camp women’s conference will be held Friday\, February 20th @ 6:30PM and Saturday\, February 21st @ 9:30AM. Get ready to receive YOUR personal marching orders from Christ….Our…Commander and chief.
URL:https://myflr.org/event/bog-girl-boot-camp-womens-conference/2026-02-20/2/
LOCATION:AJ First Assembly of God (Apache Junction\, AZ)\, 651 N Ocotillo Dr.\, Apache Junction\, AZ\, 85120\, United States
CATEGORIES:Arizona
ATTACH;FMTTYPE=image/jpeg:https://eadn-wc05-15902914.nxedge.io/wp-content/uploads/2026/01/AJ-First-Womens-Conference-2026.jpg
ORGANIZER;CN="AJ First Assembly of God":MAILTO:CarterYouthTemp@gmail.com
END:VEVENT
BEGIN:VEVENT
DTSTART;VALUE=DATE:20251212
DTEND;VALUE=DATE:20251215
DTSTAMP:20260420T073713
CREATED:20251112T202625Z
LAST-MODIFIED:20251112T202625Z
UID:10057275-1765497600-1765756799@myflr.org
SUMMARY:The Singing Christmas Tree
DESCRIPTION:Come and experience seasonal music and a drama\, featuring the AJ First Choir on the Singing Christmas Tree. Fun for the whole Family! \nNightly shows from 6-8pm
URL:https://myflr.org/event/the-singing-christmas-tree-2/
LOCATION:651 N. Ocotillo Dr. Apache Junction AZ 85120\, 651 N Ocotillo Dr.\, Apache Junction\, AZ\, 85120\, United States
CATEGORIES:Arizona
ATTACH;FMTTYPE=image/png:https://eadn-wc05-15902914.nxedge.io/wp-content/uploads/2025/11/Christmas-2025-Banner.png
ORGANIZER;CN="AJ First Assembly of God":MAILTO:CarterYouthTemp@gmail.com
END:VEVENT
BEGIN:VEVENT
DTSTART;TZID=America/Phoenix:20251012T080000
DTEND;TZID=America/Phoenix:20251102T170000
DTSTAMP:20260420T073713
CREATED:20250926T200330Z
LAST-MODIFIED:20250926T200330Z
UID:10056595-1760256000-1762102800@myflr.org
SUMMARY:CALLING ALL SINGERS
DESCRIPTION:Calling all Singers\nWhether you’re a seasoned vocalist or just love to sing\, you are invited to be a part of our incredible choir family.\nJoin us on the Singing Christmas tree this year as we celebrate the birth of our Savior Jesus in Music and Drama.\nAges 15-90 welcome!\nRehearsals begin Sunday Sept 28 from 3:45-6:00PM! \nContact Laura Lindstrom – laura@ajfirst.org\n651 N Ocotillo Dr\, Apache Junction\, AZ
URL:https://myflr.org/event/calling-all-singers/
LOCATION:651 N. Ocotillo Dr. Apache Junction AZ 85120\, 651 N Ocotillo Dr.\, Apache Junction\, AZ\, 85120\, United States
CATEGORIES:Arizona
ATTACH;FMTTYPE=image/png:https://eadn-wc05-15902914.nxedge.io/wp-content/uploads/2025/09/FINAL-Call-for-Singers-scaled.png
ORGANIZER;CN="AJ First Assembly of God":MAILTO:CarterYouthTemp@gmail.com
END:VEVENT
BEGIN:VEVENT
DTSTART;TZID=America/Phoenix:20250921T180000
DTEND;TZID=America/Phoenix:20250921T193000
DTSTAMP:20260420T073713
CREATED:20250730T000453Z
LAST-MODIFIED:20250730T000453Z
UID:10049205-1758477600-1758483000@myflr.org
SUMMARY:Worship thru the Decades
DESCRIPTION:Join us for a FREE family-friendly evening of music and inspiration as we take a musical journey showcasing uplifting and inspiring Christian songs through the decades.
URL:https://myflr.org/event/worship-thru-the-decades/
LOCATION:651 N. Ocotillo Dr. Apache Junction AZ 85120\, 651 N Ocotillo Dr.\, Apache Junction\, AZ\, 85120\, United States
CATEGORIES:Arizona
ATTACH;FMTTYPE=image/png:https://eadn-wc05-15902914.nxedge.io/wp-content/uploads/2025/07/Worship-Decades-4-x-5-Front-FINAL.png
ORGANIZER;CN="AJ First Assembly of God":MAILTO:CarterYouthTemp@gmail.com
END:VEVENT
BEGIN:VEVENT
DTSTART;VALUE=DATE:20250411
DTEND;VALUE=DATE:20250414
DTSTAMP:20260420T073713
CREATED:20250402T165843Z
LAST-MODIFIED:20250402T165843Z
UID:10040392-1744329600-1744588799@myflr.org
SUMMARY:Come Back to the Table: Easter Encounter
DESCRIPTION:COME BACK TO THE TABLE—EASTER ENCOUNTER is going to be a wonderful family event. Invite your family\, friends and neighbors! This is a FREE event! Let’s make this an encounter to remember! \nIt will be held on: \nFriday\, April 11\, at 6:30pm; \nSaturday\, April 12\, at 3:30pm \nPalm Sunday\, April 13\, at 9:30am. \n 
URL:https://myflr.org/event/come-back-to-the-table-easter-encounter/
LOCATION:651 N. Ocotillo Dr. Apache Junction AZ 85120\, 651 N Ocotillo Dr.\, Apache Junction\, AZ\, 85120\, United States
CATEGORIES:Arizona
ATTACH;FMTTYPE=image/png:https://eadn-wc05-15902914.nxedge.io/wp-content/uploads/2025/04/ajfirst-banner.png
ORGANIZER;CN="AJ First Assembly of God":MAILTO:CarterYouthTemp@gmail.com
END:VEVENT
BEGIN:VEVENT
DTSTART;TZID=America/Phoenix:20241031T170000
DTEND;TZID=America/Phoenix:20241031T203000
DTSTAMP:20260420T073713
CREATED:20240708T220859Z
LAST-MODIFIED:20240708T220859Z
UID:10030701-1730394000-1730406600@myflr.org
SUMMARY:AJ First Trunk or Treat
DESCRIPTION:Free to the community! A safe place to trick or treat with your family. Free candy\, cotton candy\, games\, give aways\, DJ\, bounce houses\, food trucks\, prayer booth\, and more!
URL:https://myflr.org/event/aj-first-trunk-or-treat/
LOCATION:AJ First Assembly of God (Apache Junction\, AZ)\, 651 N Ocotillo Dr.\, Apache Junction\, AZ\, 85120\, United States
CATEGORIES:Arizona
ORGANIZER;CN="AJ First Assembly of God":MAILTO:CarterYouthTemp@gmail.com
END:VEVENT
END:VCALENDAR