
BEGIN:VCALENDAR
VERSION:2.0
PRODID:-//Family Life Radio - ECPv6.15.20//NONSGML v1.0//EN
CALSCALE:GREGORIAN
METHOD:PUBLISH
X-ORIGINAL-URL:https://myflr.org
X-WR-CALDESC:Events for Family Life Radio
REFRESH-INTERVAL;VALUE=DURATION:PT1H
X-Robots-Tag:noindex
X-PUBLISHED-TTL:PT1H
BEGIN:VTIMEZONE
TZID:America/Phoenix
BEGIN:STANDARD
TZOFFSETFROM:-0700
TZOFFSETTO:-0700
TZNAME:MST
DTSTART:20240101T000000
END:STANDARD
END:VTIMEZONE
BEGIN:VEVENT
DTSTART;TZID=America/Phoenix:20250711T181500
DTEND;TZID=America/Phoenix:20250711T220000
DTSTAMP:20260420T081408
CREATED:20250702T222555Z
LAST-MODIFIED:20250702T222555Z
UID:10048394-1752257700-1752271200@myflr.org
SUMMARY:Britt Nicole in concert!
DESCRIPTION:Britt Nicole is coming back to Phoenix again! July 11th at The Grove Church come see Britt\, Brooke Robertson\, and We are Vessel. Angel Army and Rockin’ Worship Boot Camp are hosting this special concert and others in an effort to raise up the next generation of Christian Artists at their 3 day intensive Boot camp for young adults ages 13-24 years old who are interested in pursuing music as a career and calling! \nFind out more and register at https://www.rockinworshipaz.com/ \nDoors open at 5:45pm with a show time of 6:15pm \nTickets are $10 online or $15 at the door
URL:https://myflr.org/event/britt-nicole-in-concert/
LOCATION:The Grove (Chandler\, AZ)\, 2777 S Gilbert Rd\, Chandler\, AZ\, 85286\, United States
CATEGORIES:Arizona,Featured
ATTACH;FMTTYPE=image/jpeg:https://eadn-wc05-15902914.nxedge.io/wp-content/uploads/2025/07/Rockin-Worship-3-Britt.jpeg
ORGANIZER;CN="Angel Army Minstries":MAILTO:Rockinworshipaz.com
END:VEVENT
BEGIN:VEVENT
DTSTART;VALUE=DATE:20250709
DTEND;VALUE=DATE:20250712
DTSTAMP:20260420T081408
CREATED:20250701T033641Z
LAST-MODIFIED:20250701T033934Z
UID:10047641-1752019200-1752278399@myflr.org
SUMMARY:Rockin’ Worship Boot Camp
DESCRIPTION:This 3 day Bootcamp experience will challenge you musically\, help you grow spiritually and will show you a side of the industry where mentorship can be scarce… the business side! \nWhether your musical passion is for Rock\, Rap\, Pop or Worship\, we have something for you! This is your chance to hear from and learn from some of today’s top touring\, award winning\, Christian artists! \n\nStart each day with morning worship and devotions\nHone your skills in the instrument specific breakout sessions\nMeet like minded musicians and bond during free time\nSee a side of each artist and get some extra industry questions answered each day during special interviews and meet and greets\nHear artists share their powerful\, personal testimonies about how God has moved in their lives and their careers\nEnjoy live concerts each night and cap everything off with group worship circles afterward!\n\nCome make new friends\, meet new band mates\, form the next big worship group\, collaborate with others from afar… just don’t miss this amazing opportunity!!! \n  \n\n\n\n\nDATES & TIMES\n\n\n\n\nWednesday\, Thursday and Friday BASIC Schedule \n8:30am – Check in / snacks\n9:00am – Morning worship\n9:15 am – Devotions\n9:40am – Devo breakouts \n10:15am – 9:45pm \n\nMorning – Multiple All Camp learning sessions\nLunch\nAfternoon – Instrument Specific breakout sessions\nFree time/jam time and other awesome options\nArtist panel interviews\nQ&A\nBootcamp portion ends @ 5:00 pm\nHang time / food available for purchase\nConcert Doors open @ 6:pm\nConcert (Included for RWBC Students\, also open to the public – Purchase tickets in advance or at the door)\nArtist meet and greet / photo ops\n\n10:00pm – Head home… campus clear \n\n\n\n\n\n\n\n\nLOCATION:   THE GROVE – 2777 S Gilbert Rd\, Chandler\, AZ 85286
URL:https://myflr.org/event/rockin-worship-boot-camp/
LOCATION:The Grove (Chandler\, AZ)\, 2777 S Gilbert Rd\, Chandler\, AZ\, 85286\, United States
CATEGORIES:Arizona,Featured
ATTACH;FMTTYPE=image/jpeg:https://eadn-wc05-15902914.nxedge.io/wp-content/uploads/2025/06/IMG_2336.jpeg
ORGANIZER;CN="Angel Army Minstries":MAILTO:Rockinworshipaz.com
END:VEVENT
END:VCALENDAR