
BEGIN:VCALENDAR
VERSION:2.0
PRODID:-//Family Life Radio - ECPv6.15.20//NONSGML v1.0//EN
CALSCALE:GREGORIAN
METHOD:PUBLISH
X-WR-CALNAME:Family Life Radio
X-ORIGINAL-URL:https://myflr.org
X-WR-CALDESC:Events for Family Life Radio
REFRESH-INTERVAL;VALUE=DURATION:PT1H
X-Robots-Tag:noindex
X-PUBLISHED-TTL:PT1H
BEGIN:VTIMEZONE
TZID:America/Phoenix
BEGIN:STANDARD
TZOFFSETFROM:-0700
TZOFFSETTO:-0700
TZNAME:MST
DTSTART:20230101T000000
END:STANDARD
END:VTIMEZONE
BEGIN:VEVENT
DTSTART;TZID=America/Phoenix:20251107T183000
DTEND;TZID=America/Phoenix:20251107T230000
DTSTAMP:20260421T193238
CREATED:20251007T173632Z
LAST-MODIFIED:20251007T173632Z
UID:10056951-1762540200-1762556400@myflr.org
SUMMARY:Answers for Life Annual Fundraising Banquet with Jason Crabb
DESCRIPTION:Answers for Life 2025 Annual Fundraising BanquetTheme: Holdin’ on to Hope \nDate: Friday\, November 7\, 2025Time: 6:30 PM (Doors open at 5:45 PM)Location: The Westin La Paloma Resort and Spa3800 East Sunrise Drive\, Tucson\, AZ 85718 \nFeaturing: Award-winning singer/songwriter Jason Crabb \nJoin us for an inspiring evening of fellowship\, worship\, and hope as we support young women and couples facing life-changing decisions. Together\, we can offer the anchor of hope they need to choose life. \nTable Sponsorships: $650 (Seats 10–12)Limited seating for unhosted tables available. \nRSVP:📞 (520) 429-6159✉️ banqueterservationsafl@gmail.com \nPresented by: Answers for Life Pregnancy Center
URL:https://myflr.org/event/answers-for-life-annual-fundraising-banquet-with-jason-crabb/
LOCATION:The Westin La Paloma\, 3800 E Sunrise Drive\, Tucson\, AZ\, 85718\, United States
CATEGORIES:Arizona,Featured
ATTACH;FMTTYPE=image/png:https://eadn-wc05-15902914.nxedge.io/wp-content/uploads/2025/10/Screenshot-2025-10-07-at-10.34.53-AM.png
ORGANIZER;CN="Answers for Life Pregnancy Center":MAILTO:answersforlifetucson@gmail.com
END:VEVENT
BEGIN:VEVENT
DTSTART;TZID=America/Phoenix:20241108T183000
DTEND;TZID=America/Phoenix:20241108T220000
DTSTAMP:20260421T193238
CREATED:20240927T204247Z
LAST-MODIFIED:20240927T204247Z
UID:10036365-1731090600-1731103200@myflr.org
SUMMARY:“Beauty For Ashes” Annual Fundraising Banquet for Answers for Life
DESCRIPTION:November 8\, 2024 (Save the date!) \nDear Champions for Life\, \nOne of the most beautiful themes revealed in scripture is when our redeeming God takes a broken life\, breathes new life into it\, restoring what had been ashes into beauty\, purpose\, and joy. In fact\, this is the promise for all God’s people from Isaiah 61:3: \n“To all who mourn in Israel He will give: beauty for ashes; joy instead of mourning; praise instead of heaviness. God has planted them like strong and graceful oaks for His own glory.” \nAt Answers for Life we are privileged to daily see God doing this very work as we minister to our many clients in their circumstances. Whether it’s providing prenatal care\, material assistance or options counseling\, we share the truths of scripture\, and watch God at work. \nWe are thrilled to announce that our featured artist for this year’s fundraising banquet “Beauty for Ashes” is well-known singer/songwriter Nicole C. Mullen. Nicole has been through difficult times and is unafraid to be vulnerable and transparent with her audience. “I want people to be healed\, released\, empowered\, and encouraged. I want them to see the power of Redemption and the relevancy of the Scriptures in our everyday living.”  Our Beauty for Ashes Fundraising Banquet will be on Friday\, November 8th at 6:30 p.m. (doors open at 5:45pm) at The Westin La Paloma Resort & Spa\, 3800 E Sunrise Dr\, Tucson\, AZ 85718. \nWould you prayerfully consider becoming a table host? Hosting a table is quite simple! Invite friends and family who have a heart for our ministry. The cost of a table is $650\, covered by the host\, which pays for the meal for you and your 10-12 guests. They will have an opportunity to hear about the exciting things the Lord is doing through Answers for Life and donate at that time. Thank you for your consideration in being a host this year. To reserve your table\, please send us the form on the link below or call Kathy at (520) 906-2560. \nI encourage you to partner with us in our annual “Beauty for Ashes” Fundraising Banquet. You and your guests will be blessed as you enjoy the evening and hear songs and stories of God’s redeeming work. \nIn His Service\, \nKathy Shechter \nDevelopment Director
URL:https://myflr.org/event/beauty-for-ashes-annual-fundraising-banquet-for-answers-for-life/
LOCATION:The Westin La Paloma\, 3800 E Sunrise Drive\, Tucson\, AZ\, 85718\, United States
CATEGORIES:Arizona,Featured
ATTACH;FMTTYPE=application/pdf:https://eadn-wc05-15902914.nxedge.io/wp-content/uploads/2024/09/Nicole-Mullen-flyer.pdf
ORGANIZER;CN="Answers for Life Pregnancy Center":MAILTO:answersforlifetucson@gmail.com
END:VEVENT
END:VCALENDAR