
BEGIN:VCALENDAR
VERSION:2.0
PRODID:-//Family Life Radio - ECPv6.15.20//NONSGML v1.0//EN
CALSCALE:GREGORIAN
METHOD:PUBLISH
X-ORIGINAL-URL:https://myflr.org
X-WR-CALDESC:Events for Family Life Radio
REFRESH-INTERVAL;VALUE=DURATION:PT1H
X-Robots-Tag:noindex
X-PUBLISHED-TTL:PT1H
BEGIN:VTIMEZONE
TZID:America/Phoenix
BEGIN:STANDARD
TZOFFSETFROM:-0700
TZOFFSETTO:-0700
TZNAME:MST
DTSTART:20230101T000000
END:STANDARD
END:VTIMEZONE
BEGIN:VEVENT
DTSTART;TZID=America/Phoenix:20260322T170000
DTEND;TZID=America/Phoenix:20260322T200000
DTSTAMP:20260421T103650
CREATED:20251208T191701Z
LAST-MODIFIED:20251208T191701Z
UID:10057784-1774198800-1774209600@myflr.org
SUMMARY:Aspire Women's Event
DESCRIPTION:Aspire Women’s Events is a one-night women’s event full of laughter\, learning & worship with Diana Mescher\, Dorie McLemore & Jaime Jamgochian taking the stage. 1 Bible Teacher – 1 Comedian – 1 Worship Leader. Come with your churches’ women’s ministry\, family\, friends\, and neighbors! Join us for an amazing ladies’ night out! \nTICKETS: $30.00 GA Individual – $40.00 VIP Reserved Individual – Call for discounted GA & VIP Group Ticket pricing for 10+ call (480) 812-1100. Ticket prices increase at the door. \nASPIRE Women’s Events – www.aspirewomensevents.com\nASPIRE by Extreme Faith Productions: We are a non-profit ministry that promotes Christian concerts and events throughout the USA. We are based in Arizona and produce between 100 and 150 events per year. www.extremefaithproductions.com.
URL:https://myflr.org/event/aspire-womens-event-9/
LOCATION:Summit Community Church (Buckeye\, AZ)\, 20555 W. Roosevelt St.\, Buckeye\, AZ\, 85326\, United States
CATEGORIES:Arizona
ATTACH;FMTTYPE=image/png:https://eadn-wc05-15902914.nxedge.io/wp-content/uploads/2025/12/Aspire-Banner.png
ORGANIZER;CN="Aspire Women&#8217%3Bs Events":MAILTO:info@aspirewomensevents.com
END:VEVENT
BEGIN:VEVENT
DTSTART;TZID=America/Phoenix:20260321T180000
DTEND;TZID=America/Phoenix:20260321T210000
DTSTAMP:20260421T103650
CREATED:20251208T191250Z
LAST-MODIFIED:20251208T191250Z
UID:10057783-1774116000-1774126800@myflr.org
SUMMARY:Aspire Women's Event
DESCRIPTION:Aspire Women’s Events is a one-night women’s event full of laughter\, learning & worship with Diana Mescher\, Dorie McLemore & Jaime Jamgochian taking the stage. 1 Bible Teacher – 1 Comedian – 1 Worship Leader. Come with your churches’ women’s ministry\, family\, friends\, and neighbors! Join us for an amazing ladies’ night out! \nTICKETS: $30.00 GA Individual – $40.00 VIP Reserved Individual – Call for discounted GA & VIP Group Ticket pricing for 10+ call (480) 812-1100. Ticket prices increase at the door. \nASPIRE Women’s Events – www.aspirewomensevents.com\nASPIRE by Extreme Faith Productions: We are a non-profit ministry that promotes Christian concerts and events throughout the USA. We are based in Arizona and produce between 100 and 150 events per year. www.extremefaithproductions.com.
URL:https://myflr.org/event/aspire-womens-event-8/
LOCATION:Moon Valley Bible Church\, 15602 N. 7th St.\, Phoenix\, 85022\, United States
CATEGORIES:Arizona
ATTACH;FMTTYPE=image/png:https://eadn-wc05-15902914.nxedge.io/wp-content/uploads/2025/12/Aspire-Banner.png
ORGANIZER;CN="Aspire Women&#8217%3Bs Events":MAILTO:info@aspirewomensevents.com
END:VEVENT
BEGIN:VEVENT
DTSTART;TZID=America/Phoenix:20260301T170000
DTEND;TZID=America/Phoenix:20260301T200000
DTSTAMP:20260421T103650
CREATED:20251203T220116Z
LAST-MODIFIED:20251203T220116Z
UID:10057782-1772384400-1772395200@myflr.org
SUMMARY:Aspire Women's Event (Roswell)
DESCRIPTION:Aspire Women’s Events is a one-night women’s event full of laughter\, learning & worship with Barb Roose\, Kay Dodd & Jaime Jamgochian taking the stage. 1 Bible Teacher – 1 Comedian – 1 Worship Leader. Come with your churches’ women’s ministry\, family\, friends\, and neighbors! Join us for an amazing ladies’ night out! \nTICKETS: $30.00 GA Individual – $40.00 VIP Reserved Individual – Call for discounted GA & VIP Group Ticket pricing for 10+ call (480) 812-1100. Ticket prices increase at the door. \nASPIRE Women’s Events – www.aspirewomensevents.com\nASPIRE by Extreme Faith Productions: We are a non-profit ministry that promotes Christian concerts and events throughout the USA. We are based in Arizona and produce between 100 and 150 events per year. www.extremefaithproductions.com.
URL:https://myflr.org/event/aspire-womens-event-roswell/
LOCATION:Grace Community Church Roswell NM\, 935 W Mescalero\, Roswell\, NM\, 88201\, United States
CATEGORIES:New Mexico
ATTACH;FMTTYPE=image/jpeg:https://eadn-wc05-15902914.nxedge.io/wp-content/uploads/2025/12/Aspire-Sun-March-1-Roswell.jpg
ORGANIZER;CN="Aspire Women&#8217%3Bs Events":MAILTO:info@aspirewomensevents.com
END:VEVENT
BEGIN:VEVENT
DTSTART;TZID=America/Phoenix:20260301T170000
DTEND;TZID=America/Phoenix:20260301T200000
DTSTAMP:20260421T103650
CREATED:20251119T222119Z
LAST-MODIFIED:20251119T222119Z
UID:10057315-1772384400-1772395200@myflr.org
SUMMARY:Aspire Women's Event
DESCRIPTION:Aspire Women’s Events is a one-night women’s event full of laughter\, learning & worship with Barb Roose\, Kay Dodd & Jaime Jamgochian taking the stage. 1 Bible Teacher – 1 Comedian – 1 Worship Leader. Come with your churches’ women’s ministry\, family\, friends\, and neighbors! Join us for an amazing ladies’ night out! \nTICKETS: $30.00 GA Individual – $40.00 VIP Reserved Individual – Call for discounted GA & VIP Group Ticket pricing for 10+ call (480) 812-1100. Ticket prices increase at the door. \nASPIRE Women’s Events – www.aspirewomensevents.com\nASPIRE by Extreme Faith Productions: We are a non-profit ministry that promotes Christian concerts and events throughout the USA. We are based in Arizona and produce between 100 and 150 events per year. www.extremefaithproductions.com.
URL:https://myflr.org/event/aspire-womens-event-4/
LOCATION:Grace Community Church Roswell NM\, 935 W Mescalero\, Roswell\, NM\, 88201\, United States
CATEGORIES:New Mexico
ATTACH;FMTTYPE=image/jpeg:https://eadn-wc05-15902914.nxedge.io/wp-content/uploads/2025/11/Aspire-Sun-March-1-Roswell.jpg
ORGANIZER;CN="Aspire Women&#8217%3Bs Events":MAILTO:info@aspirewomensevents.com
END:VEVENT
BEGIN:VEVENT
DTSTART;TZID=America/Phoenix:20250907T170000
DTEND;TZID=America/Phoenix:20250907T200000
DTSTAMP:20260421T103650
CREATED:20250729T231627Z
LAST-MODIFIED:20250729T231627Z
UID:10049749-1757264400-1757275200@myflr.org
SUMMARY:Aspire Women's Event
DESCRIPTION:Aspire Women’s Events is a one-night women’s event full of laughter\, learning\, stories with Barb Roose\, Tammy Whitehurst & Mia Koehne taking the stage. 1 Bible Teacher – 1 Comedian – 1 Worship Leader. Come with your churches women’s ministry\, family\, friends\, and neighbors! Join us for an amazing ladies’ night out! \nTICKETS: $30.00 GA Individual – $40.00 VIP Reserved Individual – Call for discounted GA & VIP Group Ticket pricing for 10+ call (480) 812-1100. Ticket prices increase at the door. \nASPIRE Women’s Events – www.aspirewomensevents.com\nASPIRE by Extreme Faith Productions: We are a non-profit ministry that promotes Christian concerts and events throughout the USA. We are based in Arizona and produce between 100 and 150 events per year. www.extremefaithproductions.com.
URL:https://myflr.org/event/aspire-womens-event-5/
LOCATION:Village Meadows Baptist Church\, 1407 El Camino Real\, Sierra Vista\, AZ\, 85635\, United States
CATEGORIES:Arizona
ATTACH;FMTTYPE=image/jpeg:https://eadn-wc05-15902914.nxedge.io/wp-content/uploads/2025/07/Aspire-Sun-Sept-7-Sierra-Vista-AZ.jpg
ORGANIZER;CN="Aspire Women&#8217%3Bs Events":MAILTO:info@aspirewomensevents.com
END:VEVENT
BEGIN:VEVENT
DTSTART;TZID=America/Phoenix:20250906T180000
DTEND;TZID=America/Phoenix:20250906T210000
DTSTAMP:20260421T103650
CREATED:20250729T231925Z
LAST-MODIFIED:20250729T231925Z
UID:10049748-1757181600-1757192400@myflr.org
SUMMARY:Aspire Women's Event
DESCRIPTION:Aspire Women’s Events is a one-night women’s event full of laughter\, learning\, stories with Barb Roose\, Tammy Whitehurst & Mia Koehne taking the stage. 1 Bible Teacher – 1 Comedian – 1 Worship Leader. Come with your churches women’s ministry\, family\, friends\, and neighbors! Join us for an amazing ladies’ night out! \nTICKETS: $30.00 GA Individual – $40.00 VIP Reserved Individual – Call for discounted GA & VIP Group Ticket pricing for 10+ call (480) 812-1100. Ticket prices increase at the door. \nASPIRE Women’s Events – www.aspirewomensevents.com\nASPIRE by Extreme Faith Productions: We are a non-profit ministry that promotes Christian concerts and events throughout the USA. We are based in Arizona and produce between 100 and 150 events per year. www.extremefaithproductions.com.
URL:https://myflr.org/event/aspire-womens-event-6/
LOCATION:Christ Community Church (Tucson\, AZ)\, 530 S Pantano Road\, Tucson\, AZ\, 85710\, United States
CATEGORIES:Arizona
ATTACH;FMTTYPE=image/jpeg:https://eadn-wc05-15902914.nxedge.io/wp-content/uploads/2025/07/Aspire-Sat-Sept-6-Tucson-AZ.jpg
ORGANIZER;CN="Aspire Women&#8217%3Bs Events":MAILTO:info@aspirewomensevents.com
END:VEVENT
BEGIN:VEVENT
DTSTART;TZID=America/Phoenix:20250905T190000
DTEND;TZID=America/Phoenix:20250905T220000
DTSTAMP:20260421T103650
CREATED:20250729T232123Z
LAST-MODIFIED:20250730T223627Z
UID:10049747-1757098800-1757109600@myflr.org
SUMMARY:Aspire Women's Event
DESCRIPTION:Aspire Women’s Events is a one-night women’s event full of laughter\, learning\, stories with Barb Roose\, Tammy Whitehurst & Mia Koehne taking the stage. 1 Bible Teacher – 1 Comedian – 1 Worship Leader. Come with your churches women’s ministry\, family\, friends\, and neighbors! Join us for an amazing ladies’ night out! \nTICKETS: $30.00 GA Individual – $40.00 VIP Reserved Individual – Call for discounted GA & VIP Group Ticket pricing for 10+ call (480) 812-1100. Ticket prices increase at the door. \nASPIRE Women’s Events – www.aspirewomensevents.com\nASPIRE by Extreme Faith Productions: We are a non-profit ministry that promotes Christian concerts and events throughout the USA. We are based in Arizona and produce between 100 and 150 events per year. www.extremefaithproductions.com.
URL:https://myflr.org/event/aspire-womens-event-7/
LOCATION:Grace Community Church (Tempe\, AZ)\, 1200 East Southern Avenue\, Tempe\, AZ\, 85282\, United States
CATEGORIES:Arizona
ATTACH;FMTTYPE=image/jpeg:https://eadn-wc05-15902914.nxedge.io/wp-content/uploads/2025/07/Aspire-Fri-Sept-5-Tempe-AZ-1-1.jpg
ORGANIZER;CN="Aspire Women&#8217%3Bs Events":MAILTO:info@aspirewomensevents.com
END:VEVENT
BEGIN:VEVENT
DTSTART;TZID=America/Phoenix:20241101T173000
DTEND;TZID=America/Phoenix:20241101T210000
DTSTAMP:20260421T103650
CREATED:20240829T201950Z
LAST-MODIFIED:20240829T201950Z
UID:10033786-1730482200-1730494800@myflr.org
SUMMARY:Aspire Women’s Event
DESCRIPTION:Aspire Women’s Events is a one-night women’s event full of laughter\, learning\, stories & music and Margaret Feinberg\, Kristin Weber Witty and Jaime Jamgochian taking the stage. 1 Bible Teacher – 1 Comedian – 1 Worship Leader. Come with your churches women’s ministry\, family\, friends\, and neighbors! Join us for an amazing ladies’ night out! \nTICKETS: $30.00 GA Individual – $40.00 VIP Reserved Individual – Call for discounted GA & VIP Group Ticket pricing for 10+ call (480) 812-1100. Ticket prices increase at the door. \nASPIRE Women’s Events – www.aspirewomensevents.com \nASPIRE by Extreme Faith Productions: We are a non-profit ministry that promotes Christian concerts and events throughout the USA. We are based in Arizona and produce between 100 and 150 events per year. www.extremefaithproductions.com.
URL:https://myflr.org/event/aspire-womens-event-3/
LOCATION:Christ Community Church (Tucson\, AZ)\, 530 S Pantano Road\, Tucson\, AZ\, 85710\, United States
CATEGORIES:Arizona
ATTACH;FMTTYPE=image/jpeg:https://eadn-wc05-15902914.nxedge.io/wp-content/uploads/2024/08/Coming-To-Tuscon.jpg
ORGANIZER;CN="Aspire Women&#8217%3Bs Events":MAILTO:info@aspirewomensevents.com
END:VEVENT
BEGIN:VEVENT
DTSTART;TZID=America/Phoenix:20240420T180000
DTEND;TZID=America/Phoenix:20240420T203000
DTSTAMP:20260421T103650
CREATED:20240408T200402Z
LAST-MODIFIED:20240408T200402Z
UID:10022927-1713636000-1713645000@myflr.org
SUMMARY:Aspire Women’s Event
DESCRIPTION:ASPIRE Women’s Events – www.aspirewomensevents.com \nAspire is a one-night women’s event full of laughter\, learning\, stories & music with Heather Dixon\, Amberly Neese & Jaime Jamgochian taking the stage. 1 Bible Teacher – 1 Comedian – 1 Worship Leader. Come with your churches women’s ministry\, family\, friends\, and neighbors! Join us for an amazing ladies’ night out! \nTICKETS: $30.00 GA Individual – $40.00 VIP Reserved Individual – Call for discounted GA & VIP Group Ticket pricing for 10+ call (480) 812-1100. Ticket prices increase at the door. \nASPIRE by Extreme Faith Productions: We are a non-profit ministry that promotes Christian concerts and events throughout the USA. We are based in Arizona and produce between 100 and 150 events per year. www.extremefaithproductions.com.
URL:https://myflr.org/event/aspire-womens-event-2/
LOCATION:Axiom Church (Midland\, MI)\, 1264 E. Isabella Rd.\, Midland\, MI\, 48640\, United States
CATEGORIES:Michigan
ATTACH;FMTTYPE=image/jpeg:https://eadn-wc05-15902914.nxedge.io/wp-content/uploads/2024/03/Aspire-2024-1.jpg
ORGANIZER;CN="Aspire Women&#8217%3Bs Events":MAILTO:info@aspirewomensevents.com
END:VEVENT
BEGIN:VEVENT
DTSTART;TZID=America/Phoenix:20240419T190000
DTEND;TZID=America/Phoenix:20240419T213000
DTSTAMP:20260421T103650
CREATED:20240319T232701Z
LAST-MODIFIED:20240319T232701Z
UID:10022804-1713553200-1713562200@myflr.org
SUMMARY:Aspire Women’s Event
DESCRIPTION:Aspire is a one-night women’s event full of laughter\, learning\, stories & music with Melissa Spoelstra\, Michelle Miller & Mia Koehne taking the stage. 1 Bible Teacher – 1 Comedian – 1 Worship Leader. Come with your churches women’s ministry\, family\, friends\, and neighbors! Join us for an amazing ladies’ night out! \nTICKETS: $30.00 GA Individual – $40.00 VIP Reserved Individual – For discounted GA & VIP Group Ticket pricing for 10+ call (480) 812-1100. Ticket prices increase at the door. \nASPIRE by Extreme Faith Productions: We are a non-profit ministry that promotes Christian concerts and events throughout the USA. We are based in Arizona and produce between 100 and 150 events per year. www.extremefaithproductions.com.
URL:https://myflr.org/event/aspire-womens-event/
LOCATION:Bradley Baptist Church\, 821 Monticello Hwy\, Gray\, GA\, 31032\, United States
CATEGORIES:Arizona
ATTACH;FMTTYPE=image/jpeg:https://eadn-wc05-15902914.nxedge.io/wp-content/uploads/2024/03/Aspire-FRI-April-19-Gray-GA-scaled.jpg
ORGANIZER;CN="Aspire Women&#8217%3Bs Events":MAILTO:info@aspirewomensevents.com
END:VEVENT
END:VCALENDAR