
BEGIN:VCALENDAR
VERSION:2.0
PRODID:-//Family Life Radio - ECPv6.15.20//NONSGML v1.0//EN
CALSCALE:GREGORIAN
METHOD:PUBLISH
X-ORIGINAL-URL:https://myflr.org
X-WR-CALDESC:Events for Family Life Radio
REFRESH-INTERVAL;VALUE=DURATION:PT1H
X-Robots-Tag:noindex
X-PUBLISHED-TTL:PT1H
BEGIN:VTIMEZONE
TZID:America/Phoenix
BEGIN:STANDARD
TZOFFSETFROM:-0700
TZOFFSETTO:-0700
TZNAME:MST
DTSTART:20250101T000000
END:STANDARD
END:VTIMEZONE
BEGIN:VEVENT
DTSTART;TZID=America/Phoenix:20260328T190000
DTEND;TZID=America/Phoenix:20260328T210000
DTSTAMP:20260420T022411
CREATED:20260310T202848Z
LAST-MODIFIED:20260310T202858Z
UID:10059565-1774724400-1774731600@myflr.org
SUMMARY:Seph Schlueter COUNTING MY BLESSINGS TOUR
DESCRIPTION:Seph Schlueter COUNTING MY BLESSINGS TOUR \nwith special guests Allison Eide & Charlie Weems \nSAT MAR 28 @ 7pm \nMcDonald Moody Auditorium-at Lubbock Christian University \nVIP DOORS: 5PM\nREGULAR DOORS: 6PM\nSHOW: 7PM\nGet your TICKETS HERE – https://bit.ly/4bXtU3w \nThere are some concerts that feel good to be in the room for\, and the “Counting My Blessings” Tour is one of them. Seph Schlueter will take the stage with the songs that have been repeated in your playlists and church services like “Counting My Blessings” and “Running Back to You.” Plus\, the warmth of Allison Eide and her breakout\, “Love Who I Am\,” and the storyteller charm of Charles Weems with his “Slow Me Down.” You’ll leave this evening counting more than a few blessings of your own. Don’t let your friends attend this one without you… get your ticket!
URL:https://myflr.org/event/seph-schlueter-counting-my-blessings-tour/
LOCATION:McDonald Moody Auditorium at Lubbock Christian University\, 2103 B Eileen Blvd.\, Lubbock\, TX\, 79407\, United States
CATEGORIES:Featured,Texas
ATTACH;FMTTYPE=image/jpeg:https://eadn-wc05-15902914.nxedge.io/wp-content/uploads/2026/03/SephSchlueter_SP26_1080x1080_032826_generic-1.jpg
END:VEVENT
END:VCALENDAR