
BEGIN:VCALENDAR
VERSION:2.0
PRODID:-//Family Life Radio - ECPv6.15.20//NONSGML v1.0//EN
CALSCALE:GREGORIAN
METHOD:PUBLISH
X-ORIGINAL-URL:https://myflr.org
X-WR-CALDESC:Events for Family Life Radio
REFRESH-INTERVAL;VALUE=DURATION:PT1H
X-Robots-Tag:noindex
X-PUBLISHED-TTL:PT1H
BEGIN:VTIMEZONE
TZID:America/Phoenix
BEGIN:STANDARD
TZOFFSETFROM:-0700
TZOFFSETTO:-0700
TZNAME:MST
DTSTART:20240101T000000
END:STANDARD
END:VTIMEZONE
BEGIN:VEVENT
DTSTART;TZID=America/Phoenix:20250123T080000
DTEND;TZID=America/Phoenix:20250123T140000
DTSTAMP:20260421T092928
CREATED:20250115T203759Z
LAST-MODIFIED:20250115T203759Z
UID:10038751-1737619200-1737640800@myflr.org
SUMMARY:Live2Lead – Tucson
DESCRIPTION:The Live2Lead Experiential Leadership Summit will help you to supercharge your leadership power in this immersive event\, overflowing with experiential and transformative leadership strategies and personal advancement tactics distilled from decades of proven instruction. Whether you’re guiding a team\, or striving to elevate those in your life\, Live2Lead promises to equip you with game-changing insights for constructing a dynamic blueprint\, fueling your leadership journey with an invigorated passion and dedication!
URL:https://myflr.org/event/live2lead-tucson/
LOCATION:Oro Valley Church of the Nazarene\, 500 W Calle Concordia\, Oro Valley\, AZ\, 85704\, United States
CATEGORIES:Arizona
ATTACH;FMTTYPE=image/png:https://eadn-wc05-15902914.nxedge.io/wp-content/uploads/2025/01/L2L-2024-Tucson-Flyer-Simple.png
ORGANIZER;CN="Awakening Minds":MAILTO:jose@joseaoliver.com
END:VEVENT
END:VCALENDAR