
BEGIN:VCALENDAR
VERSION:2.0
PRODID:-//Family Life Radio - ECPv6.15.20//NONSGML v1.0//EN
CALSCALE:GREGORIAN
METHOD:PUBLISH
X-WR-CALNAME:Family Life Radio
X-ORIGINAL-URL:https://myflr.org
X-WR-CALDESC:Events for Family Life Radio
REFRESH-INTERVAL;VALUE=DURATION:PT1H
X-Robots-Tag:noindex
X-PUBLISHED-TTL:PT1H
BEGIN:VTIMEZONE
TZID:America/Phoenix
BEGIN:STANDARD
TZOFFSETFROM:-0700
TZOFFSETTO:-0700
TZNAME:MST
DTSTART:20230101T000000
END:STANDARD
END:VTIMEZONE
BEGIN:VEVENT
DTSTART;TZID=America/Phoenix:20260414T163000
DTEND;TZID=America/Phoenix:20260414T190000
DTSTAMP:20260421T050011
CREATED:20251009T214814Z
LAST-MODIFIED:20251009T214829Z
UID:10056660-1776184200-1776193200@myflr.org
SUMMARY:Taco Tuesday (Boscobel)
DESCRIPTION:Stop by Back Roads Church Boscobel between 4:30-7pm for a delicious taco supper. Adults $6\, kids $4\, Under 5 Free. Carry-outs are available. Supports Youth Missions.
URL:https://myflr.org/event/taco-tuesday-boscobel/2026-04-14/
LOCATION:Back Roads Church Boscobel\, 107 W. Oak Street\, Boscobel\, WI\, 53805\, United States
CATEGORIES:Iowa,Wisconsin
ATTACH;FMTTYPE=image/jpeg:https://eadn-wc05-15902914.nxedge.io/wp-content/uploads/2025/10/SEPT-OCT-2025-MediaShout-2.jpg
ORGANIZER;CN="Back Roads Church":MAILTO:Dawn@backroadschurch.org
END:VEVENT
BEGIN:VEVENT
DTSTART;TZID=America/Phoenix:20260228T083000
DTEND;TZID=America/Phoenix:20260228T150000
DTSTAMP:20260421T050011
CREATED:20260203T204834Z
LAST-MODIFIED:20260203T204834Z
UID:10058186-1772267400-1772290800@myflr.org
SUMMARY:HerStory Women's Event (Boscobel)
DESCRIPTION:HERSTORY: OH\, HOW HE LOVES US!\nRegistration for this annual special women’s event is OPEN! Held at Back Roads Church in Boscobel from\n8:30am – 3:00pm. Details and registration at BackRoadsChurch.org/Women
URL:https://myflr.org/event/herstory-womens-event-boscobel/
LOCATION:Back Roads Church Boscobel\, 107 W. Oak Street\, Boscobel\, WI\, 53805\, United States
CATEGORIES:Iowa,Wisconsin
ATTACH;FMTTYPE=image/jpeg:https://eadn-wc05-15902914.nxedge.io/wp-content/uploads/2026/01/Mediashout-scaled.jpg
ORGANIZER;CN="Back Roads Church":MAILTO:Dawn@backroadschurch.org
END:VEVENT
BEGIN:VEVENT
DTSTART;TZID=America/Phoenix:20260221T190000
DTEND;TZID=America/Phoenix:20260221T210000
DTSTAMP:20260421T050011
CREATED:20260203T205120Z
LAST-MODIFIED:20260203T205120Z
UID:10058187-1771700400-1771707600@myflr.org
SUMMARY:Worship Night: Jesus\, the Christ (Boscobel\, WI)
DESCRIPTION:Everyone is welcome young and old. If you think you have things together or if you are broken\, please join us. There is no cost or registration. Simply bring your heart\, your voice\, and friends!
URL:https://myflr.org/event/worship-night-jesus-the-christ-boscobel-wi/
LOCATION:Back Roads Church Boscobel\, 107 W. Oak Street\, Boscobel\, WI\, 53805\, United States
CATEGORIES:Iowa,Wisconsin
ATTACH;FMTTYPE=image/png:https://eadn-wc05-15902914.nxedge.io/wp-content/uploads/2026/01/NEW-FB-Event-graphic-1.png
ORGANIZER;CN="Back Roads Church":MAILTO:Dawn@backroadschurch.org
END:VEVENT
BEGIN:VEVENT
DTSTART;TZID=America/Phoenix:20260214T110000
DTEND;TZID=America/Phoenix:20260214T133000
DTSTAMP:20260421T050011
CREATED:20260203T205239Z
LAST-MODIFIED:20260203T205239Z
UID:10058188-1771066800-1771075800@myflr.org
SUMMARY:Feed My Starving Children Pie Auction and more (Boscobel\, WI)
DESCRIPTION:Bring your Valentine to the Pie Auction\, Soup & Sandwich Lunch\, & Bake Sale will support the April 9-11 Feed My Starving Children MobilePack. The event will be held at St. John’s Lutheran Church in Boscobel from 11am–1:30pm. Bidding begins at 11:30am. Want to donate baked goods? Contact Bruce @ 608-485-2678 or Kathryn @ 608-485-2554
URL:https://myflr.org/event/feed-my-starving-children-pie-auction-and-more-boscobel-wi/
LOCATION:St. John’s Lutheran Church\, 208 Mary Street\, Boscobel\, WI\, WI\, 53805\, United States
CATEGORIES:Iowa,Wisconsin
ATTACH;FMTTYPE=image/png:https://eadn-wc05-15902914.nxedge.io/wp-content/uploads/2026/01/8.5x11-poster-USE-THIS-ONE-BRC-1.png
ORGANIZER;CN="Back Roads Church":MAILTO:Dawn@backroadschurch.org
END:VEVENT
BEGIN:VEVENT
DTSTART;TZID=America/Phoenix:20251018T170000
DTEND;TZID=America/Phoenix:20251018T203000
DTSTAMP:20260421T050011
CREATED:20251009T214716Z
LAST-MODIFIED:20251009T214716Z
UID:10056653-1760806800-1760819400@myflr.org
SUMMARY:Harvest Dinner and Auction for FMSC (Boscobel)
DESCRIPTION:The event will be held at Boscobel Bowl and Banquet and will include a Silent Auction\, Live Auction and Raffle. The Auction Preview will begin at 5:00pm. A dinner of smoked pulled pork sandwiches\, cheesy potatoes\, coleslaw and baked beans will begin at 6:00pm. A donation of $10 is suggested to cover the dinner. The Silent Auction will close before the Live Auction begins around 7:00pm. There are many unique auction items being donated\, so you won’t want to miss this event that supports the 2026 Feed My Starving Children MobilePack planned for April 9-11.
URL:https://myflr.org/event/harvest-dinner-and-auction-for-fmsc-boscobel/
LOCATION:Boscobel Bowl and Banquet\, 16971 US-61 #9716\, Boscobel\, WI 53805\, WI\, 53805\, United States
CATEGORIES:Wisconsin
ATTACH;FMTTYPE=image/jpeg:https://eadn-wc05-15902914.nxedge.io/wp-content/uploads/2025/10/SEPT-OCT-2025-MediaShout.jpg
ORGANIZER;CN="Back Roads Church":MAILTO:Dawn@backroadschurch.org
END:VEVENT
BEGIN:VEVENT
DTSTART;TZID=America/Phoenix:20250906T190000
DTEND;TZID=America/Phoenix:20250906T210000
DTSTAMP:20260421T050011
CREATED:20250811T195851Z
LAST-MODIFIED:20250811T210026Z
UID:10050327-1757185200-1757192400@myflr.org
SUMMARY:Worship Night: Defined (Boscobel\, WI)
DESCRIPTION:“Who am I?” “Why do I matter?” These are big questions our culture can’t answer. Discover all God has called you to be with an evening of praise and celebration! Bring your self. Bring your spouse. Bring your kids. Kids\, bring your parents. Come early or come in the middle but join us! No cost. No registration. Let’s gather. Let’s sing! Let’s worship! And let us discover better who God is and who you are!
URL:https://myflr.org/event/worship-night-defined-boscobel-wi-2/
LOCATION:Back Roads Church Boscobel\, 107 W. Oak Street\, Boscobel\, WI\, 53805\, United States
CATEGORIES:Iowa,Wisconsin
ATTACH;FMTTYPE=image/png:https://eadn-wc05-15902914.nxedge.io/wp-content/uploads/2025/08/AUGUSTSEPTEMBER-2025-MediaShout.png
ORGANIZER;CN="Back Roads Church":MAILTO:Dawn@backroadschurch.org
END:VEVENT
BEGIN:VEVENT
DTSTART;TZID=America/Phoenix:20250727T171500
DTEND;TZID=America/Phoenix:20250727T201500
DTSTAMP:20260421T050011
CREATED:20250717T233553Z
LAST-MODIFIED:20250717T233553Z
UID:10046867-1753636500-1753647300@myflr.org
SUMMARY:TRUE NORTH Vacation Bible School (Boscobel\, WI)
DESCRIPTION:We can BEARLY wait!\n• FREE Supper at the Basecamp Eatery from 4:30pm – 5pm\n• Trek to Vacation Bible School from 5:15pm – 8:15pm\n• ALL KIDS ages 4 years through those who have completed Grade 6 in the Spring of 2025 are invited to Trust Jesus in a Wild World \nDon’t MOOSE around…You OTTER get registered soon: BackRoadsChurch.org/VBS \nBack Roads Church\, Boscobel\, WI
URL:https://myflr.org/event/true-north-vacation-bible-school-boscobel-wi/
LOCATION:Back Roads Church Boscobel\, 107 W. Oak Street\, Boscobel\, WI\, 53805\, United States
CATEGORIES:Wisconsin
ATTACH;FMTTYPE=image/png:https://eadn-wc05-15902914.nxedge.io/wp-content/uploads/2025/06/Postcards-4x6-3.png
ORGANIZER;CN="Back Roads Church":MAILTO:Dawn@backroadschurch.org
END:VEVENT
BEGIN:VEVENT
DTSTART;TZID=America/Phoenix:20250611T163000
DTEND;TZID=America/Phoenix:20250611T190000
DTSTAMP:20260421T050011
CREATED:20250528T194129Z
LAST-MODIFIED:20250528T194129Z
UID:10041100-1749659400-1749668400@myflr.org
SUMMARY:Steak Sandwich Supper for FMSC (Boscobel\, WI)
DESCRIPTION:Drive-thru at Back Roads Church Boscobel for a large steak sandwich\, cheesy potatoes\, and a chocolate chip bar for only $12. Serving 4:30-7pm\, or until gone.\nPREORDERS AVAILABLE! CALL RENEE AT 608-553-7825. \nProceeds support the April 9-11\, 2026 Feed My Starving Children Mobile Pack
URL:https://myflr.org/event/steak-sandwich-supper-for-fmsc-boscobel-wi/
LOCATION:Back Roads Church\, SW Wisconsin\, Boscobel\, WI\, 53805\, United States
CATEGORIES:Wisconsin
ATTACH;FMTTYPE=image/jpeg:https://eadn-wc05-15902914.nxedge.io/wp-content/uploads/2025/05/MayJune-2025-MediaShout.jpg
ORGANIZER;CN="Back Roads Church":MAILTO:Dawn@backroadschurch.org
END:VEVENT
BEGIN:VEVENT
DTSTART;TZID=America/Phoenix:20250518T100000
DTEND;TZID=America/Phoenix:20250518T120000
DTSTAMP:20260421T050011
CREATED:20250416T213623Z
LAST-MODIFIED:20250416T213646Z
UID:10040996-1747562400-1747569600@myflr.org
SUMMARY:Blessing of the Bikes (Boscobel\, WI)
DESCRIPTION:Ride on into Kronshage Park in Boscobel\, WI (or bring your lawn chair) for Worship and special prayers for a safe summer. Everyone is invited! Please bring a dish to pass. NOTE: Worship will not be held at any other Back Roads Church location that day. In case of stormy weather\, the event will be held at Back Roads Church in Boscobel
URL:https://myflr.org/event/blessing-of-the-bikes-2/
LOCATION:Kronshage Park (Boscobel\, WI)\, 1604 Wisconsin Ave\, Boscobel\, WI\, United States
CATEGORIES:Iowa,Wisconsin
ATTACH;FMTTYPE=image/jpeg:https://eadn-wc05-15902914.nxedge.io/wp-content/uploads/2025/04/36-x-24-yard-sign-scaled.jpg
ORGANIZER;CN="Back Roads Church":MAILTO:Dawn@backroadschurch.org
END:VEVENT
BEGIN:VEVENT
DTSTART;TZID=America/Phoenix:20250308T081500
DTEND;TZID=America/Phoenix:20250308T153000
DTSTAMP:20260421T050011
CREATED:20250210T212627Z
LAST-MODIFIED:20250210T212640Z
UID:10039067-1741421700-1741447800@myflr.org
SUMMARY:HerStory Women’s Event
DESCRIPTION:Ladies\, join us for a special day of speakers\, music\, food\, fellowship\, a prayer journal\, a prayer wall\, and door prizes at Back Roads Church Boscobel. Get all of the details here: https://backroadschurch.org/women/ \nThe cost is $10* | *Funding is available for anyone who finds the cost a barrier to attend. Call Tracy at 608-485-2095 for information.\n– REGISTER BY February 17\, 2025 –
URL:https://myflr.org/event/herstory-womens-event/
LOCATION:Back Roads Church\, SW Wisconsin\, Boscobel\, WI\, 53805\, United States
CATEGORIES:Iowa,Wisconsin
ATTACH;FMTTYPE=image/jpeg:https://eadn-wc05-15902914.nxedge.io/wp-content/uploads/2025/02/HERStORY-2024-1.jpg
ORGANIZER;CN="Back Roads Church":MAILTO:Dawn@backroadschurch.org
END:VEVENT
BEGIN:VEVENT
DTSTART;VALUE=DATE:20241224
DTEND;VALUE=DATE:20241225
DTSTAMP:20260421T050011
CREATED:20241218T215030Z
LAST-MODIFIED:20241218T215130Z
UID:10037587-1734998400-1735084799@myflr.org
SUMMARY:Christmas Eve Worship
DESCRIPTION:Please join us at Back Roads Church at one of these times and locations:\nBloomington 5:30pm\nBoscobel 3:00pm & 5:00pm\nMt. Zion 7:00pm\nRichland Center 6:00pm\nSoldiers Grove 4:30pm\nRichland Center 6:00pm\nMore details at BackRoadsChurch.org/Christmas\nGlobal Methodist Church
URL:https://myflr.org/event/christmas-eve-worship/
CATEGORIES:Wisconsin
ATTACH;FMTTYPE=image/png:https://eadn-wc05-15902914.nxedge.io/wp-content/uploads/2024/12/December-2024-MediaShout-6.png
ORGANIZER;CN="Back Roads Church":MAILTO:Dawn@backroadschurch.org
END:VEVENT
BEGIN:VEVENT
DTSTART;VALUE=DATE:20240610
DTEND;VALUE=DATE:20240809
DTSTAMP:20260421T050011
CREATED:20240708T183313Z
LAST-MODIFIED:20240708T183313Z
UID:10030257-1717977600-1723161599@myflr.org
SUMMARY:Free Summer Lunches for Kids
DESCRIPTION:Free meals will be served Monday through Friday from June 3 – August 8 at these Times and Locations:\n• Back Roads Church Boscobel Campus (104 Buchanan Street\, Boscobel) from 11:30am—12:30pm\n• Cozy Acres Mobile Home Park Shelter (River View Lane\, rural Boscobel) from 11:00am—11:15am\n• Woodman Park (Woodman) from 11:30am—11:45pm\n• Village Park (Congress Street\, Bloomington) from 12:00pm—12:30pm \nWatch Facebook.com/BackRoadsChurchWI for weekly menus and other updates.\nIn accordance with federal civil rights law and U.S. Department of Agriculture (USDA) civil rights regulations and policies\, this institution is prohibited from discriminating on the basis of race\, color\, national origin\, sex (including gender identity and sexual orientation)\, disability\, age\, or reprisal or retaliation for prior civil rights activity.
URL:https://myflr.org/event/free-summer-lunches-for-kids-2/2024-06-10/1/
LOCATION:Back Roads Church\, SW Wisconsin\, Boscobel\, WI\, 53805\, United States
CATEGORIES:Wisconsin
ATTACH;FMTTYPE=image/png:https://eadn-wc05-15902914.nxedge.io/wp-content/uploads/2024/06/NEW-FB-Event-graphic-1.png
ORGANIZER;CN="Back Roads Church":MAILTO:Dawn@backroadschurch.org
END:VEVENT
END:VCALENDAR