
BEGIN:VCALENDAR
VERSION:2.0
PRODID:-//Family Life Radio - ECPv6.15.20//NONSGML v1.0//EN
CALSCALE:GREGORIAN
METHOD:PUBLISH
X-ORIGINAL-URL:https://myflr.org
X-WR-CALDESC:Events for Family Life Radio
REFRESH-INTERVAL;VALUE=DURATION:PT1H
X-Robots-Tag:noindex
X-PUBLISHED-TTL:PT1H
BEGIN:VTIMEZONE
TZID:America/Detroit
BEGIN:DAYLIGHT
TZOFFSETFROM:-0500
TZOFFSETTO:-0400
TZNAME:EDT
DTSTART:20240310T070000
END:DAYLIGHT
BEGIN:STANDARD
TZOFFSETFROM:-0400
TZOFFSETTO:-0500
TZNAME:EST
DTSTART:20241103T060000
END:STANDARD
BEGIN:DAYLIGHT
TZOFFSETFROM:-0500
TZOFFSETTO:-0400
TZNAME:EDT
DTSTART:20250309T070000
END:DAYLIGHT
BEGIN:STANDARD
TZOFFSETFROM:-0400
TZOFFSETTO:-0500
TZNAME:EST
DTSTART:20251102T060000
END:STANDARD
BEGIN:DAYLIGHT
TZOFFSETFROM:-0500
TZOFFSETTO:-0400
TZNAME:EDT
DTSTART:20260308T070000
END:DAYLIGHT
BEGIN:STANDARD
TZOFFSETFROM:-0400
TZOFFSETTO:-0500
TZNAME:EST
DTSTART:20261101T060000
END:STANDARD
END:VTIMEZONE
BEGIN:VTIMEZONE
TZID:America/Phoenix
BEGIN:STANDARD
TZOFFSETFROM:-0700
TZOFFSETTO:-0700
TZNAME:MST
DTSTART:20230101T000000
END:STANDARD
END:VTIMEZONE
BEGIN:VEVENT
DTSTART;TZID=America/Detroit:20250426T090000
DTEND;TZID=America/Detroit:20250426T143000
DTSTAMP:20260419T234255
CREATED:20250408T130445Z
LAST-MODIFIED:20250408T130445Z
UID:10040939-1745658000-1745677800@myflr.org
SUMMARY:Bay Shore Camp Annual Benefit Auction
DESCRIPTION:Bay Shore Camp benefit auction helps to raise money for children and youth who are unable to afford camp. A wide variety of new items and certificates are up for bidding\, starting 9 am sharp! All auction proceeds go to the Campership fund that helps to ensure no child misses out on attending camp due to financial reasons. There will also be a Pie & Dessert Contest \, General Store & Kids Toy Store! Auction is held indoors and lots of fun for everyone! You can check out the camp website at https://www.bayshorecamp.org/ to learn more about Bay Shore Camp’s Ministry and mission.
URL:https://myflr.org/event/bay-shore-camp-annual-benefit-auction-2/
LOCATION:Bay Shore Camp (Sebewaing\, MI)\, 450 N. Miller Street\, Sebewaing\, MI\, 48759\, United States
CATEGORIES:Michigan
ATTACH;FMTTYPE=image/jpeg:https://eadn-wc05-15902914.nxedge.io/wp-content/uploads/2025/04/Auction-Pic-2025.jpg
ORGANIZER;CN="BAY SHORE CAMP":MAILTO:info@bayshorecamp.org
END:VEVENT
BEGIN:VEVENT
DTSTART;TZID=America/Phoenix:20240427T090000
DTEND;TZID=America/Phoenix:20240427T150000
DTSTAMP:20260419T234255
CREATED:20240408T192457Z
LAST-MODIFIED:20240408T192457Z
UID:10023745-1714208400-1714230000@myflr.org
SUMMARY:Bay Shore Camp Annual Benefit Auction
DESCRIPTION:Bay Shore Camp benefit auction helps to raise money for children and youth who are unable to afford camp\, and allows them to attend for a discounted rate or for free. All auction proceeds go to the Campership fund that helps to ensure no child misses out on attending camp due to financial reasons. There will also be a Pie & Dessert Contest \, Bake Sale and Kids Toy Store! Auction is held indoors and lots of fun for everyone! You can check out the camp website at https://www.bayshorecamp.org/ to learn more about Bay Shore Camp’s Ministry and mission. \nLOCATION : BAY SHORE CAMP 450 N. MILLER ST.\, SEBEWAING\, MI 48759
URL:https://myflr.org/event/bay-shore-camp-annual-benefit-auction/
LOCATION:Bay Shore Camp (Sebewaing\, MI)\, 450 N Miller St\, Sebewaing\, MI\, 48759\, United States
CATEGORIES:Michigan
ATTACH;FMTTYPE=image/jpeg:https://eadn-wc05-15902914.nxedge.io/wp-content/uploads/2024/04/Auction-sign-with-kids.jpg
ORGANIZER;CN="BAY SHORE CAMP":MAILTO:info@bayshorecamp.org
END:VEVENT
END:VCALENDAR