
BEGIN:VCALENDAR
VERSION:2.0
PRODID:-//Family Life Radio - ECPv6.15.20//NONSGML v1.0//EN
CALSCALE:GREGORIAN
METHOD:PUBLISH
X-ORIGINAL-URL:https://myflr.org
X-WR-CALDESC:Events for Family Life Radio
REFRESH-INTERVAL;VALUE=DURATION:PT1H
X-Robots-Tag:noindex
X-PUBLISHED-TTL:PT1H
BEGIN:VTIMEZONE
TZID:America/Phoenix
BEGIN:STANDARD
TZOFFSETFROM:-0700
TZOFFSETTO:-0700
TZNAME:MST
DTSTART:20250101T000000
END:STANDARD
END:VTIMEZONE
BEGIN:VEVENT
DTSTART;TZID=America/Phoenix:20260504T073000
DTEND;TZID=America/Phoenix:20260504T090000
DTSTAMP:20260420T091230
CREATED:20260414T192820Z
LAST-MODIFIED:20260414T192820Z
UID:10060052-1777879800-1777885200@myflr.org
SUMMARY:BEKIND Rise & Shine Breakfast with Special Guest Speaker Kenny Dillingham
DESCRIPTION:Join us on Monday\, May 4\, 2026\, from 7:45–9:00 AM for our annual “Rise & Shine” Breakfast at The Be Kind Community Education Center—a morning dedicated to celebrating kindness\, education\, and community impact. \nEnjoy coffee and light bites as you connect with others who are passionate about making a difference. Be inspired by the powerful voices of student winners from The National BE KIND Make a Difference Essay Contest as they share their heartfelt stories. Experience uplifting\, high-energy performances by THE BE KIND CREW that will leave you motivated for the day ahead. \nWe are honored to welcome our special guest speaker\, Kenny Dillingham\, Head Coach of ASU Football. One of the youngest head coaches in major college football and a proud Arizona native\, Coach Dillingham is known for his energy\, leadership\, and commitment to building a culture rooted in character\, resilience\, and community impact. The Be Kind People Project is proud to recognize him for his dedication to mentoring young athletes and giving back to the community. \nTogether\, we’ll honor outstanding educators and community leaders who embody the true spirit of kindness. Don’t miss this meaningful and energizing start to your day!
URL:https://myflr.org/event/bekind-rise-shine-breakfast-with-special-guest-speaker-kenny-dillingham/
LOCATION:The BE KIND Community Education Center\, 731 Grand Avenue\, Phoenix\, 85007\, United States
CATEGORIES:Arizona
ATTACH;FMTTYPE=image/png:https://eadn-wc05-15902914.nxedge.io/wp-content/uploads/2026/03/BeKindKenny.png
ORGANIZER;CN="Be Kind":MAILTO:alexis.huerter@gmail.com
END:VEVENT
END:VCALENDAR