
BEGIN:VCALENDAR
VERSION:2.0
PRODID:-//Family Life Radio - ECPv6.15.20//NONSGML v1.0//EN
CALSCALE:GREGORIAN
METHOD:PUBLISH
X-ORIGINAL-URL:https://myflr.org
X-WR-CALDESC:Events for Family Life Radio
REFRESH-INTERVAL;VALUE=DURATION:PT1H
X-Robots-Tag:noindex
X-PUBLISHED-TTL:PT1H
BEGIN:VTIMEZONE
TZID:America/Detroit
BEGIN:DAYLIGHT
TZOFFSETFROM:-0500
TZOFFSETTO:-0400
TZNAME:EDT
DTSTART:20240310T070000
END:DAYLIGHT
BEGIN:STANDARD
TZOFFSETFROM:-0400
TZOFFSETTO:-0500
TZNAME:EST
DTSTART:20241103T060000
END:STANDARD
BEGIN:DAYLIGHT
TZOFFSETFROM:-0500
TZOFFSETTO:-0400
TZNAME:EDT
DTSTART:20250309T070000
END:DAYLIGHT
BEGIN:STANDARD
TZOFFSETFROM:-0400
TZOFFSETTO:-0500
TZNAME:EST
DTSTART:20251102T060000
END:STANDARD
BEGIN:DAYLIGHT
TZOFFSETFROM:-0500
TZOFFSETTO:-0400
TZNAME:EDT
DTSTART:20260308T070000
END:DAYLIGHT
BEGIN:STANDARD
TZOFFSETFROM:-0400
TZOFFSETTO:-0500
TZNAME:EST
DTSTART:20261101T060000
END:STANDARD
END:VTIMEZONE
BEGIN:VTIMEZONE
TZID:America/Phoenix
BEGIN:STANDARD
TZOFFSETFROM:-0700
TZOFFSETTO:-0700
TZNAME:MST
DTSTART:20220101T000000
END:STANDARD
END:VTIMEZONE
BEGIN:VEVENT
DTSTART;TZID=America/Detroit:20250510T120000
DTEND;TZID=America/Detroit:20250510T140000
DTSTAMP:20260421T154346
CREATED:20250416T155946Z
LAST-MODIFIED:20250416T155946Z
UID:10040993-1746878400-1746885600@myflr.org
SUMMARY:Mothers Day Brunch Free - St Clair Shores
DESCRIPTION:Mom’s You Deserve It!!!\nFood \,Games and Prizes\nDay Care provided let us know ages \nNoon to 2 pm \nFREE MOTHER’S DAY BRUNCH
URL:https://myflr.org/event/mothers-day-brunch-free-st-clair-shores/
LOCATION:Bernadette’s Faith in Action\, 20880 10 Mile Rd\, Saint Clair Shores\, MI\, 48080\, United States
CATEGORIES:Michigan
ATTACH;FMTTYPE=image/jpeg:https://eadn-wc05-15902914.nxedge.io/wp-content/uploads/2025/04/Mom-Lunch-may-2025.jpg
ORGANIZER;CN="Bernadette&#8217%3Bs Faith in Action":MAILTO:info@bfaithinaction.org
END:VEVENT
BEGIN:VEVENT
DTSTART;TZID=America/Phoenix:20240608T070000
DTEND;TZID=America/Phoenix:20240608T140000
DTSTAMP:20260421T154346
CREATED:20240229T163913Z
LAST-MODIFIED:20240229T163913Z
UID:10020792-1717830000-1717855200@myflr.org
SUMMARY:BERNADETTE’S FAITH IN ACTION 4 PERSON GOLF SCRAMBLE – Romeo
DESCRIPTION:Golf Outing\nHeather Hills Golf Club3100 McKail Rd.Romeo\, MI\nCost: $110/golferBreakfast\, Burgers\, BratsVegas & Wacky HolesClosest to the PinPrizes & GiveawaysLong Drive50/50 Raffle \nWe are here to DO and invite others to DO too. Our goal is to bring the community together\, to meet needs\, encourage and ultimately put their faith in Jesus.
URL:https://myflr.org/event/bernadettes-faith-in-action-4-person-golf-scramble-romeo/
LOCATION:Heather Hills Golf Course (Romeo\, MI)\, 3100 McKail Rd.\, Romeo\, MI\, 48065\, United States
CATEGORIES:Michigan
ATTACH;FMTTYPE=image/jpeg:https://eadn-wc05-15902914.nxedge.io/wp-content/uploads/2024/02/golf-outing-final-2024.jpg
ORGANIZER;CN="Bernadette&#8217%3Bs Faith in Action":MAILTO:info@bfaithinaction.org
END:VEVENT
BEGIN:VEVENT
DTSTART;TZID=America/Phoenix:20230919T183000
DTEND;TZID=America/Phoenix:20230919T203000
DTSTAMP:20260421T154346
CREATED:20230913T164732Z
LAST-MODIFIED:20230913T164911Z
UID:10015320-1695148200-1695155400@myflr.org
SUMMARY:Painting with a Verse (Saint Claire Shores)
DESCRIPTION:Painting with a Verse \nTuesday September 19th\, 6:30PM \n“WHO” are you\, you are a child of God. \nPlease bring diapers for our baby pantry Please PRE-REGISTER for the event on our web site: https://bfaithinaction.org/events/\nOr Call Barry 586-623-9371
URL:https://myflr.org/event/painting-with-a-verse-saint-claire-shores/
LOCATION:Bernadette’s Faith in Action\, 20880 10 Mile Rd\, Saint Clair Shores\, MI\, 48080\, United States
CATEGORIES:Michigan
ATTACH;FMTTYPE=image/jpeg:https://eadn-wc05-15902914.nxedge.io/wp-content/uploads/2023/09/4e65fc91-ca2a-05dc-5eef-d5ecad78547a.jpg
ORGANIZER;CN="Bernadette&#8217%3Bs Faith in Action":MAILTO:info@bfaithinaction.org
END:VEVENT
END:VCALENDAR