
BEGIN:VCALENDAR
VERSION:2.0
PRODID:-//Family Life Radio - ECPv6.15.20//NONSGML v1.0//EN
CALSCALE:GREGORIAN
METHOD:PUBLISH
X-WR-CALNAME:Family Life Radio
X-ORIGINAL-URL:https://myflr.org
X-WR-CALDESC:Events for Family Life Radio
REFRESH-INTERVAL;VALUE=DURATION:PT1H
X-Robots-Tag:noindex
X-PUBLISHED-TTL:PT1H
BEGIN:VTIMEZONE
TZID:America/Phoenix
BEGIN:STANDARD
TZOFFSETFROM:-0700
TZOFFSETTO:-0700
TZNAME:MST
DTSTART:20230101T000000
END:STANDARD
END:VTIMEZONE
BEGIN:VEVENT
DTSTART;TZID=America/Phoenix:20250627T080000
DTEND;TZID=America/Phoenix:20250627T170000
DTSTAMP:20260421T201250
CREATED:20250128T203325Z
LAST-MODIFIED:20250603T220708Z
UID:10038930-1751011200-1751043600@myflr.org
SUMMARY:Buckner Shoes for Orphans Soul Drive (Midland\, TX) 2025
DESCRIPTION:Join Family Life Radio 88.1  FM and Buckner as we together with you-are giving hope to children throughout the world by collecting shoes through the Midland Community Shoe Drive June 2 – June 27\, 2025. \n\n\nWhy shoes\, though?\n\n\n\nA new pair of shoes puts children on a path to health. \nIn many developing countries\, children have to walk barefoot in muddy\, rocky terrain for clean water or to attend school. With bare feet\, parasites and diseases like hookworm\, jiggers and tetanus can enter the body through cuts in the feet. These illnesses can stunt a child’s growth and development physically\, but also cause lifelong mental damage. \nShoes can protect against disease and infection. \n\n\n\nA new pair of shoes removes the barrier to education.\n\nMost schools require children to wear shoes to attend but for many poverty-stricken families\, shoes are a luxury they can’t afford. Studies show higher attendance in school increases children’s chances of obtaining an education – and rising out of poverty. \nA new pair of shoes shines hope. \nShoes demonstrate worth and God’s love to vulnerable children. Typically\, children in orphanages share everything – it’s not common for them to have a single possession of their own. New shoes provide hope for these children and the truth they are loved and cared for. \n\n\n\n\nA new pair of shoes creates opportunity. \nShoes connect families to holistic Buckner ministries. For many families\, receiving shoes can be the first step to connect with critical services at the Buckner Family Hope Center® in their community. Family Hope Center staff support families through coaching\, education and more along their transformational journey. \n\n\n\n\n\n  \nhttps://www.buckner.org/shoes/
URL:https://myflr.org/event/buckner-orphan-shoes-for-the-soul-drive-midland-tx-2025/
CATEGORIES:Featured,Texas
ATTACH;FMTTYPE=image/jpeg:https://eadn-wc05-15902914.nxedge.io/wp-content/uploads/2025/01/Midland-Community-Shoe-Drive_Save-Date.jpg
ORGANIZER;CN="Buckner Shoes for Orphan Souls":MAILTO:epinedo@buckner.org
END:VEVENT
BEGIN:VEVENT
DTSTART;TZID=America/Phoenix:20250627T080000
DTEND;TZID=America/Phoenix:20250627T170000
DTSTAMP:20260421T201250
CREATED:20250128T202819Z
LAST-MODIFIED:20250603T220529Z
UID:10038754-1751011200-1751043600@myflr.org
SUMMARY:Buckner Shoes for Orphan Souls Drive(Lubbock\, TX)
DESCRIPTION:Join Family Life Radio 90.1 FM and Buckner as we together with you-are giving hope to children throughout the world by collecting shoes through the Lubbock Community Shoe Drive June 2 – June 27\, 2025. \n\n\nWhy shoes\, though?\n\n\n\nA new pair of shoes puts children on a path to health. \nIn many developing countries\, children have to walk barefoot in muddy\, rocky terrain for clean water or to attend school. With bare feet\, parasites and diseases like hookworm\, jiggers and tetanus can enter the body through cuts in the feet. These illnesses can stunt a child’s growth and development physically\, but also cause lifelong mental damage. \nShoes can protect against disease and infection. \n\n\n\nA new pair of shoes removes the barrier to education.\n\nMost schools require children to wear shoes to attend but for many poverty-stricken families\, shoes are a luxury they can’t afford. Studies show higher attendance in school increases children’s chances of obtaining an education – and rising out of poverty. \nA new pair of shoes shines hope. \nShoes demonstrate worth and God’s love to vulnerable children. Typically\, children in orphanages share everything – it’s not common for them to have a single possession of their own. New shoes provide hope for these children and the truth they are loved and cared for. \n\n\n\n\nA new pair of shoes creates opportunity. \nShoes connect families to holistic Buckner ministries. For many families\, receiving shoes can be the first step to connect with critical services at the Buckner Family Hope Center® in their community. Family Hope Center staff support families through coaching\, education and more along their transformational journey. \n\n\n\n\n\n  \nhttps://www.buckner.org/shoes/
URL:https://myflr.org/event/lubbock-community-shoe-drive/
CATEGORIES:Featured,Texas
ATTACH;FMTTYPE=image/jpeg:https://eadn-wc05-15902914.nxedge.io/wp-content/uploads/2025/01/Lubbock-Community-Shoe-Drive-_-Save-Date-.jpg
ORGANIZER;CN="Buckner Shoes for Orphan Souls":MAILTO:epinedo@buckner.org
END:VEVENT
BEGIN:VEVENT
DTSTART;TZID=America/Phoenix:20240628T180000
DTEND;TZID=America/Phoenix:20240628T220000
DTSTAMP:20260421T201250
CREATED:20240621T221908Z
LAST-MODIFIED:20240621T221908Z
UID:10029503-1719597600-1719612000@myflr.org
SUMMARY:Red\, White & Shoes-Buckner Shoes 2024
DESCRIPTION:Red\, White & Shoes for Buckner Shoes Drive Party! \nFamily Life Radio 90.1 FM & Buckner Shoes for Orphan Souls brings you a fun night to drop off your new shoes\, eat food\, music and so much more! \nJoin Buckner Lubbock for a FREE pickleball scramble\, with no registrations required! Bring a pair of new kid’s shoes as your entry to play! All shoes donated will be distributed to vulnerable children through Buckner Shoes for Orphan Souls! \nJune 28\, 2024 \n6pm-10pm  \nBurgess-Rushing Tennis Center \n3007 66th St\, Lubbock\, TX 79413
URL:https://myflr.org/event/red-white-shoes-buckner-shoes-2024/
LOCATION:Burgess-Rushing Tennis Center\, 3030 66th Street\, Lubbock\, TX\, 79413\, United States
CATEGORIES:Featured,Texas
ATTACH;FMTTYPE=application/pdf:https://eadn-wc05-15902914.nxedge.io/wp-content/uploads/2024/06/FINAL-lubbock-shoes-flyerJune-28.2024-Party.pdf
ORGANIZER;CN="Buckner Shoes for Orphan Souls":MAILTO:epinedo@buckner.org
END:VEVENT
BEGIN:VEVENT
DTSTART;TZID=America/Phoenix:20240628T110000
DTEND;TZID=America/Phoenix:20240628T140000
DTSTAMP:20260421T201250
CREATED:20240521T013343Z
LAST-MODIFIED:20240521T014259Z
UID:10026874-1719572400-1719583200@myflr.org
SUMMARY:Lubbock Buckner Shoe Drive 2024
DESCRIPTION:Join us in giving hope to children by collecting shoes through the Lubbock Community Shoe Drive June 3 – June 28\, 2024.\nYou can serve childrend in Lubbock Texas by helping them with confidence\, sharing the love of God and carrying a burden with a child in need\, through a simple gift\, new shoes! Family Life Radio & Buckner Lubbock Family Hope Center is partnering June 3-June 28th to collect new shoes! \n\nWe just ask that they be closed toed and new. \n\n\nBring your shoes to the final drop-off day on  June 28th\, 11am-2pm at Buckner Lubbock Family Hope Center –1510 S Loop 289\, Lubbock\, TX 79412 \nFamily Life Radio 90.1 FM will be there with a tent\, music\, games and prizes for New Shoe Drop off’s! We’d love to meet you at this event! \n\n\nDrop-off Locations for Lubbock Community Shoe Drive 2024:\n\n\nLubbock Buckner Family Hope Center- 1510 S Loop 289\nLubbock\, TX 79412 Directions\n\n\n7 Brew- Lubbock Locations Directions\n\n\nUMC Children’s Hospital-602 Indiana Ave.\nLubbock\, TX 79415 Directions\n\n\nOden Veterinary Hospital-6305 66th St. Unit 100\nLubbock\, TX 79424 Directions\n\n\nWestminster Presbyterian Church-3321 33rd St.\nLubbock\, TX 79410 Directions
URL:https://myflr.org/event/lubbock-buckner-shoe-drive-2024/
LOCATION:Lubbock Buckner Family Hope Center\, 1510 S Loop 289\, Lubbock\, 79412\, United States
CATEGORIES:Featured,Texas
ATTACH;FMTTYPE=application/pdf:https://eadn-wc05-15902914.nxedge.io/wp-content/uploads/2024/05/Lubbock-Poster-2024_updatedradio-BUCKNER-Shoe-Drive.pdf
ORGANIZER;CN="Buckner Shoes for Orphan Souls":MAILTO:epinedo@buckner.org
END:VEVENT
BEGIN:VEVENT
DTSTART;TZID=America/Phoenix:20240628T100000
DTEND;TZID=America/Phoenix:20240628T150000
DTSTAMP:20260421T201250
CREATED:20240521T014144Z
LAST-MODIFIED:20240521T014144Z
UID:10026875-1719568800-1719586800@myflr.org
SUMMARY:Midland Buckner Shoe Drive 2024
DESCRIPTION:Join us in giving hope to children by collecting shoes through the Midland Community Shoe Drive June 3 – June 28\, 2024.\nYou can serve childrend in Midland Texas by helping them with confidence\, sharing the love of God and carrying a burden with a child in need\, through a simple gift\, new shoes! Family Life Radio & Buckner Midland Family Hope Center is partnering June 3-June 28th to collect new shoes! \n\nWe just ask that they be closed toed and new. \nBring your shoes to the Midland Family Hope Center on June 28th\, 10am-3pm\, to provide for children in your community. \n425 W. Pecan Ave.  Midland\, TX 79705 \n\n\nDrop-off Locations for Midland Community Shoe Drive 2024:\n\nBuckner Children and Family Services-425 W. Pecan Ave.\nMidland\, TX 79705  Directions\n\n\nCarson Law Firm- 900 Loop 250 Frontage Rd.\nMidland\, TX 79705 Directions\n\n\nSouthern Sass Salon- 1401 W. Illinois Ave.\nMidland\, TX 79701 Directions\n\n\nFirst Convenience Bank- 4210 John Ben Sheppard Pkwy\nOdessa\, TX 79762 Directions
URL:https://myflr.org/event/midland-buckner-shoe-drive-2024/
LOCATION:Midland Family Hope Center\, 425 W. Pecan Ave.\, Midland\, 79705\, United States
CATEGORIES:Featured,Texas
ATTACH;FMTTYPE=application/pdf:https://eadn-wc05-15902914.nxedge.io/wp-content/uploads/2024/05/Midland-Poster-2024-Buckner-Shoes.pdf
ORGANIZER;CN="Buckner Shoes for Orphan Souls":MAILTO:epinedo@buckner.org
END:VEVENT
END:VCALENDAR