
BEGIN:VCALENDAR
VERSION:2.0
PRODID:-//Family Life Radio - ECPv6.15.20//NONSGML v1.0//EN
CALSCALE:GREGORIAN
METHOD:PUBLISH
X-WR-CALNAME:Family Life Radio
X-ORIGINAL-URL:https://myflr.org
X-WR-CALDESC:Events for Family Life Radio
REFRESH-INTERVAL;VALUE=DURATION:PT1H
X-Robots-Tag:noindex
X-PUBLISHED-TTL:PT1H
BEGIN:VTIMEZONE
TZID:America/Phoenix
BEGIN:STANDARD
TZOFFSETFROM:-0700
TZOFFSETTO:-0700
TZNAME:MST
DTSTART:20230101T000000
END:STANDARD
END:VTIMEZONE
BEGIN:VEVENT
DTSTART;TZID=America/Phoenix:20240621T180000
DTEND;TZID=America/Phoenix:20240622T173000
DTSTAMP:20260421T182540
CREATED:20240530T031733Z
LAST-MODIFIED:20240530T031733Z
UID:10026994-1718992800-1719077400@myflr.org
SUMMARY:IF:2024 Women’s Conference
DESCRIPTION:This June at Mount Hope Church The IF:2024 Women’ Conference will be Hosting a live simulcast interactive event\, with live worship Friday\, June 21 from 6pm-10pm and Saturday\, June 22 from 9am-530pm\nIF:2024 is a space for us to remember who Jesus is and why we love him. For two days\, let’s rediscover the person of Jesus\, who is alive and wants to take us on an adventure toward full life. And then\, let’s go give Him away to the whole world.
URL:https://myflr.org/event/if2024-womens-conference/
LOCATION:Mount Hope Church (Lansing\, MI)\, 202 S Creyts Rd\, Lansing\, MI\, 48917\, United States
CATEGORIES:Michigan
ATTACH;FMTTYPE=image/jpeg:https://eadn-wc05-15902914.nxedge.io/wp-content/uploads/2024/05/IFConference-Signup-1920x1080-1.jpg
ORGANIZER;CN="Caitlin Klein":MAILTO:caitlink@mounthopechurch.org
END:VEVENT
END:VCALENDAR