
BEGIN:VCALENDAR
VERSION:2.0
PRODID:-//Family Life Radio - ECPv6.15.20//NONSGML v1.0//EN
CALSCALE:GREGORIAN
METHOD:PUBLISH
X-ORIGINAL-URL:https://myflr.org
X-WR-CALDESC:Events for Family Life Radio
REFRESH-INTERVAL;VALUE=DURATION:PT1H
X-Robots-Tag:noindex
X-PUBLISHED-TTL:PT1H
BEGIN:VTIMEZONE
TZID:America/Phoenix
BEGIN:STANDARD
TZOFFSETFROM:-0700
TZOFFSETTO:-0700
TZNAME:MST
DTSTART:20220101T000000
END:STANDARD
END:VTIMEZONE
BEGIN:VEVENT
DTSTART;TZID=America/Phoenix:20260405T073000
DTEND;TZID=America/Phoenix:20260405T090000
DTSTAMP:20260421T201915
CREATED:20260312T170359Z
LAST-MODIFIED:20260312T170359Z
UID:10059591-1775374200-1775379600@myflr.org
SUMMARY:Easter Sunrise Service-UNM Stadium w/ Tim Timmons & Ps Skip Heitzig
DESCRIPTION:Join Family Life Radio and Calvary Church of Albuquerque for New Mexico’s largest Easter  service on Sunday\, April 5\, at 7:30 am at University of New Mexico Stadium. \nAs the sun rises\, we’ll celebrate the resurrection of Jesus and the new life He offers—inviting us to follow Him out of the grave and into hope. \nExperience powerful worship led by Tim Timmons (I Can Only Imagine 2) and Calvary MSC\, along with a life‑changing Easter message from Pastor Skip Heitzig. \nSpanish and deaf interpretation will be available at the stadium. No backpacks\, please. \nAdditional Easter services will be held at: \nOsuna Campus: 9:30 & 11:30 am\nEast Mountains Campus: 9 & 11 am\nWestside & Santa Fe Campuses: 10 am \n 
URL:https://myflr.org/event/easter-sunrise-service-unm-stadium-w-tim-timmons-ps-skip-heitzig/
LOCATION:UNM Stadium\, 1111 University Blvd SE\, Albuquerque\, NM\, 87106\, United States
CATEGORIES:Featured,New Mexico
ATTACH;FMTTYPE=image/jpeg:https://eadn-wc05-15902914.nxedge.io/wp-content/uploads/2026/03/Easter-Sunrise-Service-2026-graphic.jpg
END:VEVENT
BEGIN:VEVENT
DTSTART;TZID=America/Phoenix:20260331T183000
DTEND;TZID=America/Phoenix:20260331T203000
DTSTAMP:20260421T201915
CREATED:20260218T232148Z
LAST-MODIFIED:20260218T232148Z
UID:10059037-1774981800-1774989000@myflr.org
SUMMARY:Sheologie Ever Spoken Women's Bible Study
DESCRIPTION:Have you ever wanted to study the ancient biblical manuscripts and understand the Bible beyond the limits of English translation? \nJoin Lenya Heitzig and Sheologie this March for Ever Spoken: The Language of Scripture\, a captivating journey into the original languages of Scripture: Hebrew\, Aramaic\, and Greek. Discover the layers of meaning in words like love\, eros\, phileo\, and agape\, and be inspired by the revival of Hebrew\, the language God first spoke to His people. \nThis Bible study marks the release of Lenya’s new study guide\, Ever Spoken\, a companion text woven seamlessly into each week’s teaching which invites us to hear God’s Word as it was first spoken and as it still speaks today. \nThrough this journey\, you’ll encounter the beauty\, depth\, and precision of Scripture—ancient words will come alive with new meaning\, color\, and breath. Come discover how every word ever spoken by God continues to echo with life today. \nAdditional copies of Ever Spoken will be available for purchase at our weekend kiosks\, on Tuesday nights at the Bible study merch table\, or in our Sheologie shop.
URL:https://myflr.org/event/sheologie-ever-spoken-womens-bible-study/2026-03-31/
LOCATION:Calvary Church with Skip Heitzig\, 4001 Osuna Rd NE\, NE Albuquerque\, NM\, 87109-4422\, United States
CATEGORIES:New Mexico
ATTACH;FMTTYPE=image/png:https://eadn-wc05-15902914.nxedge.io/wp-content/uploads/2026/02/Screenshot-2026-02-09-at-4.15.10-PM.png
END:VEVENT
BEGIN:VEVENT
DTSTART;TZID=America/Phoenix:20251122T080000
DTEND;TZID=America/Phoenix:20251122T150000
DTSTAMP:20260421T201915
CREATED:20251029T185259Z
LAST-MODIFIED:20251029T205921Z
UID:10057102-1763798400-1763823600@myflr.org
SUMMARY:Thanksgiving Pick Up Party-Volunteers Needed!
DESCRIPTION:Join Us in Serving at the Thanksgiving Pickup Party!\nThis special Thanksgiving event is for our invited partnering organizations — but we’re inviting our Family Life Radio community to join us in serving! \nWe’re looking for volunteers and professionals who want to make a difference and share God’s love through practical acts of service. We always need more hands in the field and hearts willing to help! \nWe’re especially seeking Hair Stylists\, Barbers\, Dentists\, Dental Assistants\, Hygienists\, Nurses\, Physical Therapists\, Doctors\, and Physician Assistants to donate their time and talents to bless families at this event. \nYour involvement helps us create a beautiful day filled with hope\, care\, and community connection. \n💛 Give Hope This Thanksgiving:A $50 donation feeds a family of four with a full Thanksgiving meal\, groceries\, haircuts\, kids’ shoes\, medical and dental services\, community resources\, and more! \n👉 Serve as a Professional👉VOLUNTEER SIGN-UP \nTogether\, we can show the love of Jesus in action this Thanksgiving! \n  \n 
URL:https://myflr.org/event/thanksgiving-pick-up-party-volunteers-needed/
LOCATION:Calvary ABQ\, 4001 Osuna Road NE\, Albquerque\, NM\, 87109\, United States
CATEGORIES:Featured,New Mexico
ATTACH;FMTTYPE=image/png:https://eadn-wc05-15902914.nxedge.io/wp-content/uploads/2025/10/Thanksgiving-Pick-up-Party-11.22.25-Calvary-ABQ.png
END:VEVENT
BEGIN:VEVENT
DTSTART;TZID=America/Phoenix:20250628T160000
DTEND;TZID=America/Phoenix:20250628T220000
DTSTAMP:20260421T201915
CREATED:20250509T233401Z
LAST-MODIFIED:20250609T222945Z
UID:10041093-1751126400-1751148000@myflr.org
SUMMARY:Freedom Celebration 2025 -Jeremy Camp\, Jordan Feliz\, Passion Fireworks
DESCRIPTION:You’re invited by Calvary Albuquerque and Family Life Radio 91.5 FM… \nFREEDOM CELEBRATION 2025\nSaturday\, June 28 • 4 pm • Expo New Mexico\nYou’re invited to a free\, festival-style Fourth of July celebration at Expo New Mexico on Saturday\, June 28. Enjoy live\, high-energy music featuring Christian chart-toppers and rising talent: Jeremy Camp\, Jordan Feliz\, Passion Music and Calvary MSC. \nInvite your friends and bring the whole family for food\, carnival games\, bounce houses\, a car show\, and extreme sports demos by Beaver Flemming and Adam Jones from Nitro Circus. \nExpo New Mexico takes your safety seriously. Bags must be approximately the size of a hand or must be clear and smaller than 12″ by 6″ by 12″. Small personal umbrellas are permitted. No weapons of any kind\, outside food\, pets\, or large umbrellas allowed. Prepare for your visit to Expo New Mexico by reviewing their EXPO Bag Policy page. \n4 pm – Fun Zone\, Food Trucks & Concession Stands\n5:30 pm – Live Music\n8 pm – Message from Skip Heitzig\n9 pm – Live Music\n9:40 pm – Fireworks\nFamily Life Radio will be there set up with  our FLR TENT\, games\, prizes and fun! Stop by and see us!
URL:https://myflr.org/event/freedom-celebration-2025-jeremy-camp-jordan-feliz-passion-w-kristian-stanfill/
LOCATION:Expo New Mexico\, 300 San Pedro Dr NE\,\, Albuquerque\, NM\, 87108\, United States
CATEGORIES:Featured,New Mexico
ATTACH;FMTTYPE=application/pdf:https://eadn-wc05-15902914.nxedge.io/wp-content/uploads/2025/05/FreedomCelebration2025-Poster-22x28-1.pdf
END:VEVENT
BEGIN:VEVENT
DTSTART;TZID=America/Phoenix:20250510T083000
DTEND;TZID=America/Phoenix:20250510T133000
DTSTAMP:20260421T201915
CREATED:20250331T230336Z
LAST-MODIFIED:20250331T231712Z
UID:10040898-1746865800-1746883800@myflr.org
SUMMARY:Spring Gathering ’25: Nest (Mother’s Day Soiree)
DESCRIPTION:Family Life Radio and Calvary Albuquerque-Sheologie Ministries invites you to…\nSpring Gathering ’25: Nest\nSaturday\, May 10\, 2025 \n8:30am-1:30pm \nCalvary Albuquerque-Ampitheatre \n4001 Osuna Rd NE ABQ 87109 \nSpecial Music with Iveth Luna and speakers\, Lenya Heitzig & Liz Turner \n\n\n\n\nJust as the sparrow finds a home and the swallow a nest for her young\, we can find rest in the loving presence of our Heavenly Father (see Psalm 84:3). You’re invited to join Lenya Heitzig and Sheologie for a Mother’s Day soirée at our Spring Gathering: Nest\, on Saturday\, May 10\, from 8:30 am until 1:30 pm at Calvary Church Albuquerque. \nCome experience a day of encouragement\, connection\, and joy as we reflect on the beauty of a mother’s heart—a place of warmth\, nurture\, and unwavering faith. You’ll enjoy a beautiful time of worship with Iveth Luna\, an uplifting message from Liz Turner\, brunch\, a time of fellowship\, and special surprises to make the day unforgettable. \nWhether you’re a mother\, a daughter\, or a woman who nurtures others\, Nest is for you. Step into a sacred space where you are cherished and known\, and remember that you are never alone—your heart has a home in Him. \nLocal New Mexico vendors to shop\, bruch box\, teaching\, music\, fellowship+ It’s a Mother’s Day Soiree! \nGet your tickets HERE!  Tickets are $25.00 per person.
URL:https://myflr.org/event/spring-gathering-25-nest-mothers-day-soiree/
LOCATION:Calvary ABQ\, 4001 Osuna Road NE\, Albquerque\, NM\, 87109\, United States
CATEGORIES:Featured,New Mexico
ATTACH;FMTTYPE=image/jpeg:https://eadn-wc05-15902914.nxedge.io/wp-content/uploads/2025/03/Sheologie-Nest-FeaturedImg-1536x864-2.jpg
END:VEVENT
BEGIN:VEVENT
DTSTART;TZID=America/Phoenix:20250420T073000
DTEND;TZID=America/Phoenix:20250420T093000
DTSTAMP:20260421T201915
CREATED:20250331T233700Z
LAST-MODIFIED:20250331T233700Z
UID:10040899-1745134200-1745141400@myflr.org
SUMMARY:Easter Sunrise service at UNM Stadium 2025
DESCRIPTION:Calvary Church Albuquerque (Calvary ABQ) invites to you New Mexico’s Biggest…\nEaster Sunrise service at UNM Stadium \nSunday\, April 20\, 2025\, at 7:30 AM MDT.\nSpecial music/worship w/ Mack Brock and Calvary MSC\nPastor Skip Heitzig will bring a special message.\n\n\n\n\n\n\n\n\n\n\nWe can leave the weight of sin behind and experience true freedom and love because of what happened on the cross. When Jesus walked out of the grave on Resurrection Sunday\, He defeated sin and death—giving us hope\, joy\, and the promise of new life—now and forever.\n\nCelebrate the death and resurrection of Jesus Christ with us on Easter Sunday\, April 20\, at 7:30 am at UNM Stadium. We’ll enjoy worship with Mack Brock and Calvary MSC and Pastor Skip Heitzig will give a life-changing gospel message.\n\nNo backpacks\, please. All bags are subject to inspection. In preparation for Easter weekend services\, there are no services on Wednesday\, April 16\, and Saturday\, April 19\, at our Osuna campus.\n\nAdditional services will be held at 9:30 and 11:30 am at our Osuna campus\, and at our Westside\, Santa Fe\, and East Mountain campuses at 10 am.\n\nVisit easterabq.com for more details about Easter sunrise service at UNM Stadium.\n\n\n\n\n\n\n\n\n\n 
URL:https://myflr.org/event/easter-sunrise-service-at-unm-stadium-2025/
LOCATION:UNM Stadium\, 1111 University Blvd SE\, Albuquerque\, NM\, 87106\, United States
CATEGORIES:Featured,New Mexico
ATTACH;FMTTYPE=image/jpeg:https://eadn-wc05-15902914.nxedge.io/wp-content/uploads/2025/03/Easter-Sunrise-Service-2025.jpg
END:VEVENT
BEGIN:VEVENT
DTSTART;TZID=America/Phoenix:20240629T160000
DTEND;TZID=America/Phoenix:20240629T220000
DTSTAMP:20260421T201915
CREATED:20240606T185531Z
LAST-MODIFIED:20240606T185531Z
UID:10027100-1719676800-1719698400@myflr.org
SUMMARY:Freedom Celebration 2024
DESCRIPTION:Celebrate Fourth of July at New Mexico’s Festival-Style Freedom Celebration\n– Saturday\, June 29\, at 4 pm at Isleta Amphitheater\n– Free Event Includes Live Music (Colton Dixon\, Sanctus Real\, and more)\, Message from\nPastor Skip Heitzig\, Santus Real\, Colton Dixon\, Austin French\, Andrew Ripp\, Caleb & John and Fireworks!\n4 PM – FUN ZONE\, FOOD TRUCKS & CONCESSION STANDS\n5:30 PM – LIVE MUSIC\n8:15 PM – MESSAGE FROM SKIP HEITZIG\n9:15 PM – FIREWORKS\nFamily Life Radio & Calvary Church announces New Mexico’s festival-style Freedom\nCelebration is Saturday\, June 29\, at 4 pm at Isleta Amphitheater. This citywide event is free to\nattend and open to everyone. \nCalvary Church celebrates both America’s unique promise of political freedom and Christianity’s\nunique promise of spiritual freedom through faith in Jesus. For the first time\, the annual event is\nbeing held at Isleta Amphitheater in anticipation of thousands in attendance. \nThe park opens at 4 pm when families can enjoy dinner from concession stands and local food\ntrucks\, plus a fun zone with carnival games and bounce houses. Live music starts at 5:30 pm\nwith special guests Colton Dixon\, Sanctus Real\, Andrew Ripp\, Austin French\, Caleb & John\, and\nCalvary Worship\, followed by a message about true freedom from Senior Pastor Skip Heitzig.\nThe event concludes with one of the city’s best fireworks displays. \nIsleta Amphitheater is a cashless venue and follows a clear-bag policy; all bags are subject to\ninspection. Lawn chairs and coolers are not permitted. For more information\, visit\nfreedomabq.com and Isleta Amphitheater’s Know Before You Go page. www.Freedomabq.com 
URL:https://myflr.org/event/freedom-celebration-2024/
LOCATION:Isleta Ampitheatre\, 5601 University Blvd SE\, Albuquerque\, NM\, 87106\, United States
CATEGORIES:Featured,New Mexico
ATTACH;FMTTYPE=application/pdf:https://eadn-wc05-15902914.nxedge.io/wp-content/uploads/2024/06/FreedomCelebration2024-Poster-11x17-1.pdf
END:VEVENT
BEGIN:VEVENT
DTSTART;TZID=America/Phoenix:20240502T163000
DTEND;TZID=America/Phoenix:20240502T210000
DTSTAMP:20260421T201915
CREATED:20240502T012237Z
LAST-MODIFIED:20240502T012237Z
UID:10025033-1714667400-1714683600@myflr.org
SUMMARY:National Day of Prayer FREE EVENT-ALBUQUERQUE
DESCRIPTION:THURSDAY\, MAY 2ND\, 2024-NATIONAL DAY OF PRAYER-ABQ\nMeet us at the Albuquerque Civic Plaza on Thursday\, May 2\, as we celebrate National Day of Prayer. God’s Word tells us to pray for our political leaders\, and it is our honor to obey the Lord by gathering to lift them up in prayer. Come as early as 4:30 pm for bounce houses\, food trucks\, and family fun. Prayer service begins at 6 pm as we worship with Sean Curran of Passion and hear a special message from Vince Torres. This year will be a completely revamped experience for the whole family to enjoy\, so come prepared to pray\, fellowship\, and celebrate what God is doing.\nPLAZA PARTY\nFollowing our all-ages National Day of Prayer event at Civic Plaza\, youth will enjoy an evangelism-focused Plaza Party beginning at 8 pm. We’ll enjoy high-energy live music with special guest Aaron Cole and fun activities as we hang out and celebrate what God is doing in our city and our state. Bring a friend to experience the fun and hear a brief gospel message.\nIt’s a FREE Event in Albuquerque\, NM and ministry of\, www.lovenm.org\nhttps://fb.me/e/5q1JsmCDn
URL:https://myflr.org/event/national-day-of-prayer-free-event-albuquerque/
LOCATION:Civic Plaza Albuquerque\, 52 Civic Plaza NW\, Albuquerque\, NM\, 87102\, United States
CATEGORIES:Featured,New Mexico
ATTACH;FMTTYPE=image/jpeg:https://eadn-wc05-15902914.nxedge.io/wp-content/uploads/2024/05/NDP-2024-image.jpg
END:VEVENT
BEGIN:VEVENT
DTSTART;TZID=America/Phoenix:20240331T073000
DTEND;TZID=America/Phoenix:20240331T100000
DTSTAMP:20260421T201915
CREATED:20240307T202457Z
LAST-MODIFIED:20240307T230418Z
UID:10020887-1711870200-1711879200@myflr.org
SUMMARY:Easter Sunrise-From the Ground UNM Stadium
DESCRIPTION:NEW MEXICO’S BIGGEST EASTER SERVICE\nSUNDAY\, MARCH 31  •  7:30 AM  •  UNM STADIUM\nINVITE EVERYONE. BRING SOMEONE.\n\n\n\n\n\n\n\nMESSAGE BY\nSKIP HEITZIG\nSkip Heitzig is the senior pastor of Calvary Church. He reaches out to thousands around the world through his multimedia ministry\, Connect with Skip Heitzig. He has authored several books including The Bible from 30\,000 Feet and You Can Understand the Book of Revelation. He serves on several boards\, including Samaritan’s Purse and Harvest. Skip and his wife\, Lenya\, live in Albuquerque\, New Mexico\, along with their son\, Nathan\, his wife\, Janaé\, and their children\, Seth and Kaydence \n\nWORSHIP WITH\nAUSTIN FRENCH\nAustin French is a singer\, songwriter\, author\, husband\, and father of three. He first gained prominence as the runner-up on ABC’s reality show Rising Star. Bursting onto the scene in 2017\, he swiftly climbed the Billboard Hot Christian Songs chart with his debut single\, “Freedom Hymn.” In 2019\, he was nominated for New Artist of the Year at the GMA Dove Awards. With catchy hooks and Spirit-fueled lyrics\, Austin aims to spread a message of hope in Jesus through his music. \nWORSHIP WITH\nCALVARY WORSHIP\nCalvary Worship is the worship ministry of Calvary Church\, a congregation based in the heart of the Land of Enchantment. Our collective of passionate worship leaders\, songwriters\, and musicians endeavors to push the barriers on worship music norms with songs that reflect the fatherly heart of God and unite people around the world. With a dynamic heartbeat\, Calvary Worship strives for excellence in a way that honors what God has called us to. \n\nFrom the Ground
URL:https://myflr.org/event/easter-sunrise-from-the-ground-unm-stadium/
LOCATION:UNM Stadium\, 1111 University Blvd SE\, Albuquerque\, NM\, 87106\, United States
CATEGORIES:Featured,New Mexico
ATTACH;FMTTYPE=image/jpeg:https://eadn-wc05-15902914.nxedge.io/wp-content/uploads/2024/03/EasterSunrise-Service-2024-1.jpg
END:VEVENT
BEGIN:VEVENT
DTSTART;TZID=America/Phoenix:20240312T183000
DTEND;TZID=America/Phoenix:20240402T203000
DTSTAMP:20260421T201915
CREATED:20240214T040455Z
LAST-MODIFIED:20240214T040457Z
UID:10019856-1710268200-1712089800@myflr.org
SUMMARY:Romance of Redemption Bible Study
DESCRIPTION:Romance of Redemption explores the book of Ruth—one of the greatest love stories ever told about love\, loss\, faithfulness\, and redemption. Through the best and worst of circumstances\, Ruth was right where God guided her. We’ll explore how God has us at the right place and the right time—just like Ruth during the harvest\, when she encountered Boaz in the field. The book of Ruth challenges us to become bold in our faith\, taking advantage of the divine opportunities God places in our paths. Perhaps you feel as though you are an unlikely person to be used by God. Maybe you don’t believe that your degree or pedigree are enough to make a difference in God’s Kingdom. Find out how God can work through your life and redeem the unredeemable for His Kingdom. \nJoin us Tuesday\, March 12 through April 2\, and see how God meets you right where you are. \nThis is a $10 Bible Study\, however\, Family Life Radio listeners may register for FREE using promo code: FREE24  \nFor more info: Go HERE!
URL:https://myflr.org/event/romance-of-redemption-bible-study-2/
LOCATION:Calvary ABQ\, 4001 Osuna Road NE\, Albquerque\, NM\, 87109\, United States
CATEGORIES:New Mexico
ATTACH;FMTTYPE=image/jpeg:https://eadn-wc05-15902914.nxedge.io/wp-content/uploads/2024/02/sheologie-romance-of-redemption-featuredimg-1536x864-1.jpeg
END:VEVENT
BEGIN:VEVENT
DTSTART;TZID=America/Phoenix:20240217T183000
DTEND;TZID=America/Phoenix:20240219T110000
DTSTAMP:20260421T201915
CREATED:20240209T173157Z
LAST-MODIFIED:20240209T173157Z
UID:10019615-1708194600-1708340400@myflr.org
SUMMARY:For King & Country Guest Worship Artist at Calvary of Albuquerque (2/17-2/18)
DESCRIPTION:Guest Worship Artist\, For King & Country will be at all Osuna worship services at Calvary of Albuquerque on Saturday\, February 17th at 6:30pm and Sunday\, February 18th at 9am & 11am! \nInvite someone to join you at church\, with special worship and guest artist followed by a special message from Nate Heitzig. It’s FREE! \nCalvary of Albuquerque \n4001 Osuna Rd NE 87109 \nSat\, Feb 17th @6:30pm \nSun\, Feb 18th @ 9am & 11 am \nFor King & Country special worship guests\, with Nate Heitzig speaking! \nMore details go HERE!
URL:https://myflr.org/event/for-king-country-guest-worship-artist-at-calvary-of-albuquerque-2-17-2-18/
LOCATION:Calvary ABQ\, 4001 Osuna Road NE\, Albquerque\, NM\, 87109\, United States
CATEGORIES:Featured,New Mexico
ATTACH;FMTTYPE=image/jpeg:https://eadn-wc05-15902914.nxedge.io/wp-content/uploads/2024/02/425460021_767376082090589_161176742057636853_n.jpg
END:VEVENT
BEGIN:VEVENT
DTSTART;TZID=America/Phoenix:20230701T163000
DTEND;TZID=America/Phoenix:20230701T213000
DTSTAMP:20260421T201915
CREATED:20230607T214052Z
LAST-MODIFIED:20230608T203121Z
UID:10010612-1688229000-1688247000@myflr.org
SUMMARY:Freedom Celebration w/ Crowder\, Andy Mineo\, Sarah Reeves & Fireworks
DESCRIPTION:Saturday\, JULY 1st at 4:30 pm • balloon fiesta park • free\n\n\n\n\n\n\n\n\n\n\n\nJoin Family Life Radio 91.5 FM & Calvary Albuquerque…\n\n\n\n\n\n\nYou’re invited! Join us for a free festival-style 4th of July celebration at Balloon Fiesta Park. Enjoy high-energy live music\, one of the city’s best fireworks displays\, and a message about true freedom from Skip Heitzig. \nBring the kids as early as 4:30 pm to hang out in the Fun Zone and grab a bite from the food trucks. Don’t miss the extreme sports demo featuring Beaver Flemming and Adam Jones of Nitro Circus. Live music with special guests Crowder\, Andy Mineo\, Sarah Reeves\, and Calvary Worship starts. \nPlease bring a blanket or folding chairs. Bags/backpacks are subject to inspection. \nBalloon Fiesta Park-9401 Balloon Fiesta Pkwy NE\, Albuquerque\, NM 87113 \n4:30 pm – fun zone & food trucks\n5:30 pm – extreme sports demo\n7:00 pm – live music\n8:30 pm – message from skip heitzig\n9:30 pm – fireworks\nFor more information go to: https://freedomabq.org/ 
URL:https://myflr.org/event/freedom-celebration-w-crowder-andy-mineo-sarah-reeves-fireworks/
LOCATION:Balloon Fiesta Park\, 9401 Balloon Fiesta Pkwy NE\, Albuquerque\, NM\, 87113\, United States
CATEGORIES:Featured,New Mexico
ATTACH;FMTTYPE=image/jpeg:https://eadn-wc05-15902914.nxedge.io/wp-content/uploads/2023/06/Freedom-Celebration-2023-Flyer-front.-jpg.jpg
END:VEVENT
END:VCALENDAR