
BEGIN:VCALENDAR
VERSION:2.0
PRODID:-//Family Life Radio - ECPv6.15.20//NONSGML v1.0//EN
CALSCALE:GREGORIAN
METHOD:PUBLISH
X-ORIGINAL-URL:https://myflr.org
X-WR-CALDESC:Events for Family Life Radio
REFRESH-INTERVAL;VALUE=DURATION:PT1H
X-Robots-Tag:noindex
X-PUBLISHED-TTL:PT1H
BEGIN:VTIMEZONE
TZID:America/Phoenix
BEGIN:STANDARD
TZOFFSETFROM:-0700
TZOFFSETTO:-0700
TZNAME:MST
DTSTART:20250101T000000
END:STANDARD
END:VTIMEZONE
BEGIN:VEVENT
DTSTART;TZID=America/Phoenix:20260627T160000
DTEND;TZID=America/Phoenix:20260627T213000
DTSTAMP:20260420T005550
CREATED:20260325T221707Z
LAST-MODIFIED:20260325T221734Z
UID:10060037-1782576000-1782595800@myflr.org
SUMMARY:Freedom Celebration 2026
DESCRIPTION:Freedom Celebration 2026\nSaturday\, June 27\, 2026 \nBalloon Fiesta Park \n4pm-kids zone \nMusic\, artists\, kid zone & special Evangelistic speaker and more+ \nFreedom Celebration is New Mexico’s free\, family‑friendly festival celebrating both the freedom we enjoy as a nation and the lasting freedom found only through Jesus Christ. This is more than an event—it’s an invitation for you to gather\, celebrate\, and share hope with our community. \nBring your friends\, family\, and neighbors to Balloon Fiesta Park on Saturday\, June 27\, and enjoy an unforgettable evening filled with live music\, food\, fun activities for all ages\, and a powerful message about true freedom. Festivities begin at 4 pm.
URL:https://myflr.org/event/freedom-celebration-2026/
LOCATION:Balloon Fiesta Park\, 9401 Balloon Fiesta Pkwy NE\, Albuquerque\, NM\, 87113\, United States
CATEGORIES:Featured,New Mexico
ATTACH;FMTTYPE=image/jpeg:https://eadn-wc05-15902914.nxedge.io/wp-content/uploads/2026/03/freedom26.jpg
END:VEVENT
END:VCALENDAR