
BEGIN:VCALENDAR
VERSION:2.0
PRODID:-//Family Life Radio - ECPv6.15.20//NONSGML v1.0//EN
CALSCALE:GREGORIAN
METHOD:PUBLISH
X-WR-CALNAME:Family Life Radio
X-ORIGINAL-URL:https://myflr.org
X-WR-CALDESC:Events for Family Life Radio
REFRESH-INTERVAL;VALUE=DURATION:PT1H
X-Robots-Tag:noindex
X-PUBLISHED-TTL:PT1H
BEGIN:VTIMEZONE
TZID:America/Phoenix
BEGIN:STANDARD
TZOFFSETFROM:-0700
TZOFFSETTO:-0700
TZNAME:MST
DTSTART:20250101T000000
END:STANDARD
END:VTIMEZONE
BEGIN:VEVENT
DTSTART;TZID=America/Phoenix:20260328T110000
DTEND;TZID=America/Phoenix:20260328T130000
DTSTAMP:20260421T065850
CREATED:20260310T205629Z
LAST-MODIFIED:20260310T205629Z
UID:10059120-1774695600-1774702800@myflr.org
SUMMARY:Beloved Widows Brunch (Thrive) ABQ
DESCRIPTION:Widows Brunch\nHosted by Thrive Women’s Ministry at Calvary Chapel Southwest \nIf you are a widow\, you are warmly invited to a special morning created just for you. \nOn Saturday\, March 28\, 2026\, from 11:00 AM to 1:00 PM\, Thrive Women’s Ministry at Calvary Chapel Southwest will host a free Widows Brunch exclusively for widows of every age and every season. \nThis gathering is designed to offer encouragement\, connection\, and hope. Guest speaker Larissa Lusko\, who has walked the journey of widowhood herself\, will share a message centered on the Hebrew word hesed — God’s steadfast\, covenant love — drawn from Jeremiah 31:3: “I have loved you with an everlasting love; therefore with lovingkindness I have drawn you.” \nBrunch will be provided. Space is limited\, and registration is required by March 22\, 2026. \nWe would be honored to have you join us for this meaningful time together. \nRegister today at calvarysouthwest.com.
URL:https://myflr.org/event/beloved-widows-brunch-thrive-abq/
LOCATION:Calvary Southwest\, 9510 Fortuna Rd SW\, Albuquerque\, NM\, 87121\, United States
CATEGORIES:New Mexico
ATTACH;FMTTYPE=image/jpeg:https://eadn-wc05-15902914.nxedge.io/wp-content/uploads/2026/02/Beloved-Thrive.jpg
ORGANIZER;CN="Calvary Southwest":MAILTO:calvarysw@gmail.com
END:VEVENT
END:VCALENDAR