
BEGIN:VCALENDAR
VERSION:2.0
PRODID:-//Family Life Radio - ECPv6.15.20//NONSGML v1.0//EN
CALSCALE:GREGORIAN
METHOD:PUBLISH
X-ORIGINAL-URL:https://myflr.org
X-WR-CALDESC:Events for Family Life Radio
REFRESH-INTERVAL;VALUE=DURATION:PT1H
X-Robots-Tag:noindex
X-PUBLISHED-TTL:PT1H
BEGIN:VTIMEZONE
TZID:America/Phoenix
BEGIN:STANDARD
TZOFFSETFROM:-0700
TZOFFSETTO:-0700
TZNAME:MST
DTSTART:20240101T000000
END:STANDARD
END:VTIMEZONE
BEGIN:VEVENT
DTSTART;TZID=America/Phoenix:20260417T083000
DTEND;TZID=America/Phoenix:20260418T170000
DTSTAMP:20260421T053708
CREATED:20251010T001802Z
LAST-MODIFIED:20260314T015317Z
UID:10056675-1776414600-1776531600@myflr.org
SUMMARY:2026 CAPE-NM Homeschool Convention
DESCRIPTION:The CAPE-NM homeschool convention will be marking its 30th anniversary by encouraging\, supporting and informing homeschoolers of New Mexico. You’ll be encouraged by the many speakers\, will have plenty of resources available at the exhibit hall\, and you’ll get lots of fellowship time with other homeschooling families!
URL:https://myflr.org/event/2026-cape-nm-homeschool-convention/
LOCATION:Legacy Church of Albuquerque 7201 Central Ave NW\, Albuquerque\, NM 87121\, 7201 Central Ave NW\, Albuquerque\, NM 87121\, Albuquerque\, NM\, 87121\, United States
CATEGORIES:Featured,New Mexico
ATTACH;FMTTYPE=image/jpeg:https://eadn-wc05-15902914.nxedge.io/wp-content/uploads/2025/10/Cape-NM-Convention-2026.jpg
ORGANIZER;CN="CAPE-NM":MAILTO:info@cape-nm.org
END:VEVENT
BEGIN:VEVENT
DTSTART;TZID=America/Phoenix:20260416T183000
DTEND;TZID=America/Phoenix:20260416T203000
DTSTAMP:20260421T053708
CREATED:20251010T001648Z
LAST-MODIFIED:20260314T015446Z
UID:10056677-1776364200-1776371400@myflr.org
SUMMARY:CAPE-NM Free "How to" Homeschool Class
DESCRIPTION:For those who are thinking of homeschooling or those just starting\, this is the class for you! An in-depth extensive workshop with everything from why homeschool to how to homeschool. For those who have homeschooled a few years it can also be helpful to be inspired as well as get a few new ideas.
URL:https://myflr.org/event/cape-nm-how-to-homeschool-class/
LOCATION:Legacy Church of Albuquerque 7201 Central Ave NW\, Albuquerque\, NM 87121\, 7201 Central Ave NW\, Albuquerque\, NM 87121\, Albuquerque\, NM\, 87121\, United States
CATEGORIES:Featured,New Mexico
ATTACH;FMTTYPE=image/jpeg:https://eadn-wc05-15902914.nxedge.io/wp-content/uploads/2025/10/Cape-NM-Convention-2026-1.jpg
ORGANIZER;CN="CAPE-NM":MAILTO:info@cape-nm.org
END:VEVENT
BEGIN:VEVENT
DTSTART;TZID=America/Phoenix:20260205T090000
DTEND;TZID=America/Phoenix:20260205T120000
DTSTAMP:20260421T053708
CREATED:20251010T001725Z
LAST-MODIFIED:20251010T001725Z
UID:10056676-1770282000-1770292800@myflr.org
SUMMARY:2026 CAPE @ the Capitol
DESCRIPTION:CAPE at the Capitol is homeschool day in Santa Fe\, celebrating the Governor’s annual official proclamation of Home Education Week in New Mexico.\nAn event that builds and maintains the foundations that keeps homeschooling free in New Mexico.\nA morning in beautiful Santa Fe\, New Mexico\, the oldest capital city in the United States.\nA chance to meet your lawmakers and other homeschoolers.\nA field trip to introduce your children to the legislative process.\nAn opportunity to show decision-makers how normal homeschooling and homeschoolers really are.
URL:https://myflr.org/event/2026-cape-the-capitol/
LOCATION:State Capitol Santa Fe\, NM\, 411 S Capitol St\, Santa Fe\, NM\, 87501\, United States
CATEGORIES:New Mexico
ATTACH;FMTTYPE=image/jpeg:https://eadn-wc05-15902914.nxedge.io/wp-content/uploads/2025/10/CAPE-new-logo-copy-1.jpg
ORGANIZER;CN="CAPE-NM":MAILTO:info@cape-nm.org
END:VEVENT
BEGIN:VEVENT
DTSTART;TZID=America/Phoenix:20250502T083000
DTEND;TZID=America/Phoenix:20250503T170000
DTSTAMP:20260421T053708
CREATED:20250128T194720Z
LAST-MODIFIED:20250128T194720Z
UID:10038898-1746174600-1746291600@myflr.org
SUMMARY:2025 CAPE-NM Homeschool Convention
DESCRIPTION:The CAPE-NM homeschool convention will be marking its 29th anniversary by encouraging\, supporting and informing homeschoolers of New Mexico. You’ll be encouraged by the many speakers\, will have plenty of resources available at the exhibit hall\, and you’ll get lots of fellowship time with other homeschooling families!
URL:https://myflr.org/event/2025-cape-nm-homeschool-convention-2/
LOCATION:Legacy Church of Albuquerque 7201 Central Ave NW\, Albuquerque\, NM 87121\, 7201 Central Ave NW\, Albuquerque\, NM 87121\, Albuquerque\, NM\, 87121\, United States
CATEGORIES:New Mexico
ORGANIZER;CN="CAPE-NM":MAILTO:info@cape-nm.org
END:VEVENT
BEGIN:VEVENT
DTSTART;TZID=America/Phoenix:20250502T080000
DTEND;TZID=America/Phoenix:20250503T170000
DTSTAMP:20260421T053708
CREATED:20241001T222425Z
LAST-MODIFIED:20241014T222919Z
UID:10036373-1746172800-1746291600@myflr.org
SUMMARY:2025 CAPE-NM Homeschool Convention
DESCRIPTION:The CAPE-NM homeschool convention will be marking its 29th anniversary by encouraging\, supporting and informing homeschoolers of New Mexico. You’ll be encouraged by the many speakers\, will have plenty of resources available at the exhibit hall\, and you’ll get lots of fellowship time with other homeschooling families!
URL:https://myflr.org/event/2025-cape-nm-homeschool-convention/
LOCATION:Legacy Church of Albuquerque 7201 Central Ave NW\, Albuquerque\, NM 87121\, 7201 Central Ave NW\, Albuquerque\, NM 87121\, Albuquerque\, NM\, 87121\, United States
CATEGORIES:New Mexico
ATTACH;FMTTYPE=image/jpeg:https://eadn-wc05-15902914.nxedge.io/wp-content/uploads/2024/10/CAPE-new-logo-copy.jpg
ORGANIZER;CN="CAPE-NM":MAILTO:info@cape-nm.org
END:VEVENT
END:VCALENDAR