
BEGIN:VCALENDAR
VERSION:2.0
PRODID:-//Family Life Radio - ECPv6.15.20//NONSGML v1.0//EN
CALSCALE:GREGORIAN
METHOD:PUBLISH
X-ORIGINAL-URL:https://myflr.org
X-WR-CALDESC:Events for Family Life Radio
REFRESH-INTERVAL;VALUE=DURATION:PT1H
X-Robots-Tag:noindex
X-PUBLISHED-TTL:PT1H
BEGIN:VTIMEZONE
TZID:America/Phoenix
BEGIN:STANDARD
TZOFFSETFROM:-0700
TZOFFSETTO:-0700
TZNAME:MST
DTSTART:20240101T000000
END:STANDARD
END:VTIMEZONE
BEGIN:VTIMEZONE
TZID:America/Detroit
BEGIN:DAYLIGHT
TZOFFSETFROM:-0500
TZOFFSETTO:-0400
TZNAME:EDT
DTSTART:20230312T070000
END:DAYLIGHT
BEGIN:STANDARD
TZOFFSETFROM:-0400
TZOFFSETTO:-0500
TZNAME:EST
DTSTART:20231105T060000
END:STANDARD
BEGIN:DAYLIGHT
TZOFFSETFROM:-0500
TZOFFSETTO:-0400
TZNAME:EDT
DTSTART:20240310T070000
END:DAYLIGHT
BEGIN:STANDARD
TZOFFSETFROM:-0400
TZOFFSETTO:-0500
TZNAME:EST
DTSTART:20241103T060000
END:STANDARD
BEGIN:DAYLIGHT
TZOFFSETFROM:-0500
TZOFFSETTO:-0400
TZNAME:EDT
DTSTART:20250309T070000
END:DAYLIGHT
BEGIN:STANDARD
TZOFFSETFROM:-0400
TZOFFSETTO:-0500
TZNAME:EST
DTSTART:20251102T060000
END:STANDARD
BEGIN:DAYLIGHT
TZOFFSETFROM:-0500
TZOFFSETTO:-0400
TZNAME:EDT
DTSTART:20260308T070000
END:DAYLIGHT
BEGIN:STANDARD
TZOFFSETFROM:-0400
TZOFFSETTO:-0500
TZNAME:EST
DTSTART:20261101T060000
END:STANDARD
END:VTIMEZONE
BEGIN:VEVENT
DTSTART;TZID=America/Phoenix:20250802T083000
DTEND;TZID=America/Phoenix:20250802T223000
DTSTAMP:20260421T070443
CREATED:20250411T172958Z
LAST-MODIFIED:20250411T172958Z
UID:10040968-1754123400-1754173800@myflr.org
SUMMARY:Walk For Life Detroit 2025 – Royal Oak
DESCRIPTION:Invite your family & friends to Walk for Life with you! \nBy joining the Walk For Life and helping us raise funding\, YOU are supporting women\, men and families who choose LIFE for their unborn children. Care Net Pregnancy Center Berkley | Detroit provides parenting education\, mentoring\, and material support to moms & dads. We also provide quality medical care through limited obstetrical ultrasounds\, pregnancy testing\, and options counseling with licensed medical professionals to women facing an unplanned pregnancy – all free of charge. \nGo to WalkForLifeDetroit.com to learn how to become a fundraiser and overall help us reach a goal of raising $50\,000 to provide free and confidential services to those facing unplanned pregnancies.
URL:https://myflr.org/event/walk-for-life-detroit-2025-royal-oak/
LOCATION:Detroit Zoo (Detroit\, MI)\, 8450 West 10 Mile Road\, Royal Oak\, MI\, 48067\, United States
CATEGORIES:Michigan
ATTACH;FMTTYPE=image/jpeg:https://eadn-wc05-15902914.nxedge.io/wp-content/uploads/2025/04/LOGO-25-square.jpg
ORGANIZER;CN="Care Net Berkley | Detroit":MAILTO:cindy@carenetberkleydetroit.org
END:VEVENT
BEGIN:VEVENT
DTSTART;TZID=America/Detroit:20250522T113000
DTEND;TZID=America/Detroit:20250522T130000
DTSTAMP:20260421T070443
CREATED:20250411T172847Z
LAST-MODIFIED:20250411T172847Z
UID:10040967-1747913400-1747918800@myflr.org
SUMMARY:Pastor and Church Leadership Lunch – Southfield
DESCRIPTION:Care Net Berkley Detroit will host a Pastor & Church Leadership Luncheon where Samuel Sey will encourage you as leaders of the Church regarding abortion culture in our Metro Detroit community. Q&A to follow. \nOur desire is to encourage the local church to be educated on the issues around abortion in today’s culture. We pray that the local church will not only care about the lives of the preborn\, but also grow in confidence and compassion to speak on the issues surrounding this topic. \nFeaturing Samuel Sey\nFormer Pastor and Founder\, Project LifeVoice\nHe is a writer\, a pro-life speaker who from a Christian Worldview explores the issues around abortion in today’s culture and writes about it in his weekly blog\, SlowtoWrite.com. His words have been featured on The Daily Wire\, The Christian Post and TheBlaze.com. \nThis event is open to pastors\, associate pastors\, youth pastors\, College & Career pastors and their spouses and Women’s Ministry Leaders. \nLunch will be provided.
URL:https://myflr.org/event/pastor-and-church-leadership-lunch-southfield/
LOCATION:Highland Park Baptist Church (Southfield)\, 28600 Lahser Rd\, Southfield\, MI\, 48034\, United States
CATEGORIES:Michigan
ATTACH;FMTTYPE=image/jpeg:https://eadn-wc05-15902914.nxedge.io/wp-content/uploads/2025/04/Pastor-Leadership-Lunch-Square.jpg
ORGANIZER;CN="Care Net Berkley | Detroit":MAILTO:cindy@carenetberkleydetroit.org
END:VEVENT
BEGIN:VEVENT
DTSTART;TZID=America/Detroit:20240803T083000
DTEND;TZID=America/Detroit:20240803T170000
DTSTAMP:20260421T070443
CREATED:20240619T130658Z
LAST-MODIFIED:20240619T130728Z
UID:10029106-1722673800-1722704400@myflr.org
SUMMARY:WALK FOR LIFE 2024 – ROYAL OAK
DESCRIPTION:Walk to ESTEEM LIFE for those facing an unplanned pregnancy! Bring your whole family to this fun event at the Detroit Zoo! The walk will raise critical funding for 3 local pregnancy centers. By joining the us at the Walk for Life\, YOU are choosing to support women\, babies and entire families who chose LIFE for their babies by offering spiritual\, emotional\, medical\, educational and material support!
URL:https://myflr.org/event/walk-for-life-2024-royal-oak/
LOCATION:Detroit Zoo (Detroit\, MI)\, 8450 West 10 Mile Road\, Royal Oak\, MI\, 48067\, United States
CATEGORIES:Michigan
ATTACH;FMTTYPE=image/jpeg:https://eadn-wc05-15902914.nxedge.io/wp-content/uploads/2024/06/WalkForLife-FLR-art-copy.jpg
ORGANIZER;CN="Care Net Berkley | Detroit":MAILTO:cindy@carenetberkleydetroit.org
END:VEVENT
END:VCALENDAR