
BEGIN:VCALENDAR
VERSION:2.0
PRODID:-//Family Life Radio - ECPv6.15.20//NONSGML v1.0//EN
CALSCALE:GREGORIAN
METHOD:PUBLISH
X-WR-CALNAME:Family Life Radio
X-ORIGINAL-URL:https://myflr.org
X-WR-CALDESC:Events for Family Life Radio
REFRESH-INTERVAL;VALUE=DURATION:PT1H
X-Robots-Tag:noindex
X-PUBLISHED-TTL:PT1H
BEGIN:VTIMEZONE
TZID:America/Phoenix
BEGIN:STANDARD
TZOFFSETFROM:-0700
TZOFFSETTO:-0700
TZNAME:MST
DTSTART:20220101T000000
END:STANDARD
END:VTIMEZONE
BEGIN:VEVENT
DTSTART;TZID=America/Phoenix:20240810T080000
DTEND;TZID=America/Phoenix:20240810T110000
DTSTAMP:20260421T135650
CREATED:20240715T224845Z
LAST-MODIFIED:20240715T224845Z
UID:10031181-1723276800-1723287600@myflr.org
SUMMARY:Walk for Life 2024
DESCRIPTION:Family Life Radio 91.5 FM and Care Net Pregnancy Center of Albuquerque invite you… \nWalk for Life 2024 \nSaturday\, August 10th\, 2024 \n8:00am \nHoffmantown Church-8888 Harper Rd NE ABQ\, NM 87111 \nWe are so excited to host our 41st Annual Walk for Life event altogether\, six centers in one location at Hoffmantown Church. We had so much fun seeing you all last year in one location and we want to continue this year. \nWith your help\, a bigger crowd walking and standing up for LIFE in our city we are all leaving a Legacy for Life. Please gather your team or sign up as an individual walker! Then start to obtain your pledges and we will see you on August 10th! \nRegister today at: event.fundeasy.com/27781 \nSueños Coffee Co. and RED TACO SHOP will be serving up tasty treats that you don’t want to miss! Face Painting for the kids\, fun and fellowship afterwards…along with music\, prizes and games with Family Life Radio! We’re Celebrating Life Together!
URL:https://myflr.org/event/walk-for-life-2024/
LOCATION:Hoffmantown Church (Albuquerque\, NM)\, 8888 Harper Road NE\, Albuquerque\, 87111
CATEGORIES:Featured,New Mexico
ATTACH;FMTTYPE=image/jpeg:https://eadn-wc05-15902914.nxedge.io/wp-content/uploads/2024/07/Walk-for-LIfe-2024-Graphic.jpg
ORGANIZER;CN="Care Net of Albuquerque":MAILTO:outreach@carenetabq.org
END:VEVENT
BEGIN:VEVENT
DTSTART;TZID=America/Phoenix:20240517T170000
DTEND;TZID=America/Phoenix:20240517T190000
DTSTAMP:20260421T135650
CREATED:20240507T174131Z
LAST-MODIFIED:20240507T180259Z
UID:10025668-1715965200-1715972400@myflr.org
SUMMARY:‘Cram the Crib’ Open House Baby Shower for Rio Rancho Care Net
DESCRIPTION:Cram the Crib Open House Baby Shower for Rio Rancho Care Net Pregnancy Center \nFriday\, May 17\,2024\n5:00 pm – 7:00 pm\n2451 Monterrey Rd NE\nRio Rancho\, NM  87144 \nLattes Corazon & Mi Taco Su Taco Trucks is available for purchase at this event. \nBaby Items needed: Rash cream\, lotion & wash (travel size)\, safety Items (Electrical plugs/Cabinet Locks)\, thermometers\, short bottles\, pacifiers\, sippy cups\, bowls\, plates\, forks\, bath items (Boy & Girl)\, neutral receiving blankets\, hair & nail care\, colic bottles & burp clothes. \n\n\nHelp us Cram the Crib with  Family Life Radio and bring a baby shower\nCome and tour our center! We can’t wait to see you there\, to Celebrate LIFE and help each Care Net Pregnancy Resource Centers receive Baby Items for their Baby Boutiques for our communities! Thank you for being the hands and feet of Jesus through a baby gift and celebration togther!
URL:https://myflr.org/event/cram-the-crib-open-house-baby-shower-for-rio-rancho-care-net/
LOCATION:Rio Rancho Care Net\, 2451 Monterrey Rd NE\, Rio Rancho\, NM\, 87144\, United States
CATEGORIES:Featured,New Mexico
ATTACH;FMTTYPE=image/jpeg:https://eadn-wc05-15902914.nxedge.io/wp-content/uploads/2024/05/UBS-2024-CNABQ-Card-Invite-2-X-3.5-Pt-4-scaled.jpeg
ORGANIZER;CN="Care Net of Albuquerque":MAILTO:outreach@carenetabq.org
END:VEVENT
BEGIN:VEVENT
DTSTART;TZID=America/Phoenix:20231027T173000
DTEND;TZID=America/Phoenix:20231027T203000
DTSTAMP:20260421T135650
CREATED:20230911T232132Z
LAST-MODIFIED:20230911T232132Z
UID:10015314-1698427800-1698438600@myflr.org
SUMMARY:Care Net of ABQ: Laugh for Life 2023
DESCRIPTION:91.5 FM Family Life Radio along with Care Net of ABQ invites you\, to a FREE EVENT for the family\, \nLaugh For Life 2023 \nFriday\, October 27th  \nLegacy Church East Campus- 4701 Wyoming Blvd NE ABQ\, NM \n5:30pm Raffle Begins \n6:30pm: Event Starts \nBring your family at 5:30pm to sign up for the Raffle’s up to $500 value! Spa Gift Package\, Hot Air Balloon Rides\, Yeti Cooler and more! \nCar Club\, Food Trucks and Medical Mobile Unit tours! \nThis evening presents\, International Comedian SHAWN REYNOLDS\, and a dad of six. \nAll proceeds will benefit the Care Net Medical Mobile Unit. \nFor more information: 505-880-8373 or carenetabq.org
URL:https://myflr.org/event/care-net-of-abq-laugh-for-life-2023/
LOCATION:Legacy Church East Campus\, 4701 Wyoming Blvd NE\, ABQ\, NM\, 87109\, United States
CATEGORIES:Featured,New Mexico
ATTACH;FMTTYPE=image/jpeg:https://eadn-wc05-15902914.nxedge.io/wp-content/uploads/2023/09/LFL-Save-the-Date-Postcard.jpg
ORGANIZER;CN="Care Net of Albuquerque":MAILTO:outreach@carenetabq.org
END:VEVENT
END:VCALENDAR