
BEGIN:VCALENDAR
VERSION:2.0
PRODID:-//Family Life Radio - ECPv6.15.20//NONSGML v1.0//EN
CALSCALE:GREGORIAN
METHOD:PUBLISH
X-WR-CALNAME:Family Life Radio
X-ORIGINAL-URL:https://myflr.org
X-WR-CALDESC:Events for Family Life Radio
REFRESH-INTERVAL;VALUE=DURATION:PT1H
X-Robots-Tag:noindex
X-PUBLISHED-TTL:PT1H
BEGIN:VTIMEZONE
TZID:America/Phoenix
BEGIN:STANDARD
TZOFFSETFROM:-0700
TZOFFSETTO:-0700
TZNAME:MST
DTSTART:20220101T000000
END:STANDARD
END:VTIMEZONE
BEGIN:VEVENT
DTSTART;TZID=America/Phoenix:20251107T173000
DTEND;TZID=America/Phoenix:20251107T210000
DTSTAMP:20260421T100003
CREATED:20250909T200608Z
LAST-MODIFIED:20250910T224805Z
UID:10052234-1762536600-1762549200@myflr.org
SUMMARY:Care Net ABQ- "Laugh for Life" featuring NAZARETH
DESCRIPTION:Family Life Radio invites you to Care Net Pregnancy Centers of Albuquerque’s… \nLaugh for Life 2025 \nAward-winning comedian\, author\, podcaster-Nazareth \nNovember 7\, 2025 \n7:00 pm \nDoors Open at 5:30pm… \nFor food trucks\, raffles\, door prizes and more! Raffles for all prizes valued over $500.00 + \nLegacy East Campus-4701 Wyoming Blvd NE\, Albuquerque\, NM 87109 \nThis is a fundraiser for Care Net’s ABQ Medical Mobile Center! Bring your family\, date night or bring a friend and have a fun! \nMore info at: www.carenetabq.org 
URL:https://myflr.org/event/care-net-abq-laugh-for-life-featuring-nazareth/
LOCATION:Legacy Church East Campus\, 4701 Wyoming Blvd NE\, ABQ\, NM\, 87109\, United States
CATEGORIES:Featured,New Mexico
ATTACH;FMTTYPE=image/jpeg:https://eadn-wc05-15902914.nxedge.io/wp-content/uploads/2025/09/Social-Media-Laugh-for-Life-2025.jpg
END:VEVENT
BEGIN:VEVENT
DTSTART;TZID=America/Phoenix:20250823T080000
DTEND;TZID=America/Phoenix:20250823T110000
DTSTAMP:20260421T100003
CREATED:20250729T212300Z
LAST-MODIFIED:20250802T001410Z
UID:10049773-1755936000-1755946800@myflr.org
SUMMARY:Care Net Pregnancy Centers of Albuquerque's annual Walk for Life 2025
DESCRIPTION:Care Net Pregnancy Centers of Albuquerque is holding our Annual Walk for Life\, Saturday\, August 23rd at Hoffmantown Church! Registration check in begins at 8am and the walk will start at 9am. Let’s walk around the Academy School and end at Hoffmantown Church parking lot.\n\nGrab a friend\, or two\, gather a team from your office\, your connect group or home fellowship and get sponsorships for this years Walk for Life! Help us fight the battle & save babies!\n\nREGISTER NOWhttps://secure.fundeasy.com/ministrysync/event/?e=30311\n\n\nFamily Life Radio will be there with our tent\, music and free items! We can’t wait to see you!
URL:https://myflr.org/event/care-net-pregnancy-centers-of-albuquerques-annual-walk-for-life/
LOCATION:Hoffmantown Church (Albuquerque\, NM)\, 8888 Harper Road NE\, Albuquerque\, 87111
CATEGORIES:Featured,New Mexico
ATTACH;FMTTYPE=image/jpeg:https://eadn-wc05-15902914.nxedge.io/wp-content/uploads/2025/07/Poster-1-scaled.jpg
END:VEVENT
BEGIN:VEVENT
DTSTART;TZID=America/Phoenix:20241018T173000
DTEND;TZID=America/Phoenix:20241018T203000
DTSTAMP:20260421T100003
CREATED:20240911T193624Z
LAST-MODIFIED:20240911T222235Z
UID:10034002-1729272600-1729283400@myflr.org
SUMMARY:Laugh for Life with Jonnie W!
DESCRIPTION:You’re invited to the Annual Laugh for Life Event benefiting our Care Net Pregnancy Albuquerque’s Medical Mobile Unit. \nComedian\, Jonnie W. will be the comedian for Laugh for Life 2024! Jonnie W. combines music\, offbeat standup\, and a skewed view of the world. Jonnie crafts a comedy experience that you and your family will be quoting in the car on the way home. He’s brought the funny to 48 states from comedy clubs to Fortune 500 companies\, churches and leadership conferences. Jonnie’s award winning comedy is played daily on Sirus XM Satellite Radio\, and his latest Drybar Comedy special is viral hit! \nFriday October 18th\, 2024 \nLegacy-East Campus-4701 Wyoming Blvd NE ABQ 87109 \nDoors Open at 5:30 PM for Raffle\, Food Trucks are available to purchase dinner before the event\, and MMU Tours. \nShow: 7:00-8:30 PM \nTickets are $10 each for 18 or older\, 17 and under are free\, but please include them in the total # in your party so we can account for seating of all! Scan the QR Code or click here to register to attend! \nWith each ticket purchased you will receive one raffle ticket at the door.
URL:https://myflr.org/event/laugh-for-life-with-jonnie-w/
LOCATION:Leagacy East Campus\, 4701 Wyoming
CATEGORIES:Featured,New Mexico
ATTACH;FMTTYPE=image/jpeg:https://eadn-wc05-15902914.nxedge.io/wp-content/uploads/2024/09/Laughfor-Life-2024-Updated-Graphic.jpg
END:VEVENT
BEGIN:VEVENT
DTSTART;TZID=America/Phoenix:20240608T100000
DTEND;TZID=America/Phoenix:20240608T120000
DTSTAMP:20260421T100003
CREATED:20240520T181834Z
LAST-MODIFIED:20240520T181834Z
UID:10026498-1717840800-1717848000@myflr.org
SUMMARY:‘Cram the Crib Open House Baby Shower Party’-Care Net of Los Lunas
DESCRIPTION:Family Life Radio 91.5 FM personally invites you along with Los Lunas-Care Net Pregnancy Center to our ‘Cram the Crib Open House Baby Shower Party’! \nIt’s the Care Net Pregnancy Center of Albuquerque-Come see the location-tour the center\, meet the staff\, enjoy food truck\, music\, prizes and special gift from Family Life Radio! Let’s Cram the Crib with new baby items for this Pregnancy Center in our community! Your gift makes a huge impact in the lives of mom’s\, babies & dad’s. \nLos Lunas-Care Net Pregnancy Center \nSaturday\, June 8\, 2024\n10:00 am – 12:00 pm\n601 Main Street SE Suite 26\nLos Lunas\, NM  87031 \nBaby Items needed: White Onesies\, boy/girls outfits\, sleepers/pajamas\, booties\, shoes\, bottle brushes\, hairbrushes\, combs\, shorts\, pants\, shampoo\, baby wash\, lotion (Travel size set only)\, unscented baby wipes\, diaper sizes 3\,4\,5\,6\, All items’ Sizes NB\, 0-3 Months\, 3-6 Months\, New in box infant car seats. \nwww.MyFLR.org/babyshower for more drop off locations\, hours and more details!
URL:https://myflr.org/event/cram-the-crib-open-house-baby-shower-party-care-net-of-los-lunas/
LOCATION:LOS LUNAS Care Net\, 601 Main Street SE Suite 26\, Los Lunas\, NM\, 87031\, United States
CATEGORIES:Featured,New Mexico
ATTACH;FMTTYPE=image/png:https://eadn-wc05-15902914.nxedge.io/wp-content/uploads/2024/05/1X1-Social-CARE-NET-ABQ-UPDATED-June-8-2024-Party.png
END:VEVENT
BEGIN:VEVENT
DTSTART;TZID=America/Phoenix:20240607T170000
DTEND;TZID=America/Phoenix:20240607T190000
DTSTAMP:20260421T100003
CREATED:20240520T180855Z
LAST-MODIFIED:20240520T181208Z
UID:10026497-1717779600-1717786800@myflr.org
SUMMARY:‘Cram the Crib Open House Baby Shower Party’-Care Net ABQ
DESCRIPTION:Family Life Radio 91.5 FM personally invites you along with Albuquerque-Care Net Pregnancy Center to our ‘Cram the Crib Open House Baby Shower Party’! \nIt’s the Care Net Pregnancy Center of Albuquerque-Come see the new location-tour the center\, meet the staff\, enjoy food truck\, music\, prizes and special gift from Family Life Radio! Let’s Cram the Crib with new baby items for this Pregnancy Center in our community! Your gift makes a huge impact in the lives of mom’s\, babies & dad’s. \nFriday\, June 7\, 2024\n5:00 pm – 7:00 pm\n3701 Paseo del Norte NE Ste 100\nAlbuquerque\, NM  87113 \nSimply Delicious Food Truck NM and The Paleta Bar on Tramway is available for purchase at this event. \nBaby Items needed: Large Diapers sizes 4\,5\,6\, baby wipes\, boys clothes sizes NB-3T\, girls clothes sizes 12 months-3T\, boys/girls shoes sizes NB-3T\, baby hygiene/bath items\, baby safety items\, pacifiers\, bottles\, teethers/rattle Toys & diaper bags. \nwww.MyFLR.org/babyshower for more drop off locations\, hours and more details! \n 
URL:https://myflr.org/event/cram-the-crib-open-house-baby-shower-party-care-net-abq/
LOCATION:Care Net of ABQ\, 3701 Paseo del Norte NE Ste 100\, ABQ\, NM\, 87113\, United States
CATEGORIES:Featured,New Mexico
ATTACH;FMTTYPE=image/png:https://eadn-wc05-15902914.nxedge.io/wp-content/uploads/2024/05/1X1-Social-CARE-NET-ABQ-UPDATED-June-7-2024-Party.png
END:VEVENT
BEGIN:VEVENT
DTSTART;TZID=America/Phoenix:20240518T100000
DTEND;TZID=America/Phoenix:20240518T120000
DTSTAMP:20260421T100003
CREATED:20240507T175045Z
LAST-MODIFIED:20240507T180140Z
UID:10025669-1716026400-1716033600@myflr.org
SUMMARY:“Cram the Crib’ Open House Baby Shower East Mountain-Care Net Pregnancy Center
DESCRIPTION:East Mountain-Care Net Pregnancy Center \nSaturday\, May 18\,2024\n10:00 am – 12:00 pm\n7 Pioneer Park Rd Edgewood\, NM   \nNico’s Street Food Truck is available for purchase at this event for breakfast. \nBaby Items needed: Car Seats\, diaper bags\, strollers\, small play pens\, Clothing- Newborn\, 0-3 months\, boy/girls’ outfits\, sleepers\, onesies\, socks\, hats\, blankets\, towel sets\, small toys for babies (stuffed\, teethers) baby hygiene care\, thermometers\, monitors\, nail clippers\, Size 7 diapers only! \nHelp us Cram the Crib with  Family Life Radio and bring a baby shower! Come and tour East Mountain Center! We can’t wait to see you there\, to Celebrate LIFE and help each Care Net Pregnancy Resource Centers receive Baby Items for their Baby Boutiques for our communities! Thank you for being the hands and feet of Jesus through a baby gift and celebration together!
URL:https://myflr.org/event/cram-the-crib-open-house-baby-shower-east-mountain-care-net-pregnancy-center/
LOCATION:East Mountains Care Net Pregnancy Center\, 7 Pioneer Park Rd\, Edgewood\, NM\, 870059
CATEGORIES:Featured,New Mexico
ATTACH;FMTTYPE=image/jpeg:https://eadn-wc05-15902914.nxedge.io/wp-content/uploads/2024/05/UBS-2024-CNABQ-Card-Invite-2-X-3.5-Pt-4-1-scaled.jpeg
END:VEVENT
BEGIN:VEVENT
DTSTART;TZID=America/Phoenix:20230812T080000
DTEND;TZID=America/Phoenix:20230812T120000
DTSTAMP:20260421T100003
CREATED:20230711T221801Z
LAST-MODIFIED:20230711T221801Z
UID:10012448-1691827200-1691841600@myflr.org
SUMMARY:Walk For Life 2023
DESCRIPTION:Walk for LIFE is HERE!\nCare Net Pregnancy Centers of Albuquerque is hosting our\nAnnual Walk for Life Fundraiser!  \nWe are so excited to host this years event altogether\, six centers in one location.  Since we are continuing our celebration of being established in Albuquerque and the surrounding areas for 40 years\, we knew it would be fun to host all our centers for one walk.  A bigger crowd walking and standing up for LIFE in our city! \n Please gather your team and sign up!  As soon as you create your team\, you can begin obtaining your pledges.\n \nThis years walk is going to be a great event. 91.5 FM Family Life Radio\, food trucks\, a small car show and fun for the entire family!\n Plan on getting to the walk early this year.  \nWalkers get a FREE T-Shirt or Water Bottle (while supplies last).  Register below!  https://secure.fundeasy.com/ministrysync/event/website/home/?e=25801\nWe can’t wait to see you there!\n 
URL:https://myflr.org/event/walk-for-life-2023/
LOCATION:Hoffmantown Church (Albuquerque\, NM)\, 8888 Harper Road NE\, Albuquerque\, 87111
CATEGORIES:Featured,New Mexico
ATTACH;FMTTYPE=image/jpeg:https://eadn-wc05-15902914.nxedge.io/wp-content/uploads/2023/07/WFL-Mini-2023.jpg
END:VEVENT
END:VCALENDAR