
BEGIN:VCALENDAR
VERSION:2.0
PRODID:-//Family Life Radio - ECPv6.15.20//NONSGML v1.0//EN
CALSCALE:GREGORIAN
METHOD:PUBLISH
X-WR-CALNAME:Family Life Radio
X-ORIGINAL-URL:https://myflr.org
X-WR-CALDESC:Events for Family Life Radio
REFRESH-INTERVAL;VALUE=DURATION:PT1H
X-Robots-Tag:noindex
X-PUBLISHED-TTL:PT1H
BEGIN:VTIMEZONE
TZID:America/Phoenix
BEGIN:STANDARD
TZOFFSETFROM:-0700
TZOFFSETTO:-0700
TZNAME:MST
DTSTART:20230101T000000
END:STANDARD
END:VTIMEZONE
BEGIN:VEVENT
DTSTART;TZID=America/Phoenix:20240907T143000
DTEND;TZID=America/Phoenix:20240907T163000
DTSTAMP:20260421T203802
CREATED:20240820T165003Z
LAST-MODIFIED:20240820T165003Z
UID:10033481-1725719400-1725726600@myflr.org
SUMMARY:Bowling for Babies
DESCRIPTION:Bring the entire and join us for an afternoon of bowling for babies to benefit Casa de Mariposa Maternity Home – 3 Games and Shoes included in cost!
URL:https://myflr.org/event/bowling-for-babies/
LOCATION:Ten Pins & More\, 1416 Deborah Rd SE\, Rio Rancho\, NM\, 87124\, United States
CATEGORIES:New Mexico
ATTACH;FMTTYPE=image/jpeg:https://eadn-wc05-15902914.nxedge.io/wp-content/uploads/2024/08/Bowling4Babies.jpeg
ORGANIZER;CN="Casa de Mariposa":MAILTO:Jenni@casademariposa.org
END:VEVENT
END:VCALENDAR