
BEGIN:VCALENDAR
VERSION:2.0
PRODID:-//Family Life Radio - ECPv6.15.20//NONSGML v1.0//EN
CALSCALE:GREGORIAN
METHOD:PUBLISH
X-WR-CALNAME:Family Life Radio
X-ORIGINAL-URL:https://myflr.org
X-WR-CALDESC:Events for Family Life Radio
REFRESH-INTERVAL;VALUE=DURATION:PT1H
X-Robots-Tag:noindex
X-PUBLISHED-TTL:PT1H
BEGIN:VTIMEZONE
TZID:America/Phoenix
BEGIN:STANDARD
TZOFFSETFROM:-0700
TZOFFSETTO:-0700
TZNAME:MST
DTSTART:20250101T000000
END:STANDARD
END:VTIMEZONE
BEGIN:VEVENT
DTSTART;TZID=America/Phoenix:20260423T180000
DTEND;TZID=America/Phoenix:20260423T200000
DTSTAMP:20260421T024445
CREATED:20251009T215220Z
LAST-MODIFIED:20251009T215220Z
UID:10056711-1776967200-1776974400@myflr.org
SUMMARY:CELEBRATE RECOVERY AND CELEBRATION PLACE (Richland Center\, WI.)
DESCRIPTION:CELEBRATE RECOVERY (CR) is a Christ-centered peer support recovery program based on the Beatitudes as found in the Gospel of Matthew. No matter your issues from anger\, unforgiveness\, bitterness\, obsessive worrying\, negative thinking to grief\, loneliness\, loss\, or food issues to any sort of addiction including all kinds of online addictions and anything else that is part of the human condition\, CR is a safe confidential\, anonymous community where we find support and healing through the power of the Gospel. Whether you’ve been in church all your life\, were burned in church or are unsure of your relationship with God\, at CR\, by the power\, mercy and grace of God\, we find hope\, help and healing for all our hurts\, habits\, and false beliefs about God\, ourselves or others. come join us any Thursday night. \nFood start at 5:30 with our meetings from 6-8. \nWe meet at the Nazarene Outreach Center (across from Family Dollar) in Richland Center\, WI \n.\nCELEBRATION PLACE(CP) for children 5-13 (nursery also available) meets at the same time so parents can attend CR and to provide fun\, quality programming for children as they learn healthy ways to deal with their hurts to hopefully prevent them from having distorted views of God\, themselves and others and developing unhealthy coping mechanisms and habits. CP meets at the church basement of the Nazarene Church. Enter by the door nearest the Outreach Center. We are a ministry of Grace Community Church and wonderfully supported by the Nazarene Church of Richland Center.
URL:https://myflr.org/event/celebrate-recovery-and-celebration-place-richland-center-wi/2026-04-23/
CATEGORIES:Iowa,Wisconsin
ATTACH;FMTTYPE=image/jpeg:https://eadn-wc05-15902914.nxedge.io/wp-content/uploads/2025/10/recovery-3-web-1.jpg
END:VEVENT
END:VCALENDAR