
BEGIN:VCALENDAR
VERSION:2.0
PRODID:-//Family Life Radio - ECPv6.15.20//NONSGML v1.0//EN
CALSCALE:GREGORIAN
METHOD:PUBLISH
X-WR-CALNAME:Family Life Radio
X-ORIGINAL-URL:https://myflr.org
X-WR-CALDESC:Events for Family Life Radio
REFRESH-INTERVAL;VALUE=DURATION:PT1H
X-Robots-Tag:noindex
X-PUBLISHED-TTL:PT1H
BEGIN:VTIMEZONE
TZID:America/Phoenix
BEGIN:STANDARD
TZOFFSETFROM:-0700
TZOFFSETTO:-0700
TZNAME:MST
DTSTART:20230101T000000
END:STANDARD
END:VTIMEZONE
BEGIN:VEVENT
DTSTART;TZID=America/Phoenix:20250808T180000
DTEND;TZID=America/Phoenix:20250808T193000
DTSTAMP:20260421T092924
CREATED:20250708T193241Z
LAST-MODIFIED:20250708T193241Z
UID:10048787-1754676000-1754681400@myflr.org
SUMMARY:5-Day Kids Club presented by Central Church
DESCRIPTION:Bring your family and friends and join us from 6-7:30PM\, August 4-8 for faith based fun of Discovering Jesus. Kids ages 5-12 are invited to come play games\, sing songs and hear stories from the Bible! \nHorizon Park\n1535 Sweeney Street\nMount Pleasant\, MI
URL:https://myflr.org/event/5-day-kids-club-presented-by-central-church/2025-08-08/
LOCATION:Horizon Park (Mt. Pleasant\, MI)\, 1535 Sweeny Street\, Mt. Pleasant\, MI\, 48858\, United States
CATEGORIES:Michigan
ATTACH;FMTTYPE=image/png:https://eadn-wc05-15902914.nxedge.io/wp-content/uploads/2025/07/5-Day-Club.png
ORGANIZER;CN="Central Church":MAILTO:geoff@cmccmp.com
END:VEVENT
BEGIN:VEVENT
DTSTART;TZID=America/Phoenix:20241109T160000
DTEND;TZID=America/Phoenix:20241109T190000
DTSTAMP:20260421T092924
CREATED:20241002T193046Z
LAST-MODIFIED:20241002T193046Z
UID:10036649-1731168000-1731178800@myflr.org
SUMMARY:Christian Karaoke Night
DESCRIPTION:Come showcase your talent and enjoy a night in fellowship with brothers and sisters in Christ! All ages welcome!
URL:https://myflr.org/event/christian-karaoke-night/
LOCATION:Tucson Central Church of the Nazarene\, 404 S Columbus Blvd\, Tucson\, AZ\, 85711\, United States
CATEGORIES:Arizona
ATTACH;FMTTYPE=image/jpeg:https://eadn-wc05-15902914.nxedge.io/wp-content/uploads/2024/10/Karaoke.jpg
ORGANIZER;CN="Central Church":MAILTO:geoff@cmccmp.com
END:VEVENT
BEGIN:VEVENT
DTSTART;TZID=America/Phoenix:20240809T180000
DTEND;TZID=America/Phoenix:20240809T190000
DTSTAMP:20260421T092924
CREATED:20240620T211746Z
LAST-MODIFIED:20240620T211746Z
UID:10029128-1723226400-1723230000@myflr.org
SUMMARY:5 Day Kids Club
DESCRIPTION:5 Day Kids Club full of Games\, Bible Stories\, Songs\, and more! Free to participate in.
URL:https://myflr.org/event/5-day-kids-club/2024-08-09/
LOCATION:Potter Park (Mount Pleasant\, MI)\, 225 W. Maple Street\, Mount Pleasant\, MI\, 48858\, United States
CATEGORIES:Michigan
ATTACH;FMTTYPE=image/png:https://eadn-wc05-15902914.nxedge.io/wp-content/uploads/2024/06/ENGLISH-5DC-LOGO-COLOR-v1-0.png
ORGANIZER;CN="Central Church":MAILTO:geoff@cmccmp.com
END:VEVENT
END:VCALENDAR