
BEGIN:VCALENDAR
VERSION:2.0
PRODID:-//Family Life Radio - ECPv6.15.20//NONSGML v1.0//EN
CALSCALE:GREGORIAN
METHOD:PUBLISH
X-ORIGINAL-URL:https://myflr.org
X-WR-CALDESC:Events for Family Life Radio
REFRESH-INTERVAL;VALUE=DURATION:PT1H
X-Robots-Tag:noindex
X-PUBLISHED-TTL:PT1H
BEGIN:VTIMEZONE
TZID:America/Phoenix
BEGIN:STANDARD
TZOFFSETFROM:-0700
TZOFFSETTO:-0700
TZNAME:MST
DTSTART:20250101T000000
END:STANDARD
END:VTIMEZONE
BEGIN:VEVENT
DTSTART;TZID=America/Phoenix:20260320T140000
DTEND;TZID=America/Phoenix:20260320T160000
DTSTAMP:20260421T092947
CREATED:20260310T204636Z
LAST-MODIFIED:20260310T204636Z
UID:10059551-1774015200-1774022400@myflr.org
SUMMARY:Meet Author Joe Potosi
DESCRIPTION:Event Title:\nMeet the Author – Joe Potosi | Unshackled: A Story of Redemption and Renewal \nEvent Description:\nChristian author Joe Potosi will be sharing the powerful story behind his latest book\, Unshackled: A Story of Redemption and Renewal. Through honesty and faith\, Joe tells how Jesus set him free from addiction\, brokenness\, and a painful past\, showing that your condition does not have to be your conclusion. \nJoin us for an inspiring time of conversation\, testimony\, and hope. Joe will be available to meet guests and sign copies of his book. \nSpecial Offer: The coffee house will offer 10% off drinks with the purchase of a book during the event. \nCome out for a great cup of coffee\, hear a powerful story of redemption\, and be encouraged. \nIl.
URL:https://myflr.org/event/meet-author-joe-potosi/
LOCATION:Charlotte’s Coffee House\, 1104 White Street\, Dubuque\, IA\, 52002\, United States
CATEGORIES:Iowa,Wisconsin
ATTACH;FMTTYPE=image/png:https://eadn-wc05-15902914.nxedge.io/wp-content/uploads/2026/03/IMG_20260307_180047-1.png
ORGANIZER;CN="Charlotte's Coffee House":MAILTO:n/a
END:VEVENT
END:VCALENDAR