
BEGIN:VCALENDAR
VERSION:2.0
PRODID:-//Family Life Radio - ECPv6.15.20//NONSGML v1.0//EN
CALSCALE:GREGORIAN
METHOD:PUBLISH
X-WR-CALNAME:Family Life Radio
X-ORIGINAL-URL:https://myflr.org
X-WR-CALDESC:Events for Family Life Radio
REFRESH-INTERVAL;VALUE=DURATION:PT1H
X-Robots-Tag:noindex
X-PUBLISHED-TTL:PT1H
BEGIN:VTIMEZONE
TZID:America/Phoenix
BEGIN:STANDARD
TZOFFSETFROM:-0700
TZOFFSETTO:-0700
TZNAME:MST
DTSTART:20230101T000000
END:STANDARD
END:VTIMEZONE
BEGIN:VEVENT
DTSTART;TZID=America/Phoenix:20240904T080000
DTEND;TZID=America/Phoenix:20240904T170000
DTSTAMP:20260421T201254
CREATED:20240904T175412Z
LAST-MODIFIED:20240904T175412Z
UID:10033815-1725436800-1725469200@myflr.org
SUMMARY:LIFE Runners Albuquerque Chapter Monthly Huddle
DESCRIPTION:Monthly Huddle Please join us on the sidewalks \nWhen: September 4th 2024 \nWhere: Southwestern Women’s Options 522 Lomas Blvd NE\, Albuquerque Nm \nTime: 10 am\nWHY LIFE RUNNERS? 82% of post-abortion mothers said if they had encountered ONE supportive person or encouraging message\, they would have chosen life. \nLIFE Runners deliver millions of life-saving messages with “REMEMBER The Unborn” jerseys and jackets. Faith required\, running optional. For more information & please join our Team of LIFE Runners Albuquerque Chapter  \nAll in Christ for Pro-Life! LIFE Runners Albuquerque \nChapter Director! Christina Garza
URL:https://myflr.org/event/life-runners-albuquerque-chapter-monthly-huddle/2024-09-04/1/
CATEGORIES:New Mexico
ATTACH;FMTTYPE=image/jpeg:https://eadn-wc05-15902914.nxedge.io/wp-content/uploads/2024/09/20240703_100533-scaled.jpg
ORGANIZER;CN="Family Life Radio Albuquerque":MAILTO:NewMexico@flc.org
END:VEVENT
END:VCALENDAR