
BEGIN:VCALENDAR
VERSION:2.0
PRODID:-//Family Life Radio - ECPv6.15.20//NONSGML v1.0//EN
CALSCALE:GREGORIAN
METHOD:PUBLISH
X-WR-CALNAME:Family Life Radio
X-ORIGINAL-URL:https://myflr.org
X-WR-CALDESC:Events for Family Life Radio
REFRESH-INTERVAL;VALUE=DURATION:PT1H
X-Robots-Tag:noindex
X-PUBLISHED-TTL:PT1H
BEGIN:VTIMEZONE
TZID:America/Phoenix
BEGIN:STANDARD
TZOFFSETFROM:-0700
TZOFFSETTO:-0700
TZNAME:MST
DTSTART:20250101T000000
END:STANDARD
END:VTIMEZONE
BEGIN:VEVENT
DTSTART;TZID=America/Phoenix:20260501T173000
DTEND;TZID=America/Phoenix:20260501T210000
DTSTAMP:20260420T043329
CREATED:20260326T154034Z
LAST-MODIFIED:20260326T154034Z
UID:10060004-1777656600-1777669200@myflr.org
SUMMARY:Sowing and Growing Spring Soiree
DESCRIPTION:Hear the PRAISE of the MIGHTY ways God is moving in NM Public Schools!\nCelebrating Seeds to Salvations through CEF’s Good News Bible Clubs! \nSpecial Guest – Christian Author and Speaker\, Jodi Hendrix with NMFAM\nDinner Catered by Olive Garden\nMinistry Updates\nRaffle Auction\nPerformance by Cielo Azul Elementary Good News Club Students
URL:https://myflr.org/event/sowing-and-growing-spring-soiree/
LOCATION:Albuquerque Garden Center\, 10120 Lomas Boulevard NE\, Albuquerque\, NM\, 87112\, United States
CATEGORIES:New Mexico
ATTACH;FMTTYPE=image/png:https://eadn-wc05-15902914.nxedge.io/wp-content/uploads/2026/03/Your-paragraph-text-3.png
ORGANIZER;CN="Child Evangelism Fellowship of NM":MAILTO:CEFofABQnewmexico@gmail.com
END:VEVENT
BEGIN:VEVENT
DTSTART;TZID=America/Phoenix:20260912T080000
DTEND;TZID=America/Phoenix:20260912T150000
DTSTAMP:20260420T043329
CREATED:20260417T154657Z
LAST-MODIFIED:20260417T154657Z
UID:10060312-1789200000-1789225200@myflr.org
SUMMARY:Child Evangelism Fellowship (CEF) Golf FORE Kids- Golf Tournament Fundraiser
DESCRIPTION:Join us for a day of golf while making an eternal difference. Get your team together and play in the CEF Golf Tournament Fundraiser\, benefiting Child Evangelism Fellowship (CEF). This special event brings together golfers\, local businesses\, churches\, and community members for a memorable day on the course –all in support of reaching children with the Gospel of Jesus Christ in our local community.
URL:https://myflr.org/event/child-evangelism-fellowship-cef-golf-fore-kids-golf-tournament-fundraiser/
LOCATION:Santa Ana Golf Course\, 288 Prairie Star Rd.\, Santa Ana Pueblo\, NM\, 87004\, United States
CATEGORIES:New Mexico
ATTACH;FMTTYPE=image/jpeg:https://eadn-wc05-15902914.nxedge.io/wp-content/uploads/2026/04/CEF-Golf-Tournament-Flyer.jpeg
ORGANIZER;CN="Child Evangelism Fellowship of NM":MAILTO:CEFofABQnewmexico@gmail.com
END:VEVENT
END:VCALENDAR