
BEGIN:VCALENDAR
VERSION:2.0
PRODID:-//Family Life Radio - ECPv6.15.20//NONSGML v1.0//EN
CALSCALE:GREGORIAN
METHOD:PUBLISH
X-ORIGINAL-URL:https://myflr.org
X-WR-CALDESC:Events for Family Life Radio
REFRESH-INTERVAL;VALUE=DURATION:PT1H
X-Robots-Tag:noindex
X-PUBLISHED-TTL:PT1H
BEGIN:VTIMEZONE
TZID:America/Phoenix
BEGIN:STANDARD
TZOFFSETFROM:-0700
TZOFFSETTO:-0700
TZNAME:MST
DTSTART:20240101T000000
END:STANDARD
END:VTIMEZONE
BEGIN:VEVENT
DTSTART;TZID=America/Phoenix:20251026T160000
DTEND;TZID=America/Phoenix:20251026T180000
DTSTAMP:20260421T141831
CREATED:20251009T214930Z
LAST-MODIFIED:20251009T214930Z
UID:10056664-1761494400-1761501600@myflr.org
SUMMARY:Trunk or Treat
DESCRIPTION:Come and join the fun! Wear your costume and bring the whole family for games\, food\, and fun!
URL:https://myflr.org/event/trunk-or-treat-12/
LOCATION:Christ Our Redeemer Lutheran Church\, 1750 Faith Ct NE\, Albuquerque\, NM\, 87111\, United States
CATEGORIES:New Mexico
ORGANIZER;CN="Christ Our Redeemer Lutheran Church":MAILTO:admin@cor-lcms.org
END:VEVENT
BEGIN:VEVENT
DTSTART;TZID=America/Phoenix:20250907T103000
DTEND;TZID=America/Phoenix:20250907T113000
DTSTAMP:20260421T141831
CREATED:20250826T182030Z
LAST-MODIFIED:20250826T182030Z
UID:10050789-1757241000-1757244600@myflr.org
SUMMARY:Christ Our Redeemer Lutheran Church-Rally Sunday
DESCRIPTION:Partcipants of Christ Our Redeemer’s VBS\, An EPIC Australian Adventure\, will perform songs from their Unforgettable VBS Journey with Jesus! We can’t wait to watch the whole crew sing and dance on September 7th at 10:15am\, following the 9:00 Divine Service! Sunday School will kick off at 10:30 am and Adult Bible Study will begin at 10:45 am. Bring the whole family!
URL:https://myflr.org/event/christ-our-redeemer-lutheran-church-rally-sunday/
LOCATION:Christ Our Redeemer Lutheran Church\, 1750 Faith Ct NE\, Albuquerque\, NM\, 87111\, United States
CATEGORIES:New Mexico
ORGANIZER;CN="Christ Our Redeemer Lutheran Church":MAILTO:admin@cor-lcms.org
END:VEVENT
END:VCALENDAR