
BEGIN:VCALENDAR
VERSION:2.0
PRODID:-//Family Life Radio - ECPv6.15.20//NONSGML v1.0//EN
CALSCALE:GREGORIAN
METHOD:PUBLISH
X-WR-CALNAME:Family Life Radio
X-ORIGINAL-URL:https://myflr.org
X-WR-CALDESC:Events for Family Life Radio
REFRESH-INTERVAL;VALUE=DURATION:PT1H
X-Robots-Tag:noindex
X-PUBLISHED-TTL:PT1H
BEGIN:VTIMEZONE
TZID:America/Phoenix
BEGIN:STANDARD
TZOFFSETFROM:-0700
TZOFFSETTO:-0700
TZNAME:MST
DTSTART:20250101T000000
END:STANDARD
END:VTIMEZONE
BEGIN:VEVENT
DTSTART;TZID=America/Phoenix:20260220T180000
DTEND;TZID=America/Phoenix:20260221T160000
DTSTAMP:20260421T141351
CREATED:20251015T192312Z
LAST-MODIFIED:20260208T020837Z
UID:10056668-1771610400-1771689600@myflr.org
SUMMARY:Retreat for Foster and Adoptive Moms: Coach Mom Live 2026
DESCRIPTION:Coach Mom Live 2026: Walk by Faith is a refreshing and faith-filled retreat designed especially for adoptive and foster moms who long to see their children thrive and fulfill their God-given destinies. \nAs moms\, we know the power of our words. Yet in the middle of exhaustion\, discouragement\, fear\, or resentment\, it can feel nearly impossible to consistently speak life over our children. \nThis retreat offers a joyful and uplifting getaway where you can pause\, breathe deeply\, and allow faith to rise again. \nThrough encouragement\, practical teaching\, and strategic tools\, you’ll learn how to replace draining words with words of life—equipping you to speak faith into your children’s future\, helping them rise above obstacles and step into God’s purposes. \nYou’ll return home refreshed\, empowered\, and equipped with a personalized plan to bring miraculous transformation into your family through the simple but powerful gift of your voice. \nbrennastull.com/retreat2026 \nCheck brennastull.com for coupon code (banner at top of home page). \nFull scholarship need?\nEmail brenna.stull @ gmail . com
URL:https://myflr.org/event/retreat-for-foster-and-adoptive-moms-coach-mom-live-2026/
LOCATION:Mission Valley Church\, 2740 E. Union Hills Dr.\, Phoenix\, AZ\, 85050\, United States
CATEGORIES:Arizona,Featured
ATTACH;FMTTYPE=image/jpeg:https://eadn-wc05-15902914.nxedge.io/wp-content/uploads/2025/10/2026-CML-Retreat-1280x720-graphics-1280-x-720-px-5.5-x-8.5-in-5.5-x-4.25-in.jpg
END:VEVENT
END:VCALENDAR