
BEGIN:VCALENDAR
VERSION:2.0
PRODID:-//Family Life Radio - ECPv6.15.20//NONSGML v1.0//EN
CALSCALE:GREGORIAN
METHOD:PUBLISH
X-WR-CALNAME:Family Life Radio
X-ORIGINAL-URL:https://myflr.org
X-WR-CALDESC:Events for Family Life Radio
REFRESH-INTERVAL;VALUE=DURATION:PT1H
X-Robots-Tag:noindex
X-PUBLISHED-TTL:PT1H
BEGIN:VTIMEZONE
TZID:America/Phoenix
BEGIN:STANDARD
TZOFFSETFROM:-0700
TZOFFSETTO:-0700
TZNAME:MST
DTSTART:20240101T000000
END:STANDARD
END:VTIMEZONE
BEGIN:VEVENT
DTSTART;TZID=America/Phoenix:20260314T100000
DTEND;TZID=America/Phoenix:20260314T150000
DTSTAMP:20260421T163846
CREATED:20260226T213357Z
LAST-MODIFIED:20260226T213357Z
UID:10059112-1773482400-1773500400@myflr.org
SUMMARY:Open House at Compassion Pregnancy Center's New Building - Fraser
DESCRIPTION:Come see what the Lord has done at Compassion Pregnancy Center! After renting for decades we’ve purchased (naturally\, with a mortgage) our own building that is much larger and will be a greater resource to those in our community who need our support. Tour the new building and experience Compassion as you learn about some client experiences\, learn about our no-cost services\, and meet some of our team members. Come when you can\, leave when you have to. Compassion’s new building is at 31900 Utica Rd\, Fraser\, MI 48026\, at the corner of Utica Road and Masonic and just west of Groesbeck. RSVPs to info@compassionpregnancy.org are appreciated but not required. \nOpen House times are Thursday\, March 12 from 4pm – 8pm and Saturday\, March 14 from 10am – 3pm
URL:https://myflr.org/event/open-house-at-compassion-pregnancy-centers-new-building-fraser/2026-03-14/
LOCATION:31900 Utica Road\, Fraser\, MI 48026\, 31900 Utica Road\, Fraser\, MI\, 48026\, United States
CATEGORIES:Michigan
ATTACH;FMTTYPE=image/png:https://eadn-wc05-15902914.nxedge.io/wp-content/uploads/2026/02/Invite-to-Open-House-Email.png
ORGANIZER;CN="Compassion Pregnancy Center":MAILTO:info@compassionpregnancy.org
END:VEVENT
BEGIN:VEVENT
DTSTART;TZID=America/Phoenix:20250410T180000
DTEND;TZID=America/Phoenix:20250410T210000
DTSTAMP:20260421T163846
CREATED:20250320T171638Z
LAST-MODIFIED:20250320T171638Z
UID:10040389-1744308000-1744318800@myflr.org
SUMMARY:Compassion Pregnancy Center – “At A Crossroads” Fundraising Banquet – Clinton Twp
DESCRIPTION:Please join supporters of Compassion Pregnancy Center on Thursday\, April 10\, 2025 for this mission-critical fundraising event. A delicious meal will be followed by a ministry update\, a keynote address from the faith-filled\, nationally known voice for LIFE\, Connie W. Coleman\, and more. Space is limited\, so register now! \nIf you have a group of people for whom you’d like to reserve space\, just let us know and we’d be happy to arrange for your own table. Contact us 586-783-2229 or info@compassionpregnancy.org. \nThere is no charge to attend; an opportunity to make a financial contribution to support our lifesaving work will be extended. Some guests make a generous contribution the night of the event\, some break their generous contribution up into monthly or quarterly amounts\, and many do both! Adults only please\, and reservations are required.
URL:https://myflr.org/event/compassion-pregnancy-center-at-a-crossroads-fundraising-banquet-clinton-twp/
LOCATION:The Mirage Banquet Hall\, 16980 18 Mile Rd\, Clinton Township\, MI\, 48038\, United States
CATEGORIES:Michigan
ATTACH;FMTTYPE=image/png:https://eadn-wc05-15902914.nxedge.io/wp-content/uploads/2025/03/Image-Invite-Postcard-Front-Only-Banquet-2025.png
ORGANIZER;CN="Compassion Pregnancy Center":MAILTO:info@compassionpregnancy.org
END:VEVENT
END:VCALENDAR