
BEGIN:VCALENDAR
VERSION:2.0
PRODID:-//Family Life Radio - ECPv6.15.20//NONSGML v1.0//EN
CALSCALE:GREGORIAN
METHOD:PUBLISH
X-WR-CALNAME:Family Life Radio
X-ORIGINAL-URL:https://myflr.org
X-WR-CALDESC:Events for Family Life Radio
REFRESH-INTERVAL;VALUE=DURATION:PT1H
X-Robots-Tag:noindex
X-PUBLISHED-TTL:PT1H
BEGIN:VTIMEZONE
TZID:America/Phoenix
BEGIN:STANDARD
TZOFFSETFROM:-0700
TZOFFSETTO:-0700
TZNAME:MST
DTSTART:20240101T000000
END:STANDARD
END:VTIMEZONE
BEGIN:VEVENT
DTSTART;TZID=America/Phoenix:20250913T140000
DTEND;TZID=America/Phoenix:20250913T160000
DTSTAMP:20260421T141830
CREATED:20250811T194047Z
LAST-MODIFIED:20250811T194047Z
UID:10049826-1757772000-1757779200@myflr.org
SUMMARY:Operation Christmas Child shoebox Speaker (Cascade\, IA)
DESCRIPTION:Cornerstone Church of Cascade has the privilege of hosting an Operation Christmas Child shoebox “full circle” speaker. Mariya Tatarin received a shoebox when she was 12 years old living in Ukraine. Cornerstone Church of Cascade invites you to hear Mariya’s story and be inspired to continue sharing the Gospel with children around the world through shoeboxes. \nSat.\, Sept. 13\, 2:00
URL:https://myflr.org/event/operation-christmas-child-shoebox-speaker-cascade-ia/
LOCATION:Cornerstone Church of Cascade\, 830 Nixon St\, Cascade\, IA\, 52033
CATEGORIES:Iowa,Wisconsin
ATTACH;FMTTYPE=image/jpeg:https://eadn-wc05-15902914.nxedge.io/wp-content/uploads/2025/08/IMG_9421.jpg
ORGANIZER;CN="Cornerstone Church of Cascade":MAILTO:Cornerstone Church Cascade
END:VEVENT
END:VCALENDAR