
BEGIN:VCALENDAR
VERSION:2.0
PRODID:-//Family Life Radio - ECPv6.15.20//NONSGML v1.0//EN
CALSCALE:GREGORIAN
METHOD:PUBLISH
X-WR-CALNAME:Family Life Radio
X-ORIGINAL-URL:https://myflr.org
X-WR-CALDESC:Events for Family Life Radio
REFRESH-INTERVAL;VALUE=DURATION:PT1H
X-Robots-Tag:noindex
X-PUBLISHED-TTL:PT1H
BEGIN:VTIMEZONE
TZID:America/Phoenix
BEGIN:STANDARD
TZOFFSETFROM:-0700
TZOFFSETTO:-0700
TZNAME:MST
DTSTART:20230101T000000
END:STANDARD
END:VTIMEZONE
BEGIN:VEVENT
DTSTART;TZID=America/Phoenix:20240413T083000
DTEND;TZID=America/Phoenix:20240414T170000
DTSTAMP:20260421T193135
CREATED:20240319T193553Z
LAST-MODIFIED:20240319T193553Z
UID:10021010-1712997000-1713114000@myflr.org
SUMMARY:Health Rally & Mini Health Fair
DESCRIPTION:Please join us for a Health Rally and Mini Health Fair. This is a FREE event open to everyone! You will enjoy Training Sessions on Mental Health\, Hydrotherapy\, Natural Remedies\, Cooking Classes\, and much more. The Mini Health Fair will focus on the NEW START 8 laws of health program which are: Nutrition\, Exercise\, Water\, Sunshine\, Temperance\, Air\, Rest\, and Trust in God. Bring your family\, neighbors and friends and be blessed!!
URL:https://myflr.org/event/health-rally-mini-health-fair/
LOCATION:Glendale SDA Church\, 6801 N. 43rd Avenue\, Glendale\, 85019
CATEGORIES:Arizona
ATTACH;FMTTYPE=image/jpeg:https://eadn-wc05-15902914.nxedge.io/wp-content/uploads/2024/03/Health-Rally-2024.jpg
ORGANIZER;CN="Dr. Ugonna Woods":MAILTO:p2eace@yahoo.com
END:VEVENT
END:VCALENDAR