
BEGIN:VCALENDAR
VERSION:2.0
PRODID:-//Family Life Radio - ECPv6.15.20//NONSGML v1.0//EN
CALSCALE:GREGORIAN
METHOD:PUBLISH
X-ORIGINAL-URL:https://myflr.org
X-WR-CALDESC:Events for Family Life Radio
REFRESH-INTERVAL;VALUE=DURATION:PT1H
X-Robots-Tag:noindex
X-PUBLISHED-TTL:PT1H
BEGIN:VTIMEZONE
TZID:America/Phoenix
BEGIN:STANDARD
TZOFFSETFROM:-0700
TZOFFSETTO:-0700
TZNAME:MST
DTSTART:20220101T000000
END:STANDARD
END:VTIMEZONE
BEGIN:VEVENT
DTSTART;TZID=America/Phoenix:20260329T090000
DTEND;TZID=America/Phoenix:20260329T133000
DTSTAMP:20260421T124452
CREATED:20260324T225357Z
LAST-MODIFIED:20260324T225357Z
UID:10059972-1774774800-1774791000@myflr.org
SUMMARY:Palm Sunday at Dream City Church
DESCRIPTION:🌿 You’re Invited to Palm Sunday at Dream City Church! 🌿 \nJoin us for a special Palm Sunday celebration at Dream City Church as we come together for a powerful service and a day full of fun for the whole family! \n✨ What to expect: • An inspiring Palm Sunday service • Egg Hunt for the kids 🥚 • Delicious food 🍔🌭 • Fun games and activities 🎯 • A welcoming community atmosphere for everyone \nBring your family\, invite your friends\, and come celebrate with us as we remember the hope and joy of Palm Sunday.
URL:https://myflr.org/event/palm-sunday-at-dream-city-church/
LOCATION:Dream City Church\, 13613 N Cave Creek Rd\, Phoenix\, AZ\, 85022\, United States
CATEGORIES:Arizona
ATTACH;FMTTYPE=image/png:https://eadn-wc05-15902914.nxedge.io/wp-content/uploads/2026/03/Screen-Shot-2026-03-16-at-11.16.06-AM.png
END:VEVENT
BEGIN:VEVENT
DTSTART;TZID=America/Phoenix:20251211T190000
DTEND;TZID=America/Phoenix:20251221T203000
DTSTAMP:20260421T124452
CREATED:20251120T181711Z
LAST-MODIFIED:20251120T195009Z
UID:10057586-1765479600-1766349000@myflr.org
SUMMARY:Celebration of Christmas
DESCRIPTION:Arizona’s Grand Christmas Spectacular!\nStep into the world of Christmas wonder at the Celebration of Christmas\, a special holiday experience for all generations. Get ready to be captivated by an all-new second act\, showcasing a Broadway-style performance featuring live animals\, a full orchestra\, a breathtaking live nativity scene\, awe-inspiring silk artists\, and aerial acrobatic stunts that will leave you in awe. \nJoin us as we celebrate the true meaning of Christmas and experience the joy and wonder that only the Celebration of Christmas can deliver. Bring your loved ones\, embrace the spirit of Christmas\, and be part of Arizona’s Grand Christmas Spectacular. \nFree seating is available\, but not guaranteed! \nShows run Tuesday–Sunday at 7 PM\, with additional Saturday & Sunday matinees at 3 PM. \n 
URL:https://myflr.org/event/celebration-of-christmas/
LOCATION:Dream City Church\, 13613 N Cave Creek Rd\, Phoenix\, AZ\, 85022\, United States
CATEGORIES:Arizona,Featured
ATTACH;FMTTYPE=image/png:https://eadn-wc05-15902914.nxedge.io/wp-content/uploads/2025/11/Screen-Shot-2025-11-17-at-9.49.29-AM.png
END:VEVENT
BEGIN:VEVENT
DTSTART;TZID=America/Phoenix:20250712T183000
DTEND;TZID=America/Phoenix:20250712T213000
DTSTAMP:20260421T124452
CREATED:20250716T172252Z
LAST-MODIFIED:20250716T172252Z
UID:10048772-1752345000-1752355800@myflr.org
SUMMARY:Singles Comedy Night
DESCRIPTION:Join us for Dream City’s Singles Comedy Night — a high-energy night of clean comedy\, real community\, and something new in the making. Enjoy laugh-out-loud sets from nationally recognized comedians Brian Kohatsu and Eric O’Shea (as seen on America’s Got Talent\, the Emmys\, and Dry Bar Comedy). \nWhether you’re in your 20s or 50s—newly navigating this season or fully owning it—never married\, divorced\, widowed\, single parent—this night is for you. If you’re not married\, you’re invited. \nCome early\, grab concessions\, and catch the show from 7:00 to 8:30 PM\, then stick around until 9:30 for good conversation and casual hangout time. \n????️ $10 in advance | $15 at the door (cash only)\n???? Concessions available — come early to grab snacks and mingle! \nThis isn’t just a comedy night\, it’s the launch of a new rhythm for singles across the valley! \nText SINGLE to (623) 500-6868 to stay in the loop on upcoming events and community opportunities.
URL:https://myflr.org/event/singles-comedy-night/
LOCATION:Dream City Church\, 13613 N Cave Creek Rd\, Phoenix\, AZ\, 85022\, United States
CATEGORIES:Arizona
ATTACH;FMTTYPE=image/jpeg:https://eadn-wc05-15902914.nxedge.io/wp-content/uploads/2025/07/IMG_8884.jpeg
END:VEVENT
BEGIN:VEVENT
DTSTART;VALUE=DATE:20241205
DTEND;VALUE=DATE:20241216
DTSTAMP:20260421T124452
CREATED:20241209T194709Z
LAST-MODIFIED:20241209T194709Z
UID:10037570-1733356800-1734307199@myflr.org
SUMMARY:Arizona’s Grand Christmas Spectacular ‘Celebration Of Christmas!’
DESCRIPTION:Step into the world of Christmas wonder at the Celebration of Christmas\, a special holiday experience for all generations. Get ready to be captivated by an all-new second act\, showcasing a Broadway-style performance featuring live animals\, a full orchestra\, a breathtaking live nativity scene\, awe-inspiring silk artists\, and aerial acrobatic stunts that will leave you in awe. \nJoin us as we celebrate the true meaning of Christmas and experience the joy and wonder that only the Celebration of Christmas can deliver. Bring your loved ones\, embrace the spirit of Christmas\, and be part of Arizona’s Grand Christmas Spectacular.
URL:https://myflr.org/event/arizonas-grand-christmas-spectacular-celebration-of-christmas/
LOCATION:Dream City Church\, 13613 N Cave Creek Rd\, Phoenix\, AZ\, 85022\, United States
CATEGORIES:Arizona,Featured
ATTACH;FMTTYPE=image/png:https://eadn-wc05-15902914.nxedge.io/wp-content/uploads/2024/12/Celebration-of-Christmas-1.png
END:VEVENT
BEGIN:VEVENT
DTSTART;VALUE=DATE:20241205
DTEND;VALUE=DATE:20241216
DTSTAMP:20260421T124452
CREATED:20241204T053806Z
LAST-MODIFIED:20241204T053806Z
UID:10037550-1733356800-1734307199@myflr.org
SUMMARY:Celebration Of Christmas- Arizona’s Grand Christmas Spectacular
DESCRIPTION:Step into the world of Christmas wonder at the Celebration of Christmas\, a special holiday experience for all generations. Get ready to be captivated by an all-new second act\, showcasing a Broadway-style performance featuring live animals\, a full orchestra\, a breathtaking live nativity scene\, awe-inspiring silk artists\, and aerial acrobatic stunts that will leave you in awe. \nJoin us as we celebrate the true meaning of Christmas and experience the joy and wonder that only the Celebration of Christmas can deliver. Bring your loved ones\, embrace the spirit of Christmas\, and be part of Arizona’s Grand Christmas Spectacular. \nShows run December 5th -15th At Dream City Church in Phoenix. Get your tickets at Celebrationofchristmas.org \n 
URL:https://myflr.org/event/celebration-of-christmas-arizonas-grand-christmas-spectacular/
LOCATION:Dream City Church\, 13613 N Cave Creek Rd\, Phoenix\, AZ\, 85022\, United States
CATEGORIES:Arizona,Featured
ATTACH;FMTTYPE=image/png:https://eadn-wc05-15902914.nxedge.io/wp-content/uploads/2024/12/Celebration-of-Christmas.png
END:VEVENT
BEGIN:VEVENT
DTSTART;VALUE=DATE:20240226
DTEND;VALUE=DATE:20240229
DTSTAMP:20260421T124452
CREATED:20240220T022512Z
LAST-MODIFIED:20240220T022512Z
UID:10020034-1708905600-1709164799@myflr.org
SUMMARY:Dream Conference; Strong Church
DESCRIPTION:Dream Conference 2024 is an opportunity for you to gain new perspectives\, tools\, and resources to lead your congregation with renewed vigor and insight. It’s time to connect with peers\, learn from experienced leaders\, and return to your ministry equipped and inspired!  \nBRING YOUR ENTIRE TEAM!\nThis conference is not just an event\, but a transformative experience\, designed to equip church leaders with practical ministry applications. It will focus on strengthening our commitment to standing for biblical truth and the Gospel of Christ in our nation today. \nALL EVENING SERVICES ARE FREE TO THE PUBLIC!\nJoin Pastor Luke Barnett\, Pastor Tommy Barnett\, Pastor Jentezen Franklin\, Charlie Kirk\, and other influential speakers as we embark on a journey to inspire and equip Christian pastors and ministry leaders at Dream Conference 2024!!!! \nREGISTER NOW at  https://dreamconference.net/
URL:https://myflr.org/event/dream-conference-strong-church/
LOCATION:Dream City Church\, 13613 N Cave Creek Rd\, Phoenix\, AZ\, 85022\, United States
CATEGORIES:Arizona,Featured
ATTACH;FMTTYPE=image/jpeg:https://eadn-wc05-15902914.nxedge.io/wp-content/uploads/2024/02/Dream-Conference-2024-1.jpg
END:VEVENT
BEGIN:VEVENT
DTSTART;VALUE=DATE:20231207
DTEND;VALUE=DATE:20231218
DTSTAMP:20260421T124452
CREATED:20231117T022248Z
LAST-MODIFIED:20231117T022248Z
UID:10018496-1701907200-1702857599@myflr.org
SUMMARY:Arizona’s Grand Christmas Spectacular; The Celebration of Christmas
DESCRIPTION:Step into the world of Christmas wonder at the Celebration of Christmas\, a special holiday experience for all generations. Get ready to be captivated by an all-new first act\, showcasing a Broadway-style performance featuring live animals\, a full orchestra\, a breathtaking live nativity scene\, awe-inspiring silk artists\, and aerial acrobatic stunts that will leave you in awe. \nJoin Family Life Radio as we celebrate the true meaning of Christmas with Dream City Church and experience the joy and wonder that only the Celebration of Christmas can deliver. Bring your loved ones\, embrace the spirit of Christmas\, and be part of Arizona’s Grand Christmas Spectacular. With shows running from December 7th- December 17th. \nGet tickets here….https://dreamcitychurch.us/calendar/coc/
URL:https://myflr.org/event/arizonas-grand-christmas-spectacular-the-celebration-of-christmas/
LOCATION:Dream City Church\, 13613 N Cave Creek Rd\, Phoenix\, AZ\, 85022\, United States
CATEGORIES:Arizona,Featured
ATTACH;FMTTYPE=image/png:https://eadn-wc05-15902914.nxedge.io/wp-content/uploads/2023/11/Celebration-Of-Christmas-2023.png
END:VEVENT
BEGIN:VEVENT
DTSTART;TZID=America/Phoenix:20230915T190000
DTEND;TZID=America/Phoenix:20230916T160000
DTSTAMP:20260421T124452
CREATED:20230519T195324Z
LAST-MODIFIED:20230523T175408Z
UID:10009510-1694804400-1694880000@myflr.org
SUMMARY:Lifeway Women Live
DESCRIPTION:At Lifeway Women Live\, you’ll:\nSpend a weekend centering your heart in Scripture\, led by some of today’s top Bible teachers\nEngage with women who\, like you\, believe God’s Word changes lives\nGain encouragement to continue pursuing Christ in the midst of your daily life \nHear teaching from Lysa TerKeurst\, Jen Wilkin\, Jennifer Rothschild\, Kelly Minter\, Alexandra Hoover\, Adrienne Camp\, and worship with Michael Boggs.  \nThe process of faith seems simple at first\, right? After all\, Jesus said all we need is faith the size of a mustard seed. But what does belief look like in our everyday lives? On the good days and the days where faith the size of a mustard seed seems like an awfully large ask? \nLet’s tackle the hard questions together at Lifeway Women Live in Phoenix. We’ll explore what it means to live by faith\, exercise your faith\, spur one another on in faith\, believe what you can’t reach out and touch\, and so much more.
URL:https://myflr.org/event/lifeway-women-live/
LOCATION:Dream City Church\, 13613 N Cave Creek Rd\, Phoenix\, AZ\, 85022\, United States
CATEGORIES:Arizona
ATTACH;FMTTYPE=image/jpeg:https://eadn-wc05-15902914.nxedge.io/wp-content/uploads/2023/05/1000x200-Phoenix.jpg
END:VEVENT
BEGIN:VEVENT
DTSTART;TZID=America/Phoenix:20230513T100000
DTEND;TZID=America/Phoenix:20230513T130000
DTSTAMP:20260421T124452
CREATED:20230503T215828Z
LAST-MODIFIED:20230511T193212Z
UID:10008957-1683972000-1683982800@myflr.org
SUMMARY:Splendid Women’s ‘She Is’ Conference
DESCRIPTION:Are you struggling with your identity? Do you sometimes feel like you don’t know who you are anymore? Culture tries to confuse and devalue what it means to be a woman\, and many are falling for the lies of the enemy. Thankfully\, our victorious and faithful God has an intimate knowledge of who you are\, and an intricate design for your life! \nShe Is Conference is a three-day conference that will empower you to discover who God says you are amidst a changing and corrupt culture. Find clarity on your identity and future\, and step into the fullness that God has for you spiritually\, mentally\, emotionally\, relationally\, and even financially! \nJoin us at Splendid Women’s Conference to encounter the love of God\, connect with other women\, and hear from inspiring speakers including Kim Walker Smith\, Nona Jones\, and Bobbie Houston. \nRegister Now\, Space Is Limited! \nThis is a three-day event from Thursday\, May 11th to Saturday\, May 13th. The Conference will begin at 7 PM on Thursday and Friday\, and 10 AM on Saturday. Check-in will begin on Thursday at 5 PM\, and attendees will have the opportunity to browse and shop our exhibitors before the event starts. Food trucks will be available each day\, so come hungry! \nFind out more https://www.eventbrite.com/e/splendid-womens-conference-2023-she-is-registration-339355380077 \nWatch this video…..
URL:https://myflr.org/event/splendid-womens-she-is-conference/2023-05-13/
LOCATION:Dream City Church\, 13613 N Cave Creek Rd\, Phoenix\, AZ\, 85022\, United States
CATEGORIES:Arizona,Featured
ATTACH;FMTTYPE=image/jpeg:https://eadn-wc05-15902914.nxedge.io/wp-content/uploads/2023/05/She-is.jpg
END:VEVENT
END:VCALENDAR