
BEGIN:VCALENDAR
VERSION:2.0
PRODID:-//Family Life Radio - ECPv6.15.20//NONSGML v1.0//EN
CALSCALE:GREGORIAN
METHOD:PUBLISH
X-WR-CALNAME:Family Life Radio
X-ORIGINAL-URL:https://myflr.org
X-WR-CALDESC:Events for Family Life Radio
REFRESH-INTERVAL;VALUE=DURATION:PT1H
X-Robots-Tag:noindex
X-PUBLISHED-TTL:PT1H
BEGIN:VTIMEZONE
TZID:America/Detroit
BEGIN:DAYLIGHT
TZOFFSETFROM:-0500
TZOFFSETTO:-0400
TZNAME:EDT
DTSTART:20240310T070000
END:DAYLIGHT
BEGIN:STANDARD
TZOFFSETFROM:-0400
TZOFFSETTO:-0500
TZNAME:EST
DTSTART:20241103T060000
END:STANDARD
BEGIN:DAYLIGHT
TZOFFSETFROM:-0500
TZOFFSETTO:-0400
TZNAME:EDT
DTSTART:20250309T070000
END:DAYLIGHT
BEGIN:STANDARD
TZOFFSETFROM:-0400
TZOFFSETTO:-0500
TZNAME:EST
DTSTART:20251102T060000
END:STANDARD
BEGIN:DAYLIGHT
TZOFFSETFROM:-0500
TZOFFSETTO:-0400
TZNAME:EDT
DTSTART:20260308T070000
END:DAYLIGHT
BEGIN:STANDARD
TZOFFSETFROM:-0400
TZOFFSETTO:-0500
TZNAME:EST
DTSTART:20261101T060000
END:STANDARD
END:VTIMEZONE
BEGIN:VEVENT
DTSTART;TZID=America/Detroit:20250913T180000
DTEND;TZID=America/Detroit:20250915T130000
DTSTAMP:20260421T112627
CREATED:20250804T133756Z
LAST-MODIFIED:20250804T133756Z
UID:10049798-1757786400-1757941200@myflr.org
SUMMARY:EdgeVenture - Dowling
DESCRIPTION:Edge Venture is a Christian Ministry that focuses on men discovering who they are in the eyes of Jesus. Edge seeks to build a community of men that uses biblical principles and experiential tactics to help them hear the Holy Spirit in their lives and conquer the roadblocks and challenges ahead of them. \nEdge Venture is focused on helping men defeat lies that have been holding them back for far too long. These lies get in the way of relationship(s) with your Wife\, Friends\, Children\, and God. \nCan you allocate 44 hours of your time to take back ground from the enemy? That is an Edge Venture weekend. Deeply experiential\, radically relational\, and focused on allowing God to help men take back control of their lives. \nTwo days.\nOne decision.\nAre you in?
URL:https://myflr.org/event/edgeventure-dowling/
LOCATION:Wesley Woods Camp & Retreat Center (Dowling\, MI)\, 1700 Clear Lake\, Dowling\, MI\, 49050\, United States
CATEGORIES:Michigan
ATTACH;FMTTYPE=image/jpeg:https://eadn-wc05-15902914.nxedge.io/wp-content/uploads/2025/07/EDGEVENTURE-1052892-scaled.jpg
ORGANIZER;CN="Edge Venture Ministries":MAILTO:jeffl@edgeventure.org
END:VEVENT
END:VCALENDAR