
BEGIN:VCALENDAR
VERSION:2.0
PRODID:-//Family Life Radio - ECPv6.15.20//NONSGML v1.0//EN
CALSCALE:GREGORIAN
METHOD:PUBLISH
X-ORIGINAL-URL:https://myflr.org
X-WR-CALDESC:Events for Family Life Radio
REFRESH-INTERVAL;VALUE=DURATION:PT1H
X-Robots-Tag:noindex
X-PUBLISHED-TTL:PT1H
BEGIN:VTIMEZONE
TZID:America/Phoenix
BEGIN:STANDARD
TZOFFSETFROM:-0700
TZOFFSETTO:-0700
TZNAME:MST
DTSTART:20240101T000000
END:STANDARD
END:VTIMEZONE
BEGIN:VEVENT
DTSTART;TZID=America/Phoenix:20251108T090000
DTEND;TZID=America/Phoenix:20251108T153000
DTSTAMP:20260421T121019
CREATED:20251009T214353Z
LAST-MODIFIED:20251023T215511Z
UID:10056645-1762592400-1762615800@myflr.org
SUMMARY:Not Alone Singles Conference
DESCRIPTION:Multi-church event for all Singles (including teens). Great worship\, 4 Spirit filled speakers to encourage and equip singles for living a holy\, Jesus-centered life. \nRegister with QR code or on the Elevate Ministries Albuquerque website.  \n$10 fee\, includes box lunch. Invite your friends! \nAt Elevate Ministries Albuquerque\, 5908 Anaheim Ave\, NE
URL:https://myflr.org/event/not-alone-singles-conference/
LOCATION:5908 Anaheim Ave NE\, 5908 Anaheim Ave NE\, Albuquerque\, NM\, 87113\, United States
CATEGORIES:New Mexico
ATTACH;FMTTYPE=image/jpeg:https://eadn-wc05-15902914.nxedge.io/wp-content/uploads/2025/10/elevate-ministries-graphic-2025.jpg
ORGANIZER;CN="Elevate Ministries Albuquerque":MAILTO:marcellavj@gmail.com
END:VEVENT
END:VCALENDAR