
BEGIN:VCALENDAR
VERSION:2.0
PRODID:-//Family Life Radio - ECPv6.15.20//NONSGML v1.0//EN
CALSCALE:GREGORIAN
METHOD:PUBLISH
X-WR-CALNAME:Family Life Radio
X-ORIGINAL-URL:https://myflr.org
X-WR-CALDESC:Events for Family Life Radio
REFRESH-INTERVAL;VALUE=DURATION:PT1H
X-Robots-Tag:noindex
X-PUBLISHED-TTL:PT1H
BEGIN:VTIMEZONE
TZID:America/Phoenix
BEGIN:STANDARD
TZOFFSETFROM:-0700
TZOFFSETTO:-0700
TZNAME:MST
DTSTART:20230101T000000
END:STANDARD
END:VTIMEZONE
BEGIN:VEVENT
DTSTART;TZID=America/Phoenix:20251103T183000
DTEND;TZID=America/Phoenix:20251103T200000
DTSTAMP:20260421T141739
CREATED:20250724T174231Z
LAST-MODIFIED:20250922T182153Z
UID:10049261-1762194600-1762200000@myflr.org
SUMMARY:Embrace Life-Single Mom's Free Class w/ resources
DESCRIPTION:A free class for single moms who don’t want to go through parenting alone. Here you will find encouragement\, resources and other single moms seeking God as they go through the same things.
URL:https://myflr.org/event/embrace-life-single-moms-free-class-w-resources/2025-11-03/
LOCATION:Sagebrush Church Riverside\, 6400 Coors NW\, Albuquerque\, NM\, 87120\, United States
CATEGORIES:New Mexico
END:VEVENT
BEGIN:VEVENT
DTSTART;TZID=America/Phoenix:20240814T184500
DTEND;TZID=America/Phoenix:20240814T200000
DTSTAMP:20260421T141739
CREATED:20230131T220232Z
LAST-MODIFIED:20240731T172309Z
UID:10031788-1723661100-1723665600@myflr.org
SUMMARY:Embrace Grace Albuquerque
DESCRIPTION:Weekly every Wednesday evening at Sagebrush Community Church 6440 Coors Blvd NW\, Albuquerque 87120\n6:45PM-8:00PM \nWe are a support group for young and unwed ladies going through an unplanned pregnancy. We provide emotional\, practical and spiritual support as they journey through this unexpected event in their lives. We want every girl with an unplanned pregnancy to feel loved and worthy and to enable our church and our group to transform their life. \n  \n\nPlease join us\, there is no cost to join.\nFor complete details\, call or text 505.379.3122
URL:https://myflr.org/event/embrace-grace-albuquerque-17/2024-08-14/
LOCATION:Sagebrush Church Santa Fe\, 3405 Vereda Baja\, Santa Fe\, New Mexico\, 87507
CATEGORIES:New Mexico
ATTACH;FMTTYPE=image/jpeg:https://eadn-wc05-15902914.nxedge.io/wp-content/uploads/2023/01/Embrace-Grace-ABQ.jpg
END:VEVENT
END:VCALENDAR