
BEGIN:VCALENDAR
VERSION:2.0
PRODID:-//Family Life Radio - ECPv6.15.20//NONSGML v1.0//EN
CALSCALE:GREGORIAN
METHOD:PUBLISH
X-ORIGINAL-URL:https://myflr.org
X-WR-CALDESC:Events for Family Life Radio
REFRESH-INTERVAL;VALUE=DURATION:PT1H
X-Robots-Tag:noindex
X-PUBLISHED-TTL:PT1H
BEGIN:VTIMEZONE
TZID:America/Phoenix
BEGIN:STANDARD
TZOFFSETFROM:-0700
TZOFFSETTO:-0700
TZNAME:MST
DTSTART:20240101T000000
END:STANDARD
END:VTIMEZONE
BEGIN:VEVENT
DTSTART;TZID=America/Phoenix:20250524T080000
DTEND;TZID=America/Phoenix:20250524T170000
DTSTAMP:20260421T170822
CREATED:20250417T184459Z
LAST-MODIFIED:20250417T184459Z
UID:10041000-1748073600-1748106000@myflr.org
SUMMARY:Worship Crusade
DESCRIPTION:Come experience an unforgettable evening of praise and worship with Gospel recording artist and Son of Emmanuel\, Eddie James. Let your spirit be refueled and uplifted through powerful music and heartfelt ministry. \nThis is your moment to encounter God’s presence in a fresh and impactful way. Bring your friends\, family\, and your heart ready for transformation. \nDon’t miss it — Let’s worship together! ????????????????
URL:https://myflr.org/event/worship-crusade/
LOCATION:Emmanuel Church of God In Christ\, 1537 W. Buckeye Rd\, Phoenix\, AZ\, 85007\, United States
CATEGORIES:Arizona
ATTACH;FMTTYPE=image/jpeg:https://eadn-wc05-15902914.nxedge.io/wp-content/uploads/2025/04/worshipmusicalsarah.jpeg
ORGANIZER;CN="Emmanuel Church of God In Christ":MAILTO:Emmanuelcogicphx@gmail.com
END:VEVENT
END:VCALENDAR