
BEGIN:VCALENDAR
VERSION:2.0
PRODID:-//Family Life Radio - ECPv6.15.20//NONSGML v1.0//EN
CALSCALE:GREGORIAN
METHOD:PUBLISH
X-ORIGINAL-URL:https://myflr.org
X-WR-CALDESC:Events for Family Life Radio
REFRESH-INTERVAL;VALUE=DURATION:PT1H
X-Robots-Tag:noindex
X-PUBLISHED-TTL:PT1H
BEGIN:VTIMEZONE
TZID:America/Phoenix
BEGIN:STANDARD
TZOFFSETFROM:-0700
TZOFFSETTO:-0700
TZNAME:MST
DTSTART:20250101T000000
END:STANDARD
END:VTIMEZONE
BEGIN:VEVENT
DTSTART;VALUE=DATE:20260301
DTEND;VALUE=DATE:20260702
DTSTAMP:20260421T065922
CREATED:20260310T204538Z
LAST-MODIFIED:20260310T204538Z
UID:10059124-1772323200-1782950399@myflr.org
SUMMARY:Youth Camp Car Wash fundraiser
DESCRIPTION:Starting March 1st and going until July 1st\, Lone Star Suds is sponsoring our fundraising efforts for Youth Camp! 50% of every purchase made through the QR code or the website: https://crwsh.co/LSSFBC goes towards our efforts of sending our teens to Silver State Baptist Youth Camp this year. You can purchase as many washes as you want\, either for yourselves or as a gift for friends or family. Once purchased\, you will receive a text code to use at any location whenever you desire.\nBuy a wash and support a teen.
URL:https://myflr.org/event/youth-camp-car-wash-fundraiser/
CATEGORIES:Texas
ATTACH;FMTTYPE=image/png:https://eadn-wc05-15902914.nxedge.io/wp-content/uploads/2026/03/2026-Flyer.png
ORGANIZER;CN="faith baptist church":MAILTO:shawn@ihavefaith.com
END:VEVENT
END:VCALENDAR