
BEGIN:VCALENDAR
VERSION:2.0
PRODID:-//Family Life Radio - ECPv6.15.20//NONSGML v1.0//EN
CALSCALE:GREGORIAN
METHOD:PUBLISH
X-WR-CALNAME:Family Life Radio
X-ORIGINAL-URL:https://myflr.org
X-WR-CALDESC:Events for Family Life Radio
REFRESH-INTERVAL;VALUE=DURATION:PT1H
X-Robots-Tag:noindex
X-PUBLISHED-TTL:PT1H
BEGIN:VTIMEZONE
TZID:America/Phoenix
BEGIN:STANDARD
TZOFFSETFROM:-0700
TZOFFSETTO:-0700
TZNAME:MST
DTSTART:20230101T000000
END:STANDARD
END:VTIMEZONE
BEGIN:VEVENT
DTSTART;TZID=America/Phoenix:20240518T090000
DTEND;TZID=America/Phoenix:20240518T120000
DTSTAMP:20260421T041206
CREATED:20240408T192026Z
LAST-MODIFIED:20240408T192026Z
UID:10023751-1716022800-1716033600@myflr.org
SUMMARY:Faith Ministries Church Prayer Breakfast
DESCRIPTION:Prophetess Linda J. Kemp Revis and Faith Ministries Church in Midland\, Michigan\, cordially invite you to their Annual Prayer Breakfast on Saturday\, May 18th\, at 9:00 a.m. The event will take place at the Great Hall Banquet and Convention Center in Midland. The guest speaker for this event is Prophetess Linda J. Kemp Revis of Midland\, MI. This is a community event\, and everyone is welcome to attend! You can reserve your tickets online at https://faithministrieschurch.org/prayer-breakfast or by calling 989-837-7777.
URL:https://myflr.org/event/faith-ministries-church-prayer-breakfast/
LOCATION:Great Hall Banquet & Convention Center (Midland\, MI)\, 5121 Bay City Rd\, Midland\, MI\, 48642\, United States
CATEGORIES:Michigan
ATTACH;FMTTYPE=image/jpeg:https://eadn-wc05-15902914.nxedge.io/wp-content/uploads/2024/04/PB-Flyer-Post-fb2.jpg
ORGANIZER;CN="Faith Ministries Church (Midland)":MAILTO:faithnews@faithministrieschurch.org
END:VEVENT
END:VCALENDAR