
BEGIN:VCALENDAR
VERSION:2.0
PRODID:-//Family Life Radio - ECPv6.15.20//NONSGML v1.0//EN
CALSCALE:GREGORIAN
METHOD:PUBLISH
X-ORIGINAL-URL:https://myflr.org
X-WR-CALDESC:Events for Family Life Radio
REFRESH-INTERVAL;VALUE=DURATION:PT1H
X-Robots-Tag:noindex
X-PUBLISHED-TTL:PT1H
BEGIN:VTIMEZONE
TZID:America/Phoenix
BEGIN:STANDARD
TZOFFSETFROM:-0700
TZOFFSETTO:-0700
TZNAME:MST
DTSTART:20230101T000000
END:STANDARD
END:VTIMEZONE
BEGIN:VEVENT
DTSTART;VALUE=DATE:20251208
DTEND;VALUE=DATE:20251209
DTSTAMP:20260421T171553
CREATED:20251113T233200Z
LAST-MODIFIED:20251113T233200Z
UID:10057312-1765152000-1765238399@myflr.org
SUMMARY:TOY DRIVE 2025 Olathe\, KS (Mission Southside)
DESCRIPTION:🎁 FLR Toy Drive 2025 – Olathe\, KSSupporting Mission Southside — “A Neighbor’s Heart”NOW through December 8\, 2025! \nWe’re putting love into action by helping local children and families experience hope this Christmas. Donate a toy\, hat\, gloves\, or scarf at any drop-off location—or shop from your phone and ship directly to Mission Southside. \n📱 Amazon Wish List: https://bit.ly/49eoDmU📍 All Drop-Off Locations Map: https://maps.app.goo.gl/PiUvzbof3Kp5frRz6 \n\n📍 Drop-Off Locations – Olathe & Leawood\nBucher Family Dentistry975 N Mur-Len Rd Ste B\, Olathe\, KS 66062(913) 764-5114Hours:Mon 8–5 • Tue 7–7 • Wed 7:30–4:30Thu 7–6 • Fri 8–2 \nCornerstone Presbyterian Church13300 Kenneth Rd\, Leawood\, KS 66209(913) 738-5250Hours:Mon–Fri 9–4 • Sun 8:30–12 \nLeawood Presbyterian Church2715 W 83rd St\, Leawood\, KS 66206913-649-1144 • leawoodpres.orgHours: Mon–Fri 8–4 \n\n📍 Olathe Locations\nChrist Community Church – Olathe Campus20600 W 119th St\, Olathe\, KS 66061913-685-1161 • cckc.church/olatheHours: Mon–Thu 9–2 • Sun 8–12:30 \nMission Southside (Non-profit partner)514 S Kansas Ave\, Olathe\, KS 66061913-393-2200 • missionsouthside.orgHours: Mon–Fri 9–12 & 1–4
URL:https://myflr.org/event/toy-drive-2025-olathe-ks-mission-southside/
LOCATION:MIssion Southside\, 514 S Kansas Avenue\, Olathe\, KS\, 66061\, United States
CATEGORIES:Featured,Kansas,Missouri
ATTACH;FMTTYPE=image/jpeg:https://eadn-wc05-15902914.nxedge.io/wp-content/uploads/2025/11/88.1-KC-Toy-Drive-Mission-Social-Post-1x1-1.jpg
ORGANIZER;CN="Family Life Radio KANSAS MISSOURI":MAILTO:emeyer@flc.org
END:VEVENT
BEGIN:VEVENT
DTSTART;VALUE=DATE:20251208
DTEND;VALUE=DATE:20251209
DTSTAMP:20260421T171553
CREATED:20251113T231810Z
LAST-MODIFIED:20251113T231810Z
UID:10057311-1765152000-1765238399@myflr.org
SUMMARY:TOY DRIVE 2025-Kansas City (Carry the Cross Ministries)
DESCRIPTION:🎁 FLR Toy Drive 2025 – Kansas CitySupporting Carry the Cross Ministry – Love. Serve. Restore.Now through December 8\, 2025 for at-risk youth 7-18 yrs old! \nHelp us bless children and families in Kansas City! Donate a toy\, hat\, gloves\, or scarf at any drop-off location—or shop from your phone and ship directly to Carry the Cross. \n📱 Amazon Wish List: https://bit.ly/3LBuLMh📍 Drop-Off Locations Map: https://maps.app.goo.gl/PiUvzbof3Kp5frRz6 \n\n📦 Drop-Off Locations\nCarry the Cross Ministries5517 Freeman Avenue\, Kansas City\, KS 66102913-515-0045 • carrythecross.orgHours: Mon–Fri 9am–6pm \nDagwoods1117 Southwest Boulevard\, Kansas City\, KS 66103Hours: Mon–Sat 6am–2pm • Sun 7am–2pm \nMultiply Church1201 N 67th St\, Kansas City\, KS 66102913-282-3727 • multiplychurch.ccHours: Mon–Fri 10am–3pm • Sun 9am–1pm \nWholesale Batteries605 Kansas Ave\, Kansas City\, KS 66105913-207-6022 • wholesalebatteries.netHours: Mon–Sat 8am–5pm \n\n📍 Lenexa\, KS\nComfort Kings9868 Pflumm Road\, Lenexa\, KS 66215913-277-9428 • comfortkingskc.comHours: Mon–Fri 9am–5pm \nLenexa Baptist Church15320 W 87th Street Parkway\, Lenexa\, KS 66219913-515-0045 • lenexabaptist.comHours: Mon–Thu 9am–5pm • Sun 9am–12:30pm \n\n📍 Additional KC Area Locations\nThird Space226 Oak St\, Bonner Springs\, KS913-745-4564Hours: Mon–Sat 7am–3pm \nThe Roasterie1204 W 27th St\, Kansas City\, MO 64108816-931-4000Hours: Mon–Fri 7am–5pm • Sat–Sun 8am–4pm
URL:https://myflr.org/event/toy-drive-2025-kansas-city-carry-the-cross-ministries/
LOCATION:Carry the Cross Ministries\, 5517 Freeman Ave\, Kansas City\, KS\, 66102\, United States
CATEGORIES:Featured,Kansas,Missouri
ATTACH;FMTTYPE=image/jpeg:https://eadn-wc05-15902914.nxedge.io/wp-content/uploads/2025/11/88.1-KC-Toy-Drive-Cross-Social-Post-1x1-1.jpg
ORGANIZER;CN="Family Life Radio KANSAS MISSOURI":MAILTO:emeyer@flc.org
END:VEVENT
BEGIN:VEVENT
DTSTART;TZID=America/Phoenix:20250615T080000
DTEND;TZID=America/Phoenix:20250615T170000
DTSTAMP:20260421T171553
CREATED:20250506T235806Z
LAST-MODIFIED:20250506T235806Z
UID:10041074-1749974400-1750006800@myflr.org
SUMMARY:88.1 FM: Ultimate Baby Shower 2025 (Lawrence\, KS)
DESCRIPTION:???? Family Life Radio’s Ultimate Baby Shower 2025\nMay 11 – June 15\, 2025From Mother’s Day to Father’s Day\, YOU’RE INVITED to help celebrate life and support families in Lawrence\, Kansas! \nWe’re partnering with Insight Women’s Center to bless moms\, dads\, and babies in our community. Your gift—whether it’s an item\, your time\, or a prayer—can bring hope to a family who needs to know they’re not alone. \n???? How You Can Make a Difference:\nShop their Amazon Wish List \nDrop off baby items at local locations (see map below) \nVolunteer or pray for their staff and clients \n\nSmall gifts can lead to big hope. Let’s show families they are loved and supported! \n\n???? Insight Women’s Center Needs:\nNew strollers & car seats \nDiaper bags & Pack ‘n Plays \nBoppy pillows + covers \nBaby wipes & diapers (all infant sizes + sizes 3–4) \nPull-ups (sizes 2T–4T) \nToys (sorting\, stacking\, bath/swim) for ages 6–18 months \nBaby care items: Baby wash\, shampoo\, lotion\, diaper cream \n???? Drop-Off Location:\nInsight Women’s Center2310 Mesa WayLawrence\, KS 66049???? (785) 842-6499???? Mon–Wed 9am–5pm | Thurs 11am–7pm???? www.friendsofinsight.org \nOr find other Kansas drop-off sites here:???? Google Map – Kansas Drop Off Locations \n\nSponsored by Seven Weeks Coffee – coffee with a mission to protect every heartbeat. \n\nJoin Family Life Radio’s Ultimate Baby Shower and help Insight Women’s Center bring life-affirming hope to families across Kansas.
URL:https://myflr.org/event/88-1-fm-ultimate-baby-shower-2025-lawrence-ks/
CATEGORIES:Featured,Kansas,Missouri
ATTACH;FMTTYPE=image/png:https://eadn-wc05-15902914.nxedge.io/wp-content/uploads/2025/05/UBS-2025-Poster-11X17-INSIGHT-Updated.png
ORGANIZER;CN="Family Life Radio KANSAS MISSOURI":MAILTO:emeyer@flc.org
END:VEVENT
BEGIN:VEVENT
DTSTART;VALUE=DATE:20241208
DTEND;VALUE=DATE:20241209
DTSTAMP:20260421T171553
CREATED:20241106T014422Z
LAST-MODIFIED:20241106T014422Z
UID:10037413-1733616000-1733702399@myflr.org
SUMMARY:Family Life Radio’s TOY DRIVE 2024-Olathe\, KS
DESCRIPTION:FLR Toy Drive 2024 for Mission Southside\nFamily Life Radio Toy Drive 2024\nNov 4 – Dec 8\nFor kids 4-18 years old  in Olathe\, KS\nMission Southside non-profit ministry is in Olathe\, KS \nTheir Mission is Putting God’s Love into Action by Extending Help through Hope. “So we cared for you. Because we loved you so much\, we were delighted to share with you not only the gospel of God but our lives as well.“ 1 Thessalonians 2:8 NIV\nThis is Family Life Radio‘s TOY DRIVE 2024 non-profit benefiting these donations of Toys\, Socks\, gloves\, Beanies & scarves!\n\nDonate Unwrapped Toys In-Person: www.MyFLR.org/ToyDrive/\n\nShop from Your Phone via our AMAZON WISH LIST HERE!\n\n\n\nLet’s make a difference together this season for kids & love like Jesus\n\n\nFor some children\, the only gift they get this Christmas might be from you!\n\n\n\n\n\nLet’s make a difference together this season for kids & love like Jesus!\nTHANK YOU for helping us help kids and families Experience Hope this Christmas!
URL:https://myflr.org/event/family-life-radios-toy-drive-2024-olathe-ks/
LOCATION:Mission Southside KS\, 514 S Kansas Avenue\, Olathe\, KS\, 66061\, United States
CATEGORIES:Featured,Kansas,Missouri
ATTACH;FMTTYPE=image/jpeg:https://eadn-wc05-15902914.nxedge.io/wp-content/uploads/2024/11/88.1-KC-Toy-Drive-Mission-Social-Post-1x1-1.jpg
ORGANIZER;CN="Family Life Radio KANSAS MISSOURI":MAILTO:emeyer@flc.org
END:VEVENT
BEGIN:VEVENT
DTSTART;VALUE=DATE:20241208
DTEND;VALUE=DATE:20241209
DTSTAMP:20260421T171553
CREATED:20241106T013459Z
LAST-MODIFIED:20241106T013459Z
UID:10037412-1733616000-1733702399@myflr.org
SUMMARY:Family Life Radio’s TOY DRIVE 2024-Kansas City\, KS
DESCRIPTION:FLR Toy Drive 2024 for Carry the Cross Ministries & On Eagle’s Wings Farm\nFamily Life Radio Toy Drive 2024\nNov 4 – Dec 8\nFor kids 4-18 years old  in Kansas City\, KS\nCarry the Cross & On Eagles Wings Farm non-profit ministry is in Kansas City dedicated to helping children\, families\, and young adults overcome the trials and tribulations of life by meeting their physical\, spiritual\, and emotional needs. This is Family Life Radio‘s TOY DRIVE 2024 non-profit benefiting these donations of Toys\, Socks\, gloves\, Beanies & scarves!\n\nDonate Unwrapped Toys In-Person: www.MyFLR.org/ToyDrive/\n\nShop from Your Phone via our AMAZON WISH LIST HERE!\n\n\n\nLet’s make a difference together this season for kids & love like Jesus\n\n\nFor some children\, the only gift they get this Christmas might be from you!\n\n\n\n\n\nLet’s make a difference together this season for kids & love like Jesus!\nTHANK YOU for helping us help kids and families Experience Hope this Christmas!
URL:https://myflr.org/event/family-life-radios-toy-drive-2024-kansas-city-ks/
LOCATION:Carry the Cross Ministries\, 5517 Freeman Ave\, Kansas City\, KS\, 66102\, United States
CATEGORIES:Featured,Kansas,Missouri
ATTACH;FMTTYPE=image/jpeg:https://eadn-wc05-15902914.nxedge.io/wp-content/uploads/2024/11/88.1-KC-Toy-Drive-Cross-Social-Post-1x1-1.jpg
ORGANIZER;CN="Family Life Radio KANSAS MISSOURI":MAILTO:emeyer@flc.org
END:VEVENT
END:VCALENDAR