
BEGIN:VCALENDAR
VERSION:2.0
PRODID:-//Family Life Radio - ECPv6.15.20//NONSGML v1.0//EN
CALSCALE:GREGORIAN
METHOD:PUBLISH
X-ORIGINAL-URL:https://myflr.org
X-WR-CALDESC:Events for Family Life Radio
REFRESH-INTERVAL;VALUE=DURATION:PT1H
X-Robots-Tag:noindex
X-PUBLISHED-TTL:PT1H
BEGIN:VTIMEZONE
TZID:America/Phoenix
BEGIN:STANDARD
TZOFFSETFROM:-0700
TZOFFSETTO:-0700
TZNAME:MST
DTSTART:20230101T000000
END:STANDARD
END:VTIMEZONE
BEGIN:VEVENT
DTSTART;VALUE=DATE:20251208
DTEND;VALUE=DATE:20251209
DTSTAMP:20260421T135725
CREATED:20251113T235220Z
LAST-MODIFIED:20251113T235220Z
UID:10057313-1765152000-1765238399@myflr.org
SUMMARY:TOY DRIVE 2025 -(Christmas for Kids SW-WI)
DESCRIPTION:🎁 FLR Toy Drive 2025 – Southwest WisconsinBenefiting Christmas for Kids in Southwest WI\, Inc.NOW through December 8\, 2025 \nYou can help make Christmas brighter for local kids in Southwest Wisconsin! Donate a toy\, hat\, gloves\, or scarf\, or shop directly from any of the online wish lists below. \n🎄 Non-Profit Partner: Christmas for Kids in SW WI\, Inc.https://christmasforkids-southwestwi.org/ \n🛒 Wish Lists:• Walmart: https://bit.ly/47FJ8YD• Target: https://bit.ly/48dOz0Q• Amazon: https://bit.ly/43CDPXh \n📍 All Drop-Off Locations Map:https://maps.app.goo.gl/keqCWxdNcdmxTWRY9 \n\n📍 Drop-Off Locations\nPlatteville\, WI\nLutheran Church of Peace1345 N Water St\, Platteville\, WI 53818(608) 348-3166Hours:• Thu 8 AM–3 PM• Sat 5:30–7:30 PM• Sun 8:30 AM–12 PM• Tue 8 AM–3 PM• Wed 8 AM–3 PM(Closed Mon & Fri) \nPlatteville 24/7 Drop-Off380 E Madison StPlatteville\, WI 53818(608) 331-0871Hours: Open 24/7 \n\nMineral Point\, WI\nCedar Rock Church1200 Betty Ln\, Mineral Point\, WI 53565(608) 987-2777https://cedar-rock.org/Hours: Open 24/7 \n\nLancaster\, WI\nLancaster 24/7 Drop-Off120 S Madison StLancaster\, WI 53813(608) 723-2687Hours: Open 24/7 \n\nCedar Rock Church – Additional Hours (General)\n(Use for people checking standard building hours)Hours:• Thu 9 AM–4 PM• Fri 9 AM–12 PM• Sun 8:30 AM–12 PM• Tue 9 AM–4 PM & 6:30–8:30 PM• Wed 9 AM–4 PM(Closed Sat & Mon)
URL:https://myflr.org/event/toy-drive-2025-christmas-for-kids-sw-wi/
LOCATION:Christmas for Kids Southwest-WI
CATEGORIES:Featured,Iowa,Wisconsin
ATTACH;FMTTYPE=image/jpeg:https://eadn-wc05-15902914.nxedge.io/wp-content/uploads/2025/11/88.1-WI-Toy-Drive-Social-Post-1x1-Copy.jpg
END:VEVENT
BEGIN:VEVENT
DTSTART;TZID=America/Phoenix:20250615T080000
DTEND;TZID=America/Phoenix:20250615T170000
DTSTAMP:20260421T135725
CREATED:20250507T000637Z
LAST-MODIFIED:20250507T000637Z
UID:10041076-1749974400-1750006800@myflr.org
SUMMARY:88.1 FM: Ultimate Baby Shower 2025 (Platteville\, WI)
DESCRIPTION:???? Family Life Radio’s Ultimate Baby Shower 2025\nMay 11 – June 15\, 2025From Mother’s Day to Father’s Day\, YOU’RE INVITED to be part of something life-changing in Southwest Wisconsin! \nWe’re partnering with Clarity Clinic of SW Wisconsin to support local moms and babies in need. Whether you donate supplies\, volunteer your time\, or pray for these families—you are making a difference. \n???? How You Can Make a Difference:\nDonate essential baby items \nDrop off donations at a local site (see map below) \nLift up Clarity Clinic in prayer as they serve women and families in your community \n\nEvery item you give is a message of hope to a mom choosing life. \n\n???? Clarity Clinic of SW Wisconsin Needs:\nDiapers (all sizes) \nBaby wipes \nBouncy seats \n???? Drop-Off Location:\nClarity Clinic of SW Wisconsin165 S Water StPlatteville\, WI 53818???? (608) 348-5787???? Mon\, Tue & Fri: 9am – 4pm???? claritywi.com???? Find them on Facebook \nOr find a convenient Wisconsin drop-off site near you:???? SW Wisconsin Drop-Off Map \n\nSponsored by Seven Weeks Coffee – coffee that supports life-affirming pregnancy centers like Clarity Clinic. \n\nLet’s celebrate life together through Family Life Radio’s Ultimate Baby Shower—and bless families throughout Southwest Wisconsin!
URL:https://myflr.org/event/88-1-fm-ultimate-baby-shower-2025-platteville-wi/
CATEGORIES:Featured,Iowa,Wisconsin
ATTACH;FMTTYPE=image/png:https://eadn-wc05-15902914.nxedge.io/wp-content/uploads/2025/05/UBS-2025-Poster-11X17-CLARITY-CLINIC.png
END:VEVENT
BEGIN:VEVENT
DTSTART;VALUE=DATE:20241208
DTEND;VALUE=DATE:20241209
DTSTAMP:20260421T135725
CREATED:20241106T015610Z
LAST-MODIFIED:20241106T015610Z
UID:10037414-1733616000-1733702399@myflr.org
SUMMARY:Family Life Radio’s TOY DRIVE-Wisconsin
DESCRIPTION:FLR Toy Drive 2024 for Christmas for Kids in Southwest-WI\, Inc.\nFamily Life Radio Toy Drive 2024\nNov 4 – Dec 8\nFor kids 4-18 years old  in Lubbock\, TX\n\nChristmas for Kids-Southwest WI  is Family Life Radio’s non-profit of choice as the Wisconsin recipient of toy donations for a second year. Your donation will help us in our effort to bring joy to hundreds of children in Southwest WI this holiday season!\nChristmas for kids Southwest- WI is a nonprofit charity organization that helps struggling families in need provide Christmas for their children. For residents residing in Grant\, Crawford\, Lafayette\, & Iowa Counties WI.\n\nDonate Unwrapped Toys In-Person: www.MyFLR.org/ToyDrive/\n\nShop from Your Phone via our AMAZON WISH LIST HERE!\n\n\n\nLet’s make a difference together this season for kids & love like Jesus\n\n\nFor some children\, the only gift they get this Christmas might be from you!\n\n\n\n\n\nLet’s make a difference together this season for kids & love like Jesus!\nTHANK YOU for helping us help kids and families Experience Hope this Christmas!
URL:https://myflr.org/event/family-life-radios-toy-drive-wisconsin/
LOCATION:Christmas for Kids Southwest-WI
CATEGORIES:Featured,Iowa,Wisconsin
ATTACH;FMTTYPE=image/jpeg:https://eadn-wc05-15902914.nxedge.io/wp-content/uploads/2024/11/88.1-WI-Toy-Drive-Social-Post-1x1-1.jpg
END:VEVENT
END:VCALENDAR