
BEGIN:VCALENDAR
VERSION:2.0
PRODID:-//Family Life Radio - ECPv6.15.20//NONSGML v1.0//EN
CALSCALE:GREGORIAN
METHOD:PUBLISH
X-ORIGINAL-URL:https://myflr.org
X-WR-CALDESC:Events for Family Life Radio
REFRESH-INTERVAL;VALUE=DURATION:PT1H
X-Robots-Tag:noindex
X-PUBLISHED-TTL:PT1H
BEGIN:VTIMEZONE
TZID:America/Detroit
BEGIN:DAYLIGHT
TZOFFSETFROM:-0500
TZOFFSETTO:-0400
TZNAME:EDT
DTSTART:20230312T070000
END:DAYLIGHT
BEGIN:STANDARD
TZOFFSETFROM:-0400
TZOFFSETTO:-0500
TZNAME:EST
DTSTART:20231105T060000
END:STANDARD
BEGIN:DAYLIGHT
TZOFFSETFROM:-0500
TZOFFSETTO:-0400
TZNAME:EDT
DTSTART:20240310T070000
END:DAYLIGHT
BEGIN:STANDARD
TZOFFSETFROM:-0400
TZOFFSETTO:-0500
TZNAME:EST
DTSTART:20241103T060000
END:STANDARD
BEGIN:DAYLIGHT
TZOFFSETFROM:-0500
TZOFFSETTO:-0400
TZNAME:EDT
DTSTART:20250309T070000
END:DAYLIGHT
BEGIN:STANDARD
TZOFFSETFROM:-0400
TZOFFSETTO:-0500
TZNAME:EST
DTSTART:20251102T060000
END:STANDARD
BEGIN:DAYLIGHT
TZOFFSETFROM:-0500
TZOFFSETTO:-0400
TZNAME:EDT
DTSTART:20260308T070000
END:DAYLIGHT
BEGIN:STANDARD
TZOFFSETFROM:-0400
TZOFFSETTO:-0500
TZNAME:EST
DTSTART:20261101T060000
END:STANDARD
BEGIN:DAYLIGHT
TZOFFSETFROM:-0500
TZOFFSETTO:-0400
TZNAME:EDT
DTSTART:20270314T070000
END:DAYLIGHT
BEGIN:STANDARD
TZOFFSETFROM:-0400
TZOFFSETTO:-0500
TZNAME:EST
DTSTART:20271107T060000
END:STANDARD
END:VTIMEZONE
BEGIN:VTIMEZONE
TZID:America/Phoenix
BEGIN:STANDARD
TZOFFSETFROM:-0700
TZOFFSETTO:-0700
TZNAME:MST
DTSTART:20230101T000000
END:STANDARD
END:VTIMEZONE
BEGIN:VEVENT
DTSTART;TZID=America/Detroit:20260329T190000
DTEND;TZID=America/Detroit:20260329T210000
DTSTAMP:20260421T073521
CREATED:20260223T162202Z
LAST-MODIFIED:20260223T162202Z
UID:10059076-1774810800-1774818000@myflr.org
SUMMARY:Before the Throne of Grace Musical - Sterling Heights
DESCRIPTION:Before the Throne of Grace is a moving musical that brings the story of Jesus to life through the eyes of one of His closest followers — Peter. \nThrough powerful music\, honest storytelling\, and moments both tender and triumphant\, this production captures the humanity of those who walked with Jesus and the life-changing grace they encountered. \nThis is more than a retelling of familiar events — it’s a story about us. About doubt and faith. Fear and courage. Falling and being lifted again. Peter’s journey reminds us that no failure is final when brought before the throne of grace.\nEach ticket costs $10. The best part? A significant portion of the proceeds from each ticket will go to sponsorships that provide education\, tutoring\, and essential supplies to children in the slums of India. \nGet Your Tickets: https://events.ticketleap.com/tickets/fellowshipchapel/before-the-throne-of-grace-musical-production-1689332034 \nJoin us for an unforgettable show full of music\, drama\, and hope as we witness the love of Christ and the grace that changes everything.
URL:https://myflr.org/event/before-the-throne-of-grace-musical-sterling-heights/2026-03-29/
LOCATION:Fellowship Chapel (Sterling Heights\, MI)\, 12875 E 14 Mile Rd\, Sterling Heights\, MI\, 48312\, United States
CATEGORIES:Michigan
ATTACH;FMTTYPE=image/jpeg:https://eadn-wc05-15902914.nxedge.io/wp-content/uploads/2026/02/Easter-Musical-Before-the-Throne-10.jpg
ORGANIZER;CN="Fellowship Chapel":MAILTO:info@fellowshipchapel.net
END:VEVENT
BEGIN:VEVENT
DTSTART;TZID=America/Detroit:20260321T100000
DTEND;TZID=America/Detroit:20260321T120000
DTSTAMP:20260421T073522
CREATED:20260226T140303Z
LAST-MODIFIED:20260226T140303Z
UID:10059062-1774087200-1774094400@myflr.org
SUMMARY:Egg Hunt - Sterling Heights
DESCRIPTION:Get ready for a morning full of springtime fun! \nJoin us on March 21st from 10a–12p for an exciting Egg Hunt packed with eggs filled with candy and toys—plus a few special golden eggs that can be traded in for awesome prizes! \nKids will love meeting and petting our live bunnies\, getting creative with crafts\, and bouncing off their energy in the bounce house while we enjoy the outdoors together. \nFamilies can warm up with coffee\, hot cocoa\, and donuts\, and don’t forget to stop by the photo booth to snap a picture with your family and friends. The Easter Bunny will also be around to say hello to and grab a photo with! \nTo help make the hunt extra fun\, egg hunts will take place in age groups at the following times:\n10:30–10:40a — Preschool (3-5yrs)\n10:50–11:00a — Kindergarten–1st Grade\n11:10–11:20a — 2nd–3rd Grade\n11:30–11:40a — 4th–5th Grade \nRegistration is FREE but required. You can pre-register here so you don’t miss out on the fun: https://fellowshipchapel.churchcenter.com/registrations/events/3466530 \nWe can’t wait to celebrate easter with you—bring a basket or bag and get ready to hunt!
URL:https://myflr.org/event/egg-hunt-sterling-heights-2/
LOCATION:Fellowship Chapel (Sterling Heights\, MI)\, 12875 E 14 Mile Rd\, Sterling Heights\, MI\, 48312\, United States
CATEGORIES:Michigan
ATTACH;FMTTYPE=image/jpeg:https://eadn-wc05-15902914.nxedge.io/wp-content/uploads/2026/02/Egg-Hunt202616-9.jpg
ORGANIZER;CN="Fellowship Chapel":MAILTO:info@fellowshipchapel.net
END:VEVENT
BEGIN:VEVENT
DTSTART;TZID=America/Detroit:20250824T120000
DTEND;TZID=America/Detroit:20250824T140000
DTSTAMP:20260421T073522
CREATED:20250617T172420Z
LAST-MODIFIED:20250617T172420Z
UID:10046217-1756036800-1756044000@myflr.org
SUMMARY:Community Block Party - Sterling Heights
DESCRIPTION:???? Looking for something fun and totally free this summer? Join us at Fellowship Chapel in Sterling Heights for our Community Block Parties on July 20th and August 24th! Bring the whole family for free food\, games\, a bounce house\, and loads of summer fun. It’s all happening right here at Fellowship Chapel — we can’t wait to see you there! ☀️????
URL:https://myflr.org/event/community-block-party-sterling-heights-2/2025-08-24/
LOCATION:Fellowship Chapel (Sterling Heights\, MI)\, 12875 E 14 Mile Rd\, Sterling Heights\, MI\, 48312\, United States
CATEGORIES:Michigan
ATTACH;FMTTYPE=image/jpeg:https://eadn-wc05-15902914.nxedge.io/wp-content/uploads/2025/06/CommunityBlockParty16-9-1.jpg
ORGANIZER;CN="Fellowship Chapel":MAILTO:info@fellowshipchapel.net
END:VEVENT
BEGIN:VEVENT
DTSTART;TZID=America/Detroit:20250412T100000
DTEND;TZID=America/Detroit:20250412T120000
DTSTAMP:20260421T073522
CREATED:20250219T170255Z
LAST-MODIFIED:20250219T170255Z
UID:10039903-1744452000-1744459200@myflr.org
SUMMARY:Egg Hunt – Sterling Heights
DESCRIPTION:You’re invited to Fellowship Chapel’s Egg Hunt happening Saturday\, April 12th\, from 10a-12p! This event will feature egg hunts for Preschool through 5th graders and the chance to win tons of different prizes. We’ll have free coffee\, donuts\, and hot chocolate\, crafts\, and pictures with the Easter Bunny! Bring the whole family for a special Easter celebration together.
URL:https://myflr.org/event/egg-hunt-sterling-heights/
LOCATION:Fellowship Chapel (Sterling Heights\, MI)\, 12875 E 14 Mile Rd\, Sterling Heights\, MI\, 48312\, United States
CATEGORIES:Michigan
ATTACH;FMTTYPE=image/jpeg:https://eadn-wc05-15902914.nxedge.io/wp-content/uploads/2025/02/Egg-Hunt16-9-1.jpg
ORGANIZER;CN="Fellowship Chapel":MAILTO:info@fellowshipchapel.net
END:VEVENT
BEGIN:VEVENT
DTSTART;TZID=America/Phoenix:20241030T180000
DTEND;TZID=America/Phoenix:20241030T200000
DTSTAMP:20260421T073522
CREATED:20240904T221313Z
LAST-MODIFIED:20240904T221313Z
UID:10033836-1730311200-1730318400@myflr.org
SUMMARY:Trunk-or-Treat
DESCRIPTION:Get ready for a spook-tacular night of family fun! It’s time for our annual Trunk-or-Treat event happening on October 30th from 6 to 8 PM! \nBring your little goblins\, princesses\, and superheroes for a night filled with cider\, donuts\, and everyone’s favorite—the cakewalk! \nBut that’s not all! Enjoy hayrides\, games\, and other fall-themed activities. And the best part? It’s all FREE! \nJoin us for a safe\, fun\, and festive evening that the whole family will love! Don’t miss out—mark your calendar for October 30th from 6 to 8 PM at Fellowship Chapel in Sterling Heights\, MI!
URL:https://myflr.org/event/trunk-or-treat-4/
LOCATION:Fellowship Chapel (Sterling Heights\, MI)\, 12875 E 14 Mile Rd\, Sterling Heights\, MI\, 48312\, United States
CATEGORIES:Michigan
ATTACH;FMTTYPE=image/jpeg:https://eadn-wc05-15902914.nxedge.io/wp-content/uploads/2024/09/Trunk-or-Treat16-9-3.jpg
ORGANIZER;CN="Fellowship Chapel":MAILTO:info@fellowshipchapel.net
END:VEVENT
BEGIN:VEVENT
DTSTART;TZID=America/Detroit:20240825T120000
DTEND;TZID=America/Detroit:20240825T143000
DTSTAMP:20260421T073522
CREATED:20240805T151659Z
LAST-MODIFIED:20240805T151659Z
UID:10031861-1724587200-1724596200@myflr.org
SUMMARY:Community Block Party – Sterling Heights
DESCRIPTION:All are invited to our community Block Party at Fellowship Chapel! The theme is Take Me Out to the Ball Game and there will be all sorts of fun things to do including an obstacle course bounce house\, games\, food\, and some baseball related activities! Plus all of it is FREE!! Come check it out on August 25th at noon.
URL:https://myflr.org/event/community-block-party-sterling-heights/
LOCATION:Fellowship Chapel (Sterling Heights\, MI)\, 12875 E 14 Mile Rd\, Sterling Heights\, MI\, 48312\, United States
CATEGORIES:Michigan
ATTACH;FMTTYPE=image/jpeg:https://eadn-wc05-15902914.nxedge.io/wp-content/uploads/2024/08/CommunityBlockParty16-9-7.jpg
ORGANIZER;CN="Fellowship Chapel":MAILTO:info@fellowshipchapel.net
END:VEVENT
END:VCALENDAR